BEGIN:VCALENDAR
VERSION:2.0
PRODID:-//Disability Network Washtenaw Monroe Livingston - ECPv6.15.20//NONSGML v1.0//EN
CALSCALE:GREGORIAN
METHOD:PUBLISH
X-WR-CALNAME:Disability Network Washtenaw Monroe Livingston
X-ORIGINAL-URL:https://dnwml.org
X-WR-CALDESC:Events for Disability Network Washtenaw Monroe Livingston
REFRESH-INTERVAL;VALUE=DURATION:PT1H
X-Robots-Tag:noindex
X-PUBLISHED-TTL:PT1H
BEGIN:VTIMEZONE
TZID:America/Detroit
BEGIN:DAYLIGHT
TZOFFSETFROM:-0500
TZOFFSETTO:-0400
TZNAME:EDT
DTSTART:20220313T070000
END:DAYLIGHT
BEGIN:STANDARD
TZOFFSETFROM:-0400
TZOFFSETTO:-0500
TZNAME:EST
DTSTART:20221106T060000
END:STANDARD
BEGIN:DAYLIGHT
TZOFFSETFROM:-0500
TZOFFSETTO:-0400
TZNAME:EDT
DTSTART:20230312T070000
END:DAYLIGHT
BEGIN:STANDARD
TZOFFSETFROM:-0400
TZOFFSETTO:-0500
TZNAME:EST
DTSTART:20231105T060000
END:STANDARD
BEGIN:DAYLIGHT
TZOFFSETFROM:-0500
TZOFFSETTO:-0400
TZNAME:EDT
DTSTART:20240310T070000
END:DAYLIGHT
BEGIN:STANDARD
TZOFFSETFROM:-0400
TZOFFSETTO:-0500
TZNAME:EST
DTSTART:20241103T060000
END:STANDARD
END:VTIMEZONE
BEGIN:VEVENT
DTSTART;TZID=America/Detroit:20230914T130000
DTEND;TZID=America/Detroit:20230914T140000
DTSTAMP:20260420T034841
CREATED:20230503T193656Z
LAST-MODIFIED:20230531T142941Z
UID:10001445-1694696400-1694700000@dnwml.org
SUMMARY:Delishability Cooking Class
DESCRIPTION:All ages and abilities. This particular cooking class will focus on developing a variety of cooking skills and applying them to specific recipes. Classes will take place at our Ann Arbor location. \nRegister by June 15th \nClass fee: $5.00 per session to cover supplies \n\n7/13\n7/20\n7/27\n8/3\n8/10\n8/17\n8/24\n9/7\n9/14\n9/21
URL:https://dnwml.org/event/delishability-cooking-class/2023-09-14/
LOCATION:Washtenaw/Ann Arbor DNWML\, 3941 Research Park Dr\, Ann Arbor\, 48108\, United States
CATEGORIES:General Support,Independent Living Skills,Information & Resources
ORGANIZER;CN="Krystina Johnson":MAILTO:krystina@dnwml.org
END:VEVENT
END:VCALENDAR