BEGIN:VCALENDAR
VERSION:2.0
PRODID:-//Disability Network Washtenaw Monroe Livingston - ECPv6.15.20//NONSGML v1.0//EN
CALSCALE:GREGORIAN
METHOD:PUBLISH
X-ORIGINAL-URL:https://dnwml.org
X-WR-CALDESC:Events for Disability Network Washtenaw Monroe Livingston
REFRESH-INTERVAL;VALUE=DURATION:PT1H
X-Robots-Tag:noindex
X-PUBLISHED-TTL:PT1H
BEGIN:VTIMEZONE
TZID:America/Detroit
BEGIN:DAYLIGHT
TZOFFSETFROM:-0500
TZOFFSETTO:-0400
TZNAME:EDT
DTSTART:20220313T070000
END:DAYLIGHT
BEGIN:STANDARD
TZOFFSETFROM:-0400
TZOFFSETTO:-0500
TZNAME:EST
DTSTART:20221106T060000
END:STANDARD
BEGIN:DAYLIGHT
TZOFFSETFROM:-0500
TZOFFSETTO:-0400
TZNAME:EDT
DTSTART:20230312T070000
END:DAYLIGHT
BEGIN:STANDARD
TZOFFSETFROM:-0400
TZOFFSETTO:-0500
TZNAME:EST
DTSTART:20231105T060000
END:STANDARD
BEGIN:DAYLIGHT
TZOFFSETFROM:-0500
TZOFFSETTO:-0400
TZNAME:EDT
DTSTART:20240310T070000
END:DAYLIGHT
BEGIN:STANDARD
TZOFFSETFROM:-0400
TZOFFSETTO:-0500
TZNAME:EST
DTSTART:20241103T060000
END:STANDARD
END:VTIMEZONE
BEGIN:VEVENT
DTSTART;TZID=America/Detroit:20230928T160000
DTEND;TZID=America/Detroit:20230928T170000
DTSTAMP:20260424T115326
CREATED:20230922T170117Z
LAST-MODIFIED:20230922T170118Z
UID:10000841-1695916800-1695920400@dnwml.org
SUMMARY:Virtual Movie Club
DESCRIPTION:Virtual Movie Club\nWatch a movie\, then chat with folks! Beat the stay-home blues and join the virtual movie club! How does it work? Each week\, watch a planned movie on your own time\, and then we get together virtually to talk about it and have some fun! It’s that easy! Movie club sessions include trivia\, thought-provoking questions\, and laughter. \nNew starting in 2023: Movie Club After Dark! We heard from our participants a request for more variety in our movie selections. Movie Club will continue to have family-friendly movies\, and our designated “Movie Club After Dark” sessions will include a wider variety of movie genres that appeal to young adult and adult participants. \nVirtual Movie Club meets Thursdays from 4:00-5:00 pm.
URL:https://dnwml.org/event/virtual-movie-club-2-2/
LOCATION:Zoom\, Virtual
CATEGORIES:Arts & Recreation,Entertainment
ORGANIZER;CN="Anna Dusbiber":MAILTO:anna@dnwml.org
END:VEVENT
END:VCALENDAR