BEGIN:VCALENDAR
VERSION:2.0
PRODID:-//Disability Network Washtenaw Monroe Livingston - ECPv6.15.20//NONSGML v1.0//EN
CALSCALE:GREGORIAN
METHOD:PUBLISH
X-WR-CALNAME:Disability Network Washtenaw Monroe Livingston
X-ORIGINAL-URL:https://dnwml.org
X-WR-CALDESC:Events for Disability Network Washtenaw Monroe Livingston
REFRESH-INTERVAL;VALUE=DURATION:PT1H
X-Robots-Tag:noindex
X-PUBLISHED-TTL:PT1H
BEGIN:VTIMEZONE
TZID:America/Detroit
BEGIN:DAYLIGHT
TZOFFSETFROM:-0500
TZOFFSETTO:-0400
TZNAME:EDT
DTSTART:20220313T070000
END:DAYLIGHT
BEGIN:STANDARD
TZOFFSETFROM:-0400
TZOFFSETTO:-0500
TZNAME:EST
DTSTART:20221106T060000
END:STANDARD
BEGIN:DAYLIGHT
TZOFFSETFROM:-0500
TZOFFSETTO:-0400
TZNAME:EDT
DTSTART:20230312T070000
END:DAYLIGHT
BEGIN:STANDARD
TZOFFSETFROM:-0400
TZOFFSETTO:-0500
TZNAME:EST
DTSTART:20231105T060000
END:STANDARD
BEGIN:DAYLIGHT
TZOFFSETFROM:-0500
TZOFFSETTO:-0400
TZNAME:EDT
DTSTART:20240310T070000
END:DAYLIGHT
BEGIN:STANDARD
TZOFFSETFROM:-0400
TZOFFSETTO:-0500
TZNAME:EST
DTSTART:20241103T060000
END:STANDARD
END:VTIMEZONE
BEGIN:VEVENT
DTSTART;TZID=America/Detroit:20231004T100000
DTEND;TZID=America/Detroit:20231004T120000
DTSTAMP:20260419T163942
CREATED:20230811T143935Z
LAST-MODIFIED:20231206T150805Z
UID:10001746-1696413600-1696420800@dnwml.org
SUMMARY:In-person Art Class: Open Studio
DESCRIPTION:In-person Art Class\nMake art and learn about artists and new techniques in a relaxed social environment. Rotating through different media\, we explore materials and techniques in a guided manner. No previous experience is necessary. Materials provided. \nTo receive weekly Art Programming email updates\, contact Claire.
URL:https://dnwml.org/event/in-person-art-class-open-studio-4/2023-10-04/
LOCATION:Washtenaw/Ann Arbor DNWML\, 3941 Research Park Dr\, Ann Arbor\, 48108\, United States
CATEGORIES:Art,Arts & Recreation
ORGANIZER;CN="Claire Moore":MAILTO:claire@dnwml.org
END:VEVENT
BEGIN:VEVENT
DTSTART;TZID=America/Detroit:20231004T113000
DTEND;TZID=America/Detroit:20231004T153000
DTSTAMP:20260419T163942
CREATED:20230503T190621Z
LAST-MODIFIED:20231130T185155Z
UID:10002080-1696419000-1696433400@dnwml.org
SUMMARY:Monroe: Drop-in Computer Lab Hours
DESCRIPTION:Drop-in access\, support\, and/or help at the Monroe Office.
URL:https://dnwml.org/event/drop-in-computer-lab-hours/2023-10-04/
LOCATION:Monroe DNWML\, 1070 S. Telegraph Rd.\, Monroe\, MI\, 48161\, United States
CATEGORIES:General Support,Information & Resources
ORGANIZER;CN="Josh Nocella":MAILTO:josh@dnwml.org
END:VEVENT
BEGIN:VEVENT
DTSTART;TZID=America/Detroit:20231004T114500
DTEND;TZID=America/Detroit:20231004T123000
DTSTAMP:20260419T163942
CREATED:20230922T164946Z
LAST-MODIFIED:20230922T164958Z
UID:10001847-1696419900-1696422600@dnwml.org
SUMMARY:Tech Teach-Out
DESCRIPTION:Tech Teach-Outs \nAre you feeling lost in the\nWorld Wide Web?\nNeed to brush up on today’s most important technology skills? \nOur 21st Century Assistive Technology Program presents Tech Teach-Outs: a beginner-friendly space designed to prepare all learners to use the latest technology with confidence! Seniors and people with disabilities are encouraged to attend. \nWe’ll be going over topics like… \n\nSmartphone and tablet basics\nUnderstanding telehealth\nStaying safe on the internet\n…and more!\n\nSCHEDULE \n\nThe PWD/Senior’s Guide to the Internet\nFriday\, September 22\n1:00 – 3:00pm\nDisability Network Ann Arbor/Washtenaw Office\nTechnology Based Scam Prevention\nTuesday\, October 4\n11:45am – 12:30pm\nMonroe County Opportunity Program\nAndroid Tablet and Smartphone Basics\nFriday\, October 20\n1:00pm – 3:00pm\nDisability Network Ann Arbor/Washtenaw Office
URL:https://dnwml.org/event/7059/2023-10-04/
LOCATION:Washtenaw/Ann Arbor DNWML\, 3941 Research Park Dr\, Ann Arbor\, 48108\, United States
CATEGORIES:Career Services,General Support,Independent Living Skills,Information & Resources
ORGANIZER;CN="Eliot Carter":MAILTO:eliot@dnwml.org
END:VEVENT
END:VCALENDAR