BEGIN:VCALENDAR
VERSION:2.0
PRODID:-//Disability Network Washtenaw Monroe Livingston - ECPv6.15.20//NONSGML v1.0//EN
CALSCALE:GREGORIAN
METHOD:PUBLISH
X-WR-CALNAME:Disability Network Washtenaw Monroe Livingston
X-ORIGINAL-URL:https://dnwml.org
X-WR-CALDESC:Events for Disability Network Washtenaw Monroe Livingston
REFRESH-INTERVAL;VALUE=DURATION:PT1H
X-Robots-Tag:noindex
X-PUBLISHED-TTL:PT1H
BEGIN:VTIMEZONE
TZID:America/Detroit
BEGIN:DAYLIGHT
TZOFFSETFROM:-0500
TZOFFSETTO:-0400
TZNAME:EDT
DTSTART:20220313T070000
END:DAYLIGHT
BEGIN:STANDARD
TZOFFSETFROM:-0400
TZOFFSETTO:-0500
TZNAME:EST
DTSTART:20221106T060000
END:STANDARD
BEGIN:DAYLIGHT
TZOFFSETFROM:-0500
TZOFFSETTO:-0400
TZNAME:EDT
DTSTART:20230312T070000
END:DAYLIGHT
BEGIN:STANDARD
TZOFFSETFROM:-0400
TZOFFSETTO:-0500
TZNAME:EST
DTSTART:20231105T060000
END:STANDARD
BEGIN:DAYLIGHT
TZOFFSETFROM:-0500
TZOFFSETTO:-0400
TZNAME:EDT
DTSTART:20240310T070000
END:DAYLIGHT
BEGIN:STANDARD
TZOFFSETFROM:-0400
TZOFFSETTO:-0500
TZNAME:EST
DTSTART:20241103T060000
END:STANDARD
END:VTIMEZONE
BEGIN:VEVENT
DTSTART;TZID=America/Detroit:20231020T130000
DTEND;TZID=America/Detroit:20231020T150000
DTSTAMP:20260419T142942
CREATED:20230922T164946Z
LAST-MODIFIED:20230922T164958Z
UID:10001848-1697806800-1697814000@dnwml.org
SUMMARY:Tech Teach-Out
DESCRIPTION:Tech Teach-Outs \nAre you feeling lost in the\nWorld Wide Web?\nNeed to brush up on today’s most important technology skills? \nOur 21st Century Assistive Technology Program presents Tech Teach-Outs: a beginner-friendly space designed to prepare all learners to use the latest technology with confidence! Seniors and people with disabilities are encouraged to attend. \nWe’ll be going over topics like… \n\nSmartphone and tablet basics\nUnderstanding telehealth\nStaying safe on the internet\n…and more!\n\nSCHEDULE \n\nThe PWD/Senior’s Guide to the Internet\nFriday\, September 22\n1:00 – 3:00pm\nDisability Network Ann Arbor/Washtenaw Office\nTechnology Based Scam Prevention\nTuesday\, October 4\n11:45am – 12:30pm\nMonroe County Opportunity Program\nAndroid Tablet and Smartphone Basics\nFriday\, October 20\n1:00pm – 3:00pm\nDisability Network Ann Arbor/Washtenaw Office
URL:https://dnwml.org/event/7059/2023-10-20/
LOCATION:Washtenaw/Ann Arbor DNWML\, 3941 Research Park Dr\, Ann Arbor\, 48108\, United States
CATEGORIES:Career Services,General Support,Independent Living Skills,Information & Resources
ORGANIZER;CN="Eliot Carter":MAILTO:eliot@dnwml.org
END:VEVENT
END:VCALENDAR