BEGIN:VCALENDAR
VERSION:2.0
PRODID:-//Disability Network Washtenaw Monroe Livingston - ECPv6.15.20//NONSGML v1.0//EN
CALSCALE:GREGORIAN
METHOD:PUBLISH
X-ORIGINAL-URL:https://dnwml.org
X-WR-CALDESC:Events for Disability Network Washtenaw Monroe Livingston
REFRESH-INTERVAL;VALUE=DURATION:PT1H
X-Robots-Tag:noindex
X-PUBLISHED-TTL:PT1H
BEGIN:VTIMEZONE
TZID:America/Detroit
BEGIN:DAYLIGHT
TZOFFSETFROM:-0500
TZOFFSETTO:-0400
TZNAME:EDT
DTSTART:20220313T070000
END:DAYLIGHT
BEGIN:STANDARD
TZOFFSETFROM:-0400
TZOFFSETTO:-0500
TZNAME:EST
DTSTART:20221106T060000
END:STANDARD
BEGIN:DAYLIGHT
TZOFFSETFROM:-0500
TZOFFSETTO:-0400
TZNAME:EDT
DTSTART:20230312T070000
END:DAYLIGHT
BEGIN:STANDARD
TZOFFSETFROM:-0400
TZOFFSETTO:-0500
TZNAME:EST
DTSTART:20231105T060000
END:STANDARD
BEGIN:DAYLIGHT
TZOFFSETFROM:-0500
TZOFFSETTO:-0400
TZNAME:EDT
DTSTART:20240310T070000
END:DAYLIGHT
BEGIN:STANDARD
TZOFFSETFROM:-0400
TZOFFSETTO:-0500
TZNAME:EST
DTSTART:20241103T060000
END:STANDARD
END:VTIMEZONE
BEGIN:VEVENT
DTSTART;TZID=America/Detroit:20231027T120000
DTEND;TZID=America/Detroit:20231027T150000
DTSTAMP:20260420T002233
CREATED:20230310T135906Z
LAST-MODIFIED:20230922T170652Z
UID:10001870-1698408000-1698418800@dnwml.org
SUMMARY:Tech Desk
DESCRIPTION:Tech Desk\n\nWe know technology can be frustrating\, but you don’t need to learn it all by yourself! If you have questions about your portable devices\, bring them to our Ann Arbor office during our Tech Desk Open Hours!\n\nWe will be available every other Friday from 12:00 noon to 3:00 pm\, no appointment needed.\n\nSome examples of services we can provide:\n\nMake it easier to find the sites and programs you use frequently\nInvestigate the source of “pop-ups” and other computer annoyances\nFind the accessibility settings you need to read\, type\, and navigate your laptop\, Chromebook\, smartphone\, or tablet\n\n\nSCHEDULE\nEvery other Friday\n12:00 – 3:00pm\n\nSeptember 29
URL:https://dnwml.org/event/technology-assistance-session/2023-10-27/
LOCATION:Washtenaw/Ann Arbor DNWML\, 3941 Research Park Dr\, Ann Arbor\, 48108\, United States
CATEGORIES:General Support,Information & Resources
ORGANIZER;CN="Eliot Carter":MAILTO:eliot@dnwml.org
END:VEVENT
END:VCALENDAR