BEGIN:VCALENDAR
VERSION:2.0
PRODID:-//Disability Network Washtenaw Monroe Livingston - ECPv6.15.20//NONSGML v1.0//EN
CALSCALE:GREGORIAN
METHOD:PUBLISH
X-WR-CALNAME:Disability Network Washtenaw Monroe Livingston
X-ORIGINAL-URL:https://dnwml.org
X-WR-CALDESC:Events for Disability Network Washtenaw Monroe Livingston
REFRESH-INTERVAL;VALUE=DURATION:PT1H
X-Robots-Tag:noindex
X-PUBLISHED-TTL:PT1H
BEGIN:VTIMEZONE
TZID:America/Detroit
BEGIN:DAYLIGHT
TZOFFSETFROM:-0500
TZOFFSETTO:-0400
TZNAME:EDT
DTSTART:20230312T070000
END:DAYLIGHT
BEGIN:STANDARD
TZOFFSETFROM:-0400
TZOFFSETTO:-0500
TZNAME:EST
DTSTART:20231105T060000
END:STANDARD
BEGIN:DAYLIGHT
TZOFFSETFROM:-0500
TZOFFSETTO:-0400
TZNAME:EDT
DTSTART:20240310T070000
END:DAYLIGHT
BEGIN:STANDARD
TZOFFSETFROM:-0400
TZOFFSETTO:-0500
TZNAME:EST
DTSTART:20241103T060000
END:STANDARD
BEGIN:DAYLIGHT
TZOFFSETFROM:-0500
TZOFFSETTO:-0400
TZNAME:EDT
DTSTART:20250309T070000
END:DAYLIGHT
BEGIN:STANDARD
TZOFFSETFROM:-0400
TZOFFSETTO:-0500
TZNAME:EST
DTSTART:20251102T060000
END:STANDARD
END:VTIMEZONE
BEGIN:VEVENT
DTSTART;TZID=America/Detroit:20240216T180000
DTEND;TZID=America/Detroit:20240216T200000
DTSTAMP:20260420T023002
CREATED:20240119T141810Z
LAST-MODIFIED:20240119T155011Z
UID:10002549-1708106400-1708113600@dnwml.org
SUMMARY:A Fancy Dancy Valentine
DESCRIPTION:Join us for a Fancy Dancy Valentine event! \nDancing\, crafts\, snacks\, and performances by Theatre Be. \nThis event is for disabled youth and young adults\, 14 to 26 years. \nTickets are FREE but you must register below. \nFor more information/questions\, contact Krystina (krystina@dnwml.org) \nGuardians are welcome to stay on site in our dedicated “guardian zone” to learn more about the services DNWML can offer. \n**In case of inclement weather\, please check our Facebook or Instagram for cancellations.**
URL:https://dnwml.org/event/a-fancy-dancy-valentine/
LOCATION:Washtenaw/Ann Arbor DNWML\, 3941 Research Park Dr\, Ann Arbor\, 48108\, United States
CATEGORIES:Arts & Recreation,Entertainment,Special Event,Youth Services
ORGANIZER;CN="Krystina Johnson":MAILTO:krystina@dnwml.org
END:VEVENT
END:VCALENDAR