BEGIN:VCALENDAR
VERSION:2.0
PRODID:-//Disability Network Washtenaw Monroe Livingston - ECPv6.15.20//NONSGML v1.0//EN
CALSCALE:GREGORIAN
METHOD:PUBLISH
X-ORIGINAL-URL:https://dnwml.org
X-WR-CALDESC:Events for Disability Network Washtenaw Monroe Livingston
REFRESH-INTERVAL;VALUE=DURATION:PT1H
X-Robots-Tag:noindex
X-PUBLISHED-TTL:PT1H
BEGIN:VTIMEZONE
TZID:America/Detroit
BEGIN:DAYLIGHT
TZOFFSETFROM:-0500
TZOFFSETTO:-0400
TZNAME:EDT
DTSTART:20230312T070000
END:DAYLIGHT
BEGIN:STANDARD
TZOFFSETFROM:-0400
TZOFFSETTO:-0500
TZNAME:EST
DTSTART:20231105T060000
END:STANDARD
BEGIN:DAYLIGHT
TZOFFSETFROM:-0500
TZOFFSETTO:-0400
TZNAME:EDT
DTSTART:20240310T070000
END:DAYLIGHT
BEGIN:STANDARD
TZOFFSETFROM:-0400
TZOFFSETTO:-0500
TZNAME:EST
DTSTART:20241103T060000
END:STANDARD
BEGIN:DAYLIGHT
TZOFFSETFROM:-0500
TZOFFSETTO:-0400
TZNAME:EDT
DTSTART:20250309T070000
END:DAYLIGHT
BEGIN:STANDARD
TZOFFSETFROM:-0400
TZOFFSETTO:-0500
TZNAME:EST
DTSTART:20251102T060000
END:STANDARD
END:VTIMEZONE
BEGIN:VEVENT
DTSTART;TZID=America/Detroit:20240321T110000
DTEND;TZID=America/Detroit:20240321T120000
DTSTAMP:20260420T201328
CREATED:20240304T163200Z
LAST-MODIFIED:20240503T192433Z
UID:10002895-1711018800-1711022400@dnwml.org
SUMMARY:Virtual Art Class: Open Studio
DESCRIPTION:In-person Art Class\nMake art and learn about artists and new techniques in a relaxed social environment. Rotating through different media\, we explore materials and techniques in a guided manner. No previous experience is necessary. Materials provided. \nTo receive weekly Art Programming email updates\, contact Claire.
URL:https://dnwml.org/event/virtual-art-class-open-studio-8/2024-03-21/
LOCATION:Zoom\, Virtual
CATEGORIES:Art,Arts & Recreation
ORGANIZER;CN="Claire Moore":MAILTO:claire@dnwml.org
END:VEVENT
BEGIN:VEVENT
DTSTART;TZID=America/Detroit:20240321T123000
DTEND;TZID=America/Detroit:20240321T140000
DTSTAMP:20260420T201329
CREATED:20231222T144143Z
LAST-MODIFIED:20241007T134904Z
UID:10003519-1711024200-1711029600@dnwml.org
SUMMARY:Delishability Cooking Class
DESCRIPTION:Delishability Cooking Class\nAre you interested in growing your culinary skills?\nWant to be the next Top Chef?\nWant to get out of the house and have some fun? \nThis class meets 6 times\, 1.5 hrs per class\, cooking course for all people with disabilities and all experience levels. \n\nA course designed for people with disabilities\, of all experience levels\nDefine “healthy eating”\nDevelop your cooking skills in a nurturing environment\n\nThese particular cooking classes will focus mostly on 30 minute dishes\, basic cooking skills\, and adjusting recipes when needed. \nClass fee: $5.00 per session to cover supplies \nEvery Other Thursday from 12:30pm-2:00pm \n\nJanuary 25 – Ravioli Skillet\nFebruary 8 – Cheesecake\nFebruary 22 – Corn-Sausage Chowder\nMarch 7 – Breakfast – TBD\nMarch 21 – Two Side Dishes\nApril 4 – MOPP Skillet\n\nDelishability Winter 2024 \nTo register for a class\, click on the Website link below.
URL:https://dnwml.org/event/delishability-cooking-class-4/2024-03-21/
LOCATION:Washtenaw/Ann Arbor DNWML\, 3941 Research Park Dr\, Ann Arbor\, 48108\, United States
CATEGORIES:General Support,Independent Living Skills,Information & Resources
ORGANIZER;CN="Dana DeBord":MAILTO:dana@dnwml.org
END:VEVENT
BEGIN:VEVENT
DTSTART;TZID=America/Detroit:20240321T130000
DTEND;TZID=America/Detroit:20240321T140000
DTSTAMP:20260420T201329
CREATED:20240206T180257Z
LAST-MODIFIED:20240227T213421Z
UID:10002613-1711026000-1711029600@dnwml.org
SUMMARY:ASL Virtual Theatre Workshop
DESCRIPTION:Join us for a very special 6-week limited engagement with OpenSpot Theatre and DNWML Theatre Be. \nThis class will focus on the art of acting and communicating using American Sign Language (ASL).  No previous ASL knowledge required. \nIn this workshop OpenSpot Theatre will help us learn 100-200 words\, leading up to a finale where we’ll use these words in a virtual performance. \nDon’t miss this exciting opportunity! \nFree to join! \nRegistration applies to all 6 weekly workshops – please ensure you will be able to attend all dates. Please contact Robin (robin@dnwml.org) by February 22nd. \nZoom link will be provided after registration. \nSpace is limited! \nRSVP as soon as possible.
URL:https://dnwml.org/event/asl-virtual-theatre-workshop/2024-03-21/
LOCATION:Zoom\, Virtual
CATEGORIES:Arts & Recreation
ORGANIZER;CN="Robin Bennett":MAILTO:robin@dnwml.org
END:VEVENT
BEGIN:VEVENT
DTSTART;TZID=America/Detroit:20240321T150000
DTEND;TZID=America/Detroit:20240321T160000
DTSTAMP:20260420T201329
CREATED:20240228T183920Z
LAST-MODIFIED:20240228T205206Z
UID:10002694-1711033200-1711036800@dnwml.org
SUMMARY:Beneficiary Outreach Event SSA Work Incentives & Return to Work Supports
DESCRIPTION:Are you a Social Security disability beneficiary and want to know how working will affect your benefits? \nAre you afraid of losing benefits or medical coverage if you return to work? \nJoin us for our Beneficiary Outreach Event and learn about following important topics that will help you return to work. \nThis event is geared toward Social Security disability beneficiaries\, Human Service Providers\, Medicaid Service Coordinators\, and Human Resource Professionals who wish to know more about Social Security disability benefits and available Work Incentives. \nLight refreshments served. \nRegistration required. \nIf an accommodation is needed to attend this event due to a disability\, please request ten (10) days before the scheduled date by contacting Tennery. \nBeneficiary Outreach Event – March 21
URL:https://dnwml.org/event/beneficiary-outreach-event-ssa-work-incentives-return-to-work-supports/
LOCATION:Monroe DNWML\, 1070 S. Telegraph Rd.\, Monroe\, MI\, 48161\, United States
CATEGORIES:Special Event
ORGANIZER;CN="Tennery":MAILTO:tennery@dnwml.org
END:VEVENT
BEGIN:VEVENT
DTSTART;TZID=America/Detroit:20240321T173000
DTEND;TZID=America/Detroit:20240321T184500
DTSTAMP:20260420T201329
CREATED:20240227T205517Z
LAST-MODIFIED:20240227T205518Z
UID:10002641-1711042200-1711046700@dnwml.org
SUMMARY:Virtual Theatre
DESCRIPTION:Back by popular demand for Fall 2023-Winter 2024\, DNWML presents… \nDNWML VIRTUAL THEATRE \nMake an entrance with DNWML Theatre!\nAre you loud or quiet\, familiar with theatre or brand new?\nLove being in the spotlight or more comfy with just a few friends?\nTheatre is for YOU! \nCome meet new friends and get to know the art of theatre: \n\nPerformance-acting\nDancing\nSinging\nMovement\nSkill-building\nAnd more!\n\nDrop-in attendance is welcome. If you have registered before\, there is no need to register again. \nWHEN\nThursdays starting November 2*\n5:30 – 6:30pm\n*New day and time! \nWHERE\nZoom – link provided via email after participant registration \nREGISTER\nhttps://forms.office.com/pages/responsepage.aspx?id=ClrQjns8ukWZOEgx05EG5dxvDYvmjZ9Mvs-Laz-EZCZUNjFTRVdZTElXMU81S0cwMTgzVEk1WjZJVC4u
URL:https://dnwml.org/event/theatre-program-2-2/2024-03-21/
LOCATION:Zoom\, Virtual
CATEGORIES:Art,Arts & Recreation,Entertainment
ATTACH;FMTTYPE=image/png:https://dnwml.org/wp-content/uploads/2023/10/virtual-Theatre-23.-24.png
ORGANIZER;CN="Robin Bennett":MAILTO:robin@dnwml.org
END:VEVENT
END:VCALENDAR