BEGIN:VCALENDAR
VERSION:2.0
PRODID:-//Disability Network Washtenaw Monroe Livingston - ECPv6.15.20//NONSGML v1.0//EN
CALSCALE:GREGORIAN
METHOD:PUBLISH
X-ORIGINAL-URL:https://dnwml.org
X-WR-CALDESC:Events for Disability Network Washtenaw Monroe Livingston
REFRESH-INTERVAL;VALUE=DURATION:PT1H
X-Robots-Tag:noindex
X-PUBLISHED-TTL:PT1H
BEGIN:VTIMEZONE
TZID:America/Detroit
BEGIN:DAYLIGHT
TZOFFSETFROM:-0500
TZOFFSETTO:-0400
TZNAME:EDT
DTSTART:20230312T070000
END:DAYLIGHT
BEGIN:STANDARD
TZOFFSETFROM:-0400
TZOFFSETTO:-0500
TZNAME:EST
DTSTART:20231105T060000
END:STANDARD
BEGIN:DAYLIGHT
TZOFFSETFROM:-0500
TZOFFSETTO:-0400
TZNAME:EDT
DTSTART:20240310T070000
END:DAYLIGHT
BEGIN:STANDARD
TZOFFSETFROM:-0400
TZOFFSETTO:-0500
TZNAME:EST
DTSTART:20241103T060000
END:STANDARD
BEGIN:DAYLIGHT
TZOFFSETFROM:-0500
TZOFFSETTO:-0400
TZNAME:EDT
DTSTART:20250309T070000
END:DAYLIGHT
BEGIN:STANDARD
TZOFFSETFROM:-0400
TZOFFSETTO:-0500
TZNAME:EST
DTSTART:20251102T060000
END:STANDARD
END:VTIMEZONE
BEGIN:VEVENT
DTSTART;TZID=America/Detroit:20240610T130000
DTEND;TZID=America/Detroit:20240610T150000
DTSTAMP:20260420T015823
CREATED:20240408T183116Z
LAST-MODIFIED:20250108T133358Z
UID:10002706-1718024400-1718031600@dnwml.org
SUMMARY:In-person Art Class: Guided Sessions
DESCRIPTION:In-person Art Class: Guided Sessions\nMake art and learn about artists and new techniques in a relaxed social environment. Rotating through different media\, we explore materials and techniques in a guided manner. No previous experience is necessary. Materials provided. \nTo receive weekly Art Programming email updates\, contact Claire! \n\nDownload and print the flyer: Art Program Brochure
URL:https://dnwml.org/event/in-person-art-class-guided-sessions-4-2-2-2/2024-06-10/
LOCATION:Washtenaw/Ann Arbor DNWML\, 3941 Research Park Dr\, Ann Arbor\, 48108\, United States
CATEGORIES:Art,Arts & Recreation
ORGANIZER;CN="Claire Moore":MAILTO:claire@dnwml.org
END:VEVENT
BEGIN:VEVENT
DTSTART;TZID=America/Detroit:20240610T153000
DTEND;TZID=America/Detroit:20240610T173000
DTSTAMP:20260420T015823
CREATED:20240409T195711Z
LAST-MODIFIED:20240423T154601Z
UID:10003021-1718033400-1718040600@dnwml.org
SUMMARY:Theatre Be Summer Kickoff
DESCRIPTION:Be silly! Be dramatic! Be YOU and don’t forget to work up an appetite during DNWML’s Theatre Be Summertime Kickoff!! \nAll abilities welcome to kickoff the Theatre Be Summertime Series! \nCome play games\, develop skills\, and SHOW OFFa bit in a friendly environment and then enjoy pizza\, drinks\, and some cool treats with friends; it’s sure to beat the heat.
URL:https://dnwml.org/event/theatre-be-summer-kickoff/
LOCATION:Washtenaw/Ann Arbor DNWML\, 3941 Research Park Dr\, Ann Arbor\, 48108\, United States
CATEGORIES:Arts & Recreation
ORGANIZER;CN="Robin Bennett":MAILTO:robin@dnwml.org
END:VEVENT
END:VCALENDAR