BEGIN:VCALENDAR
VERSION:2.0
PRODID:-//Disability Network Washtenaw Monroe Livingston - ECPv6.15.20//NONSGML v1.0//EN
CALSCALE:GREGORIAN
METHOD:PUBLISH
X-ORIGINAL-URL:https://dnwml.org
X-WR-CALDESC:Events for Disability Network Washtenaw Monroe Livingston
REFRESH-INTERVAL;VALUE=DURATION:PT1H
X-Robots-Tag:noindex
X-PUBLISHED-TTL:PT1H
BEGIN:VTIMEZONE
TZID:America/Detroit
BEGIN:DAYLIGHT
TZOFFSETFROM:-0500
TZOFFSETTO:-0400
TZNAME:EDT
DTSTART:20230312T070000
END:DAYLIGHT
BEGIN:STANDARD
TZOFFSETFROM:-0400
TZOFFSETTO:-0500
TZNAME:EST
DTSTART:20231105T060000
END:STANDARD
BEGIN:DAYLIGHT
TZOFFSETFROM:-0500
TZOFFSETTO:-0400
TZNAME:EDT
DTSTART:20240310T070000
END:DAYLIGHT
BEGIN:STANDARD
TZOFFSETFROM:-0400
TZOFFSETTO:-0500
TZNAME:EST
DTSTART:20241103T060000
END:STANDARD
BEGIN:DAYLIGHT
TZOFFSETFROM:-0500
TZOFFSETTO:-0400
TZNAME:EDT
DTSTART:20250309T070000
END:DAYLIGHT
BEGIN:STANDARD
TZOFFSETFROM:-0400
TZOFFSETTO:-0500
TZNAME:EST
DTSTART:20251102T060000
END:STANDARD
END:VTIMEZONE
BEGIN:VEVENT
DTSTART;TZID=America/Detroit:20240614T130000
DTEND;TZID=America/Detroit:20240614T150000
DTSTAMP:20260422T071733
CREATED:20240604T192442Z
LAST-MODIFIED:20240604T192442Z
UID:10003270-1718370000-1718377200@dnwml.org
SUMMARY:Taco Bout Self Love
DESCRIPTION:Come join Disability EmpowHER Network and DNWML for an afternoon of fun\, socialization\, and self love for disabled women and girls! \nSee website below for registration link.  RSVP by June 7th
URL:https://dnwml.org/event/taco-bout-self-love/
LOCATION:Washtenaw/Ann Arbor DNWML\, 3941 Research Park Dr\, Ann Arbor\, 48108\, United States
CATEGORIES:Arts & Recreation,Entertainment
ORGANIZER;CN="Claire Moore":MAILTO:claire@dnwml.org
END:VEVENT
END:VCALENDAR