BEGIN:VCALENDAR
VERSION:2.0
PRODID:-//Disability Network Washtenaw Monroe Livingston - ECPv6.15.20//NONSGML v1.0//EN
CALSCALE:GREGORIAN
METHOD:PUBLISH
X-ORIGINAL-URL:https://dnwml.org
X-WR-CALDESC:Events for Disability Network Washtenaw Monroe Livingston
REFRESH-INTERVAL;VALUE=DURATION:PT1H
X-Robots-Tag:noindex
X-PUBLISHED-TTL:PT1H
BEGIN:VTIMEZONE
TZID:America/Detroit
BEGIN:DAYLIGHT
TZOFFSETFROM:-0500
TZOFFSETTO:-0400
TZNAME:EDT
DTSTART:20230312T070000
END:DAYLIGHT
BEGIN:STANDARD
TZOFFSETFROM:-0400
TZOFFSETTO:-0500
TZNAME:EST
DTSTART:20231105T060000
END:STANDARD
BEGIN:DAYLIGHT
TZOFFSETFROM:-0500
TZOFFSETTO:-0400
TZNAME:EDT
DTSTART:20240310T070000
END:DAYLIGHT
BEGIN:STANDARD
TZOFFSETFROM:-0400
TZOFFSETTO:-0500
TZNAME:EST
DTSTART:20241103T060000
END:STANDARD
BEGIN:DAYLIGHT
TZOFFSETFROM:-0500
TZOFFSETTO:-0400
TZNAME:EDT
DTSTART:20250309T070000
END:DAYLIGHT
BEGIN:STANDARD
TZOFFSETFROM:-0400
TZOFFSETTO:-0500
TZNAME:EST
DTSTART:20251102T060000
END:STANDARD
END:VTIMEZONE
BEGIN:VEVENT
DTSTART;TZID=America/Detroit:20240628T170000
DTEND;TZID=America/Detroit:20240628T190000
DTSTAMP:20260421T001545
CREATED:20240322T190206Z
LAST-MODIFIED:20240509T170225Z
UID:10002975-1719594000-1719601200@dnwml.org
SUMMARY:Late Night Karaoke!
DESCRIPTION:Warm up your vocal cords and get ready to sign the night away. \nAll ages and abilities are invited to a fun night of belting our your favorite tunes with friends. \nJoin us for:\n– Taco bar (with allergen-free options)\n– Ice cream bar\n– Temporary tattoos\n– Cookie decorating\n– Board games\n– …and More! \nIn-person at DNWML Washtenaw Office
URL:https://dnwml.org/event/movie-under-the-stars/
LOCATION:Washtenaw/Ann Arbor DNWML\, 3941 Research Park Dr\, Ann Arbor\, 48108\, United States
CATEGORIES:Entertainment
ORGANIZER;CN="Anna Dusbiber":MAILTO:anna@dnwml.org
END:VEVENT
END:VCALENDAR