BEGIN:VCALENDAR
VERSION:2.0
PRODID:-//Disability Network Washtenaw Monroe Livingston - ECPv6.15.20//NONSGML v1.0//EN
CALSCALE:GREGORIAN
METHOD:PUBLISH
X-WR-CALNAME:Disability Network Washtenaw Monroe Livingston
X-ORIGINAL-URL:https://dnwml.org
X-WR-CALDESC:Events for Disability Network Washtenaw Monroe Livingston
REFRESH-INTERVAL;VALUE=DURATION:PT1H
X-Robots-Tag:noindex
X-PUBLISHED-TTL:PT1H
BEGIN:VTIMEZONE
TZID:America/Detroit
BEGIN:DAYLIGHT
TZOFFSETFROM:-0500
TZOFFSETTO:-0400
TZNAME:EDT
DTSTART:20230312T070000
END:DAYLIGHT
BEGIN:STANDARD
TZOFFSETFROM:-0400
TZOFFSETTO:-0500
TZNAME:EST
DTSTART:20231105T060000
END:STANDARD
BEGIN:DAYLIGHT
TZOFFSETFROM:-0500
TZOFFSETTO:-0400
TZNAME:EDT
DTSTART:20240310T070000
END:DAYLIGHT
BEGIN:STANDARD
TZOFFSETFROM:-0400
TZOFFSETTO:-0500
TZNAME:EST
DTSTART:20241103T060000
END:STANDARD
BEGIN:DAYLIGHT
TZOFFSETFROM:-0500
TZOFFSETTO:-0400
TZNAME:EDT
DTSTART:20250309T070000
END:DAYLIGHT
BEGIN:STANDARD
TZOFFSETFROM:-0400
TZOFFSETTO:-0500
TZNAME:EST
DTSTART:20251102T060000
END:STANDARD
END:VTIMEZONE
BEGIN:VEVENT
DTSTART;TZID=America/Detroit:20240815T083000
DTEND;TZID=America/Detroit:20240815T153000
DTSTAMP:20260420T210636
CREATED:20240515T183722Z
LAST-MODIFIED:20240515T183831Z
UID:10003198-1723710600-1723735800@dnwml.org
SUMMARY:Sports Week - Camp New Horizons
DESCRIPTION:DNWML partners with UofM Adaptive Sports and Fitness to share inclusive sports and games with campers\, including sports and games with campers including wheelchair basketball\, adaptive gym workouts\, and more! \nCare and personal aids are welcome!  We just need their contact information as part of registration. \nCampers must bring lunches Monday through Wednesday of the week.  Thursday lunch is provided by DNWML.  Refillable water bottles and/or snacks are also encouraged. \nClaire and Krystina will be present for the entire camp. \nPayment is required during the registration process; an auto-response email will arrive in your inbox upon registration.  Follow directions to complete payment. \nREGISTRATION IS REQUIRED.  See the registration link (website) below. \nRegistered campers should be dropped off at 8:30am and picked up at 3:30pm. \nContact Krystina with any questions
URL:https://dnwml.org/event/sports-week-camp-new-horizons/2024-08-15/
LOCATION:Washtenaw/Ann Arbor DNWML\, 3941 Research Park Dr\, Ann Arbor\, 48108\, United States
CATEGORIES:Arts & Recreation
ORGANIZER;CN="Krystina Johnson":MAILTO:krystina@dnwml.org
END:VEVENT
BEGIN:VEVENT
DTSTART;TZID=America/Detroit:20240815T110000
DTEND;TZID=America/Detroit:20240815T120000
DTSTAMP:20260420T210636
CREATED:20240515T172346Z
LAST-MODIFIED:20250303T155108Z
UID:10003747-1723719600-1723723200@dnwml.org
SUMMARY:Virtual Art Class
DESCRIPTION:Virtual Art Class\nThe Zoom version of our popular Art Class. Just as social\, fun\, and creative as the in-person option! Open studio style: share what you’re working on\, get feedback\, or just chat all things art (and beyond!) \nZoom link given upon contacting Claire. \nTo receive weekly Art Programming email updates\, contact Claire! \nDownload the program flyer here: Art Program Brochure
URL:https://dnwml.org/event/virtual-art-class/2024-08-15/
LOCATION:Zoom\, Virtual
CATEGORIES:Art,Arts & Recreation
ORGANIZER;CN="Claire Moore":MAILTO:claire@dnwml.org
END:VEVENT
END:VCALENDAR