BEGIN:VCALENDAR
VERSION:2.0
PRODID:-//Disability Network Washtenaw Monroe Livingston - ECPv6.15.20//NONSGML v1.0//EN
CALSCALE:GREGORIAN
METHOD:PUBLISH
X-WR-CALNAME:Disability Network Washtenaw Monroe Livingston
X-ORIGINAL-URL:https://dnwml.org
X-WR-CALDESC:Events for Disability Network Washtenaw Monroe Livingston
REFRESH-INTERVAL;VALUE=DURATION:PT1H
X-Robots-Tag:noindex
X-PUBLISHED-TTL:PT1H
BEGIN:VTIMEZONE
TZID:America/Detroit
BEGIN:DAYLIGHT
TZOFFSETFROM:-0500
TZOFFSETTO:-0400
TZNAME:EDT
DTSTART:20240310T070000
END:DAYLIGHT
BEGIN:STANDARD
TZOFFSETFROM:-0400
TZOFFSETTO:-0500
TZNAME:EST
DTSTART:20241103T060000
END:STANDARD
BEGIN:DAYLIGHT
TZOFFSETFROM:-0500
TZOFFSETTO:-0400
TZNAME:EDT
DTSTART:20250309T070000
END:DAYLIGHT
BEGIN:STANDARD
TZOFFSETFROM:-0400
TZOFFSETTO:-0500
TZNAME:EST
DTSTART:20251102T060000
END:STANDARD
BEGIN:DAYLIGHT
TZOFFSETFROM:-0500
TZOFFSETTO:-0400
TZNAME:EDT
DTSTART:20260308T070000
END:DAYLIGHT
BEGIN:STANDARD
TZOFFSETFROM:-0400
TZOFFSETTO:-0500
TZNAME:EST
DTSTART:20261101T060000
END:STANDARD
END:VTIMEZONE
BEGIN:VEVENT
DTSTART;TZID=America/Detroit:20250217T120000
DTEND;TZID=America/Detroit:20250217T133000
DTSTAMP:20260420T201434
CREATED:20250122T135940Z
LAST-MODIFIED:20250122T140057Z
UID:10003933-1739793600-1739799000@dnwml.org
SUMMARY:Brighton District Library Outreach Day
DESCRIPTION:Disability Network Washtenaw Monroe Livingston (DNWML) is run by people with disabilities for people with disabilities\, and we’d like  you to get to know us! \nJoin us to learn more about the services we provide in Livingston County\, including: increasing accessibility\, employment opportunities\, benefits counseling\, recreation opportunities\, and many more resources and services for people with disabilities. \n  \n 
URL:https://dnwml.org/event/8798/
LOCATION:Brighton District Library\, 100 Library Dr.\, Brighton\, MI\, 48116\, United States
CATEGORIES:Outreach
ORGANIZER;CN="Marissa Anderson":MAILTO:marissa@dnwml.org
END:VEVENT
BEGIN:VEVENT
DTSTART;TZID=America/Detroit:20250217T130000
DTEND;TZID=America/Detroit:20250217T150000
DTSTAMP:20260420T201434
CREATED:20240408T183116Z
LAST-MODIFIED:20250108T133358Z
UID:10002742-1739797200-1739804400@dnwml.org
SUMMARY:In-person Art Class: Guided Sessions
DESCRIPTION:In-person Art Class: Guided Sessions\nMake art and learn about artists and new techniques in a relaxed social environment. Rotating through different media\, we explore materials and techniques in a guided manner. No previous experience is necessary. Materials provided. \nTo receive weekly Art Programming email updates\, contact Claire! \n\nDownload and print the flyer: Art Program Brochure
URL:https://dnwml.org/event/in-person-art-class-guided-sessions-4-2-2-2/2025-02-17/
LOCATION:Washtenaw/Ann Arbor DNWML\, 3941 Research Park Dr\, Ann Arbor\, 48108\, United States
CATEGORIES:Art,Arts & Recreation
ORGANIZER;CN="Claire Moore":MAILTO:claire@dnwml.org
END:VEVENT
END:VCALENDAR