BEGIN:VCALENDAR
VERSION:2.0
PRODID:-//Disability Network Washtenaw Monroe Livingston - ECPv6.15.20//NONSGML v1.0//EN
CALSCALE:GREGORIAN
METHOD:PUBLISH
X-WR-CALNAME:Disability Network Washtenaw Monroe Livingston
X-ORIGINAL-URL:https://dnwml.org
X-WR-CALDESC:Events for Disability Network Washtenaw Monroe Livingston
REFRESH-INTERVAL;VALUE=DURATION:PT1H
X-Robots-Tag:noindex
X-PUBLISHED-TTL:PT1H
BEGIN:VTIMEZONE
TZID:America/Detroit
BEGIN:DAYLIGHT
TZOFFSETFROM:-0500
TZOFFSETTO:-0400
TZNAME:EDT
DTSTART:20240310T070000
END:DAYLIGHT
BEGIN:STANDARD
TZOFFSETFROM:-0400
TZOFFSETTO:-0500
TZNAME:EST
DTSTART:20241103T060000
END:STANDARD
BEGIN:DAYLIGHT
TZOFFSETFROM:-0500
TZOFFSETTO:-0400
TZNAME:EDT
DTSTART:20250309T070000
END:DAYLIGHT
BEGIN:STANDARD
TZOFFSETFROM:-0400
TZOFFSETTO:-0500
TZNAME:EST
DTSTART:20251102T060000
END:STANDARD
BEGIN:DAYLIGHT
TZOFFSETFROM:-0500
TZOFFSETTO:-0400
TZNAME:EDT
DTSTART:20260308T070000
END:DAYLIGHT
BEGIN:STANDARD
TZOFFSETFROM:-0400
TZOFFSETTO:-0500
TZNAME:EST
DTSTART:20261101T060000
END:STANDARD
END:VTIMEZONE
BEGIN:VEVENT
DTSTART;VALUE=DATE:20250605
DTEND;VALUE=DATE:20250606
DTSTAMP:20260422T040855
CREATED:20250514T160303Z
LAST-MODIFIED:20250514T160303Z
UID:10004360-1749081600-1749167999@dnwml.org
SUMMARY:Call for Art - Disability Pride Art Exhibition
DESCRIPTION:Call for Art – In this Together: Joy & Interdependence in Disability Culture \nJoin us for our Third Annual Disability Pride Art Exhibition at DNWML. \nThis year’s exhibition celebrates the beauty of interdependence\, the power of community\, and the full spectrum of joy within disability culture.  We are seeking artwork by disabled artists that reflects the richness of disabled lives – not as isolated stories of struggle or inspiration\, but as nuanced and deeply connected\, complex\, and joyful experiences. \nWe welcome submissions across all mediums: including visual art\, photography\, sculpture\, video\, performance\, sound art\, mixed media\, and more! \nSubmission deadline: June 8 \nExhibition dates July 1 to Aug 15\, 2025 during Disability Pride Month at the DNWML Washtenaw Office. \nCheck out the website (below) for more information and/or to submit a description of your art to consideration in the exhibition. \nCheck out the flyer:  CALL FOR ART Dis Pride 25
URL:https://dnwml.org/event/call-for-art-disability-pride-art-exhibition/2025-06-05/
LOCATION:Washtenaw/Ann Arbor DNWML\, 3941 Research Park Dr\, Ann Arbor\, 48108\, United States
CATEGORIES:Art
ORGANIZER;CN="Claire Moore":MAILTO:claire@dnwml.org
END:VEVENT
BEGIN:VEVENT
DTSTART;TZID=America/Detroit:20250605T090000
DTEND;TZID=America/Detroit:20250605T160000
DTSTAMP:20260422T040855
CREATED:20250514T161405Z
LAST-MODIFIED:20250515T185755Z
UID:10004377-1749114000-1749139200@dnwml.org
SUMMARY:DNWML Staff Art Show
DESCRIPTION:Color Me Impressed! \nArtwork by DNMWL staff: Dana DeBord\, Rebecca Dooley\, Kari Havenaar\, Krystina Johnson\, Claire Moore\, Janeen Mussleman\, & Will Purves \nCome check out the art Tuesday through Thursday from 9am to 4pm \nReception June 3 from 1p to 2p \nVirtual Exhibition & Audio Tour:  dnwml.org/staffshow \nCheck out the flyer: Staff Art Show
URL:https://dnwml.org/event/dnwml-staff-art-show/2025-06-05/
LOCATION:Washtenaw/Ann Arbor DNWML\, 3941 Research Park Dr\, Ann Arbor\, 48108\, United States
CATEGORIES:Art,Arts & Recreation
ORGANIZER;CN="Claire Moore":MAILTO:claire@dnwml.org
END:VEVENT
BEGIN:VEVENT
DTSTART;TZID=America/Detroit:20250605T093000
DTEND;TZID=America/Detroit:20250605T104500
DTSTAMP:20260422T040855
CREATED:20250429T182211Z
LAST-MODIFIED:20251103T131220Z
UID:10004307-1749115800-1749120300@dnwml.org
SUMMARY:DisScribe Writers Group
DESCRIPTION:DisScribe Writers Group\nHave you always wanted to be a writer?\nAre you hoping to improve your writing and editing skills?\nDo you need a buddy to keep you on track with your writing goals? \nOur open writing group is dedicated to supporting and empowering the creative writing efforts of individuals with disabilities. Whether you’re a seasoned writer or just starting out\, DisScribe offers a welcoming space for sharing ideas\, honing your craft\, and connecting with fellow writers. \nJoin us for inspiring workshops\, collaborative writing sessions\, and valuable feedback that celebrates diverse voices and stories. \nLet’s create together! \nDownload program flyer here: DisScribe Flyer \nSpecific Thursdays 9:30-10:45am via Zoom \nCONTACT/REGISTER\nWill – info below
URL:https://dnwml.org/event/disscribe-writers-group-4/2025-06-05/
LOCATION:Zoom\, Virtual
CATEGORIES:Arts & Recreation
ORGANIZER;CN="Will Purves":MAILTO:william@dnwml.org
END:VEVENT
BEGIN:VEVENT
DTSTART;TZID=America/Detroit:20250605T130000
DTEND;TZID=America/Detroit:20250605T150000
DTSTAMP:20260422T040855
CREATED:20250521T150913Z
LAST-MODIFIED:20250521T151126Z
UID:10004539-1749128400-1749135600@dnwml.org
SUMMARY:Studio Be: Guided Sessions (in person) SPECIAL
DESCRIPTION:Studio Be: Guided Sessions (in person)\nMake art (and friends!) and learn about artists and new techniques in a relaxed social environment. Rotating through different media\, we explore materials and processes in a guided manner. No previous experience is necessary. Materials provided. \nFOR JUNE: Playing with Watercolor with Guest Facilitator Amy Everett\nLearn how to let the paint do its own thing with this unique form of painting!\nWe’ll start out learning about all the odd quirks that make watercolor paint unique\, and then go on to use common household items to create fabulous textures\, as well as combining watercolor with other art media to further enhance your art. We’ll be focusing on fun\, experimentation and learning new skills each class! \nDATES: 6/5\, 6/12\, 6/19\, 6/26\nREGISTRATION REQUIRED: tinyurl.com/StudioBeWatercolor \nAbout the Guest Facilitator Artist\nAmy Everett is a lifetime artist and professional graphic designer. Diagnosed with MS in 2006 and finding the Disability Network shortly afterwards\, art has always provided a wonderful escape for her. She hopes you’ll enjoy the experimentation process and love the unexpected creations we’ll discover together in this workshop series. \nTo receive weekly Art Programming email updates\, contact Claire! \n\nDownload and print the flyer: Playing with Watercolor flyer (1)
URL:https://dnwml.org/event/studio-be-guided-sessions-in-person-special/2025-06-05/
LOCATION:Washtenaw/Ann Arbor DNWML\, 3941 Research Park Dr\, Ann Arbor\, 48108\, United States
CATEGORIES:Art,Arts & Recreation
ORGANIZER;CN="Claire Moore":MAILTO:claire@dnwml.org
END:VEVENT
BEGIN:VEVENT
DTSTART;TZID=America/Detroit:20250605T153000
DTEND;TZID=America/Detroit:20250605T170000
DTSTAMP:20260422T040855
CREATED:20250415T202322Z
LAST-MODIFIED:20250415T202322Z
UID:10004247-1749137400-1749142800@dnwml.org
SUMMARY:Theatre BE - Mini Session
DESCRIPTION:Join Theatre Be as we laugh and learn together! \nWe’ll be spending each week in this mini session playing theatre games\, exploring scene building and improv\, and expressing ourselves through acting.  We’ll have a supportive and friendly environment where the rules are simple:  BE yourself and BE encouraging! \nThere will NOT be a performance in the mini session;  instead we will be having and end of session party for our company! \nEvery Thursday from May 1 to June 5.  June 5th will be the End-of-Session Party \nAges 14+ and all abilities welcome. \nNo registration required \nProgram Flyer:Theatre Be Mini Session
URL:https://dnwml.org/event/theatre-be-mini-session/2025-06-05/
LOCATION:Washtenaw/Ann Arbor DNWML\, 3941 Research Park Dr\, Ann Arbor\, 48108\, United States
CATEGORIES:Art,Arts & Recreation
ORGANIZER;CN="Robin Bennett":MAILTO:robin@dnwml.org
END:VEVENT
END:VCALENDAR