BEGIN:VCALENDAR
VERSION:2.0
PRODID:-//Disability Network Washtenaw Monroe Livingston - ECPv6.15.20//NONSGML v1.0//EN
CALSCALE:GREGORIAN
METHOD:PUBLISH
X-ORIGINAL-URL:https://dnwml.org
X-WR-CALDESC:Events for Disability Network Washtenaw Monroe Livingston
REFRESH-INTERVAL;VALUE=DURATION:PT1H
X-Robots-Tag:noindex
X-PUBLISHED-TTL:PT1H
BEGIN:VTIMEZONE
TZID:America/Detroit
BEGIN:DAYLIGHT
TZOFFSETFROM:-0500
TZOFFSETTO:-0400
TZNAME:EDT
DTSTART:20240310T070000
END:DAYLIGHT
BEGIN:STANDARD
TZOFFSETFROM:-0400
TZOFFSETTO:-0500
TZNAME:EST
DTSTART:20241103T060000
END:STANDARD
BEGIN:DAYLIGHT
TZOFFSETFROM:-0500
TZOFFSETTO:-0400
TZNAME:EDT
DTSTART:20250309T070000
END:DAYLIGHT
BEGIN:STANDARD
TZOFFSETFROM:-0400
TZOFFSETTO:-0500
TZNAME:EST
DTSTART:20251102T060000
END:STANDARD
BEGIN:DAYLIGHT
TZOFFSETFROM:-0500
TZOFFSETTO:-0400
TZNAME:EDT
DTSTART:20260308T070000
END:DAYLIGHT
BEGIN:STANDARD
TZOFFSETFROM:-0400
TZOFFSETTO:-0500
TZNAME:EST
DTSTART:20261101T060000
END:STANDARD
END:VTIMEZONE
BEGIN:VEVENT
DTSTART;VALUE=DATE:20250616
DTEND;VALUE=DATE:20250617
DTSTAMP:20260424T002953
CREATED:20250401T192220Z
LAST-MODIFIED:20251117T163433Z
UID:10004178-1750032000-1750118399@dnwml.org
SUMMARY:DNWML Staff Remote - Buildings Closed
DESCRIPTION:All DNWML offices are closed to the public on Mondays. \nStaff is available from 8:30am to 4:30pm via phone or email.
URL:https://dnwml.org/event/dnwml-buildings-closed-staff-available-via-phone-or-email/2025-06-16/
LOCATION:Washtenaw/Ann Arbor DNWML\, 3941 Research Park Dr\, Ann Arbor\, 48108\, United States
CATEGORIES:Office Closure
END:VEVENT
BEGIN:VEVENT
DTSTART;TZID=America/Detroit:20250616T100000
DTEND;TZID=America/Detroit:20250616T120000
DTSTAMP:20260424T002953
CREATED:20250429T204222Z
LAST-MODIFIED:20250429T204222Z
UID:10004311-1750068000-1750075200@dnwml.org
SUMMARY:Digital Skills Training @ Ann Arbor District Libraries
DESCRIPTION:The People with Disabilities & Senior’s Guide to the Internet\n– This presentation will focus on common questions about the internet that DNWML staff hears from seniors and people with disabilities.  We’ll define and explain basic internet terminology and give you a chance to ask any questions in a judgement-free learning space. \nNo question is too embarrassing to ask! \nThis training will meet in the Program Room of the Traverwood Branch. \nOpen to all ages and abilities. \nCheck out the program flyer: Digital Skills Training Flyer \n 
URL:https://dnwml.org/event/digital-skills-training-ann-arbor-district-libraries-2/
LOCATION:Traverwood Branch\, 333 Traverwood Dr\,\, Ann Arbor\, MI\, 48105\, United States
ORGANIZER;CN="Eliot Carter":MAILTO:eliot@dnwml.org
END:VEVENT
END:VCALENDAR