BEGIN:VCALENDAR
VERSION:2.0
PRODID:-//Disability Network Washtenaw Monroe Livingston - ECPv6.15.20//NONSGML v1.0//EN
CALSCALE:GREGORIAN
METHOD:PUBLISH
X-WR-CALNAME:Disability Network Washtenaw Monroe Livingston
X-ORIGINAL-URL:https://dnwml.org
X-WR-CALDESC:Events for Disability Network Washtenaw Monroe Livingston
REFRESH-INTERVAL;VALUE=DURATION:PT1H
X-Robots-Tag:noindex
X-PUBLISHED-TTL:PT1H
BEGIN:VTIMEZONE
TZID:America/Detroit
BEGIN:DAYLIGHT
TZOFFSETFROM:-0500
TZOFFSETTO:-0400
TZNAME:EDT
DTSTART:20240310T070000
END:DAYLIGHT
BEGIN:STANDARD
TZOFFSETFROM:-0400
TZOFFSETTO:-0500
TZNAME:EST
DTSTART:20241103T060000
END:STANDARD
BEGIN:DAYLIGHT
TZOFFSETFROM:-0500
TZOFFSETTO:-0400
TZNAME:EDT
DTSTART:20250309T070000
END:DAYLIGHT
BEGIN:STANDARD
TZOFFSETFROM:-0400
TZOFFSETTO:-0500
TZNAME:EST
DTSTART:20251102T060000
END:STANDARD
BEGIN:DAYLIGHT
TZOFFSETFROM:-0500
TZOFFSETTO:-0400
TZNAME:EDT
DTSTART:20260308T070000
END:DAYLIGHT
BEGIN:STANDARD
TZOFFSETFROM:-0400
TZOFFSETTO:-0500
TZNAME:EST
DTSTART:20261101T060000
END:STANDARD
END:VTIMEZONE
BEGIN:VEVENT
DTSTART;TZID=America/Detroit:20250626T130000
DTEND;TZID=America/Detroit:20250626T150000
DTSTAMP:20260420T192935
CREATED:20250521T150913Z
LAST-MODIFIED:20250521T151126Z
UID:10004542-1750942800-1750950000@dnwml.org
SUMMARY:Studio Be: Guided Sessions (in person) SPECIAL
DESCRIPTION:Studio Be: Guided Sessions (in person)\nMake art (and friends!) and learn about artists and new techniques in a relaxed social environment. Rotating through different media\, we explore materials and processes in a guided manner. No previous experience is necessary. Materials provided. \nFOR JUNE: Playing with Watercolor with Guest Facilitator Amy Everett\nLearn how to let the paint do its own thing with this unique form of painting!\nWe’ll start out learning about all the odd quirks that make watercolor paint unique\, and then go on to use common household items to create fabulous textures\, as well as combining watercolor with other art media to further enhance your art. We’ll be focusing on fun\, experimentation and learning new skills each class! \nDATES: 6/5\, 6/12\, 6/19\, 6/26\nREGISTRATION REQUIRED: tinyurl.com/StudioBeWatercolor \nAbout the Guest Facilitator Artist\nAmy Everett is a lifetime artist and professional graphic designer. Diagnosed with MS in 2006 and finding the Disability Network shortly afterwards\, art has always provided a wonderful escape for her. She hopes you’ll enjoy the experimentation process and love the unexpected creations we’ll discover together in this workshop series. \nTo receive weekly Art Programming email updates\, contact Claire! \n\nDownload and print the flyer: Playing with Watercolor flyer (1)
URL:https://dnwml.org/event/studio-be-guided-sessions-in-person-special/2025-06-26/
LOCATION:Washtenaw/Ann Arbor DNWML\, 3941 Research Park Dr\, Ann Arbor\, 48108\, United States
CATEGORIES:Art,Arts & Recreation
ORGANIZER;CN="Claire Moore":MAILTO:claire@dnwml.org
END:VEVENT
BEGIN:VEVENT
DTSTART;TZID=America/Detroit:20250626T153000
DTEND;TZID=America/Detroit:20250626T170000
DTSTAMP:20260420T192935
CREATED:20250522T172926Z
LAST-MODIFIED:20250626T131919Z
UID:10004571-1750951800-1750957200@dnwml.org
SUMMARY:Theatre BE - Summer 2025
DESCRIPTION:Let’s create\, rehearse\, and enjoy theatre magic together! \nThere will theatre games\, script-writing\, costume design\, singing\, dancing\, and friendship\, ending with an exciting performance opportunity! \nWe’ll be partnering with the Ann Arbor Civic Theatre\, where you’ll get to take part in a performance for an audience of friends and the general public.  Join us for a special summertime session! \nREGISTRATION REQUIRED.  Please indicate on registration form whether or not you plan to participate in the final performance.  See “website” below for link. \n  \nEvery Thursday from June 19 to August 14.  Breaks on July 3 and July 10.\nDress Rehearsal at the Ann Arbor Civic Theatre:  Thursday August 21 from 3:30pm to 5:00pm\nPerformance at the Ann Arbor Civic Theatre: Saturday August 23\, Matinee Time TBD \nAges 14+ and all abilities welcome. \nProgram Flyer: Theatre Be Summer 2025 flyer
URL:https://dnwml.org/event/theatre-be-summer-2025/2025-06-26/
LOCATION:Washtenaw/Ann Arbor DNWML\, 3941 Research Park Dr\, Ann Arbor\, 48108\, United States
CATEGORIES:Art,Arts & Recreation
ORGANIZER;CN="Robin Bennett":MAILTO:robin@dnwml.org
END:VEVENT
END:VCALENDAR