BEGIN:VCALENDAR
VERSION:2.0
PRODID:-//Disability Network Washtenaw Monroe Livingston - ECPv6.15.20//NONSGML v1.0//EN
CALSCALE:GREGORIAN
METHOD:PUBLISH
X-WR-CALNAME:Disability Network Washtenaw Monroe Livingston
X-ORIGINAL-URL:https://dnwml.org
X-WR-CALDESC:Events for Disability Network Washtenaw Monroe Livingston
REFRESH-INTERVAL;VALUE=DURATION:PT1H
X-Robots-Tag:noindex
X-PUBLISHED-TTL:PT1H
BEGIN:VTIMEZONE
TZID:America/Detroit
BEGIN:DAYLIGHT
TZOFFSETFROM:-0500
TZOFFSETTO:-0400
TZNAME:EDT
DTSTART:20240310T070000
END:DAYLIGHT
BEGIN:STANDARD
TZOFFSETFROM:-0400
TZOFFSETTO:-0500
TZNAME:EST
DTSTART:20241103T060000
END:STANDARD
BEGIN:DAYLIGHT
TZOFFSETFROM:-0500
TZOFFSETTO:-0400
TZNAME:EDT
DTSTART:20250309T070000
END:DAYLIGHT
BEGIN:STANDARD
TZOFFSETFROM:-0400
TZOFFSETTO:-0500
TZNAME:EST
DTSTART:20251102T060000
END:STANDARD
BEGIN:DAYLIGHT
TZOFFSETFROM:-0500
TZOFFSETTO:-0400
TZNAME:EDT
DTSTART:20260308T070000
END:DAYLIGHT
BEGIN:STANDARD
TZOFFSETFROM:-0400
TZOFFSETTO:-0500
TZNAME:EST
DTSTART:20261101T060000
END:STANDARD
END:VTIMEZONE
BEGIN:VEVENT
DTSTART;TZID=America/Detroit:20250726T120000
DTEND;TZID=America/Detroit:20250726T170000
DTSTAMP:20260424T045924
CREATED:20250529T124040Z
LAST-MODIFIED:20250529T124040Z
UID:10004593-1753531200-1753549200@dnwml.org
SUMMARY:ADApalooza 35 - Annual ADA Celebration
DESCRIPTION:SAVE THE DATE – You’re Invited! \nCome celebrate 35 years since the passing of the Americans with Disability Act with DNWML at our ADApalooza annual celebration at our Washtenaw Office. \nFree food & drinks\nDisability Pride Art Exhibition\nKeynote/Feature Speakers\nSlime Making Station\nAdaptive Sports Demos\nLive Performances & Music\nCollaborative Art Project\nFace Painting\nCommunity Info Tables\n…And More \nQuestions?  Interested in getting involved or sponsorship?  Visit: www.dnwml.org/sponsorship \nCheck out the flyer: ADApalooza Annual Celebration
URL:https://dnwml.org/event/adapalooza-35-annual-ada-celebration/
LOCATION:Washtenaw/Ann Arbor DNWML\, 3941 Research Park Dr\, Ann Arbor\, 48108\, United States
CATEGORIES:Special Event
ORGANIZER;CN="Krystina Johnson":MAILTO:krystina@dnwml.org
END:VEVENT
END:VCALENDAR