BEGIN:VCALENDAR
VERSION:2.0
PRODID:-//Disability Network Washtenaw Monroe Livingston - ECPv6.15.20//NONSGML v1.0//EN
CALSCALE:GREGORIAN
METHOD:PUBLISH
X-ORIGINAL-URL:https://dnwml.org
X-WR-CALDESC:Events for Disability Network Washtenaw Monroe Livingston
REFRESH-INTERVAL;VALUE=DURATION:PT1H
X-Robots-Tag:noindex
X-PUBLISHED-TTL:PT1H
BEGIN:VTIMEZONE
TZID:America/Detroit
BEGIN:DAYLIGHT
TZOFFSETFROM:-0500
TZOFFSETTO:-0400
TZNAME:EDT
DTSTART:20250309T070000
END:DAYLIGHT
BEGIN:STANDARD
TZOFFSETFROM:-0400
TZOFFSETTO:-0500
TZNAME:EST
DTSTART:20251102T060000
END:STANDARD
BEGIN:DAYLIGHT
TZOFFSETFROM:-0500
TZOFFSETTO:-0400
TZNAME:EDT
DTSTART:20260308T070000
END:DAYLIGHT
BEGIN:STANDARD
TZOFFSETFROM:-0400
TZOFFSETTO:-0500
TZNAME:EST
DTSTART:20261101T060000
END:STANDARD
BEGIN:DAYLIGHT
TZOFFSETFROM:-0500
TZOFFSETTO:-0400
TZNAME:EDT
DTSTART:20270314T070000
END:DAYLIGHT
BEGIN:STANDARD
TZOFFSETFROM:-0400
TZOFFSETTO:-0500
TZNAME:EST
DTSTART:20271107T060000
END:STANDARD
END:VTIMEZONE
BEGIN:VEVENT
DTSTART;TZID=America/Detroit:20260714T100000
DTEND;TZID=America/Detroit:20260714T120000
DTSTAMP:20260425T174248
CREATED:20260120T175109Z
LAST-MODIFIED:20260203T172853Z
UID:10005283-1784023200-1784030400@dnwml.org
SUMMARY:DNWML Closed
DESCRIPTION:The DNWML Offices will be closed for a staff meeting today from 10a to 12p.
URL:https://dnwml.org/event/dnwml-closed-32/2026-07-14/
END:VEVENT
BEGIN:VEVENT
DTSTART;TZID=America/Detroit:20260714T130000
DTEND;TZID=America/Detroit:20260714T140000
DTSTAMP:20260425T174248
CREATED:20260323T185232Z
LAST-MODIFIED:20260323T190959Z
UID:10005994-1784034000-1784037600@dnwml.org
SUMMARY:Empower Hour
DESCRIPTION:Anyone who identifies as having a disability is welcome to join our peer support group. \nEvery other Tuesday of the month\, we will gather for one hour to connect. Share lived experiences and coping strategies and provide support to each other physically and emotionally\, as we all tackle the social challenges that come with having a disability. \nNo meeting on May 5th or June 2nd. \nFlyer: Empower Hour Monroe Flyer
URL:https://dnwml.org/event/empower-hour-3/2026-07-14/
LOCATION:Monroe DNWML\, 1070 S. Telegraph Rd.\, Monroe\, MI\, 48161\, United States
CATEGORIES:Information & Resources,Peer Support
ORGANIZER;CN="Celleste Williams":MAILTO:celleste@dnwml.org
END:VEVENT
END:VCALENDAR