BEGIN:VCALENDAR
VERSION:2.0
PRODID:-//Disability Network Washtenaw Monroe Livingston - ECPv6.15.20//NONSGML v1.0//EN
CALSCALE:GREGORIAN
METHOD:PUBLISH
X-WR-CALNAME:Disability Network Washtenaw Monroe Livingston
X-ORIGINAL-URL:https://dnwml.org
X-WR-CALDESC:Events for Disability Network Washtenaw Monroe Livingston
REFRESH-INTERVAL;VALUE=DURATION:PT1H
X-Robots-Tag:noindex
X-PUBLISHED-TTL:PT1H
BEGIN:VTIMEZONE
TZID:America/Detroit
BEGIN:DAYLIGHT
TZOFFSETFROM:-0500
TZOFFSETTO:-0400
TZNAME:EDT
DTSTART:20250309T070000
END:DAYLIGHT
BEGIN:STANDARD
TZOFFSETFROM:-0400
TZOFFSETTO:-0500
TZNAME:EST
DTSTART:20251102T060000
END:STANDARD
BEGIN:DAYLIGHT
TZOFFSETFROM:-0500
TZOFFSETTO:-0400
TZNAME:EDT
DTSTART:20260308T070000
END:DAYLIGHT
BEGIN:STANDARD
TZOFFSETFROM:-0400
TZOFFSETTO:-0500
TZNAME:EST
DTSTART:20261101T060000
END:STANDARD
BEGIN:DAYLIGHT
TZOFFSETFROM:-0500
TZOFFSETTO:-0400
TZNAME:EDT
DTSTART:20270314T070000
END:DAYLIGHT
BEGIN:STANDARD
TZOFFSETFROM:-0400
TZOFFSETTO:-0500
TZNAME:EST
DTSTART:20271107T060000
END:STANDARD
END:VTIMEZONE
BEGIN:VEVENT
DTSTART;TZID=America/Detroit:20260202T110000
DTEND;TZID=America/Detroit:20260202T120000
DTSTAMP:20260419T142047
CREATED:20250730T142947Z
LAST-MODIFIED:20260317T194514Z
UID:10005185-1770030000-1770033600@dnwml.org
SUMMARY:Studio Be: Virtual
DESCRIPTION:Studio Be: Virtual\n\nThe Zoom version of our popular Art Class. Just as social\, fun\, and creative as the in-person option! Open studio style: share what you’re working on\, get feedback\, or just chat all things art (and beyond!) \nZoom link given upon contacting Claire. \nTo receive weekly Art Programming email updates\, contact Claire! \nDownload the program flyer here: Art Program Brochure
URL:https://dnwml.org/event/virtual-art-class-2-2/2026-02-02/
LOCATION:Zoom\, Virtual
CATEGORIES:Art,Arts & Recreation
ORGANIZER;CN="Claire Moore":MAILTO:claire@dnwml.org
END:VEVENT
BEGIN:VEVENT
DTSTART;TZID=America/Detroit:20260204T100000
DTEND;TZID=America/Detroit:20260204T120000
DTSTAMP:20260419T142047
CREATED:20250521T151625Z
LAST-MODIFIED:20260317T194545Z
UID:10005199-1770199200-1770206400@dnwml.org
SUMMARY:Studio Be: Open Studio (in person)
DESCRIPTION:Studio Be: Open Studio (in person)\nMake art and learn about artists and new techniques in a relaxed social environment. Drop-in\, open studio style. Try a new material and experiment in the studio alongside your friends. \nTo receive weekly Art Programming email updates\, contact Claire! \nDownload and print the flyer: Art Program Brochure
URL:https://dnwml.org/event/studio-be-open-studio-in-person/2026-02-04/
LOCATION:Washtenaw/Ann Arbor DNWML\, 3941 Research Park Dr\, Ann Arbor\, 48108\, United States
CATEGORIES:Art,Arts & Recreation
ORGANIZER;CN="Claire Moore":MAILTO:claire@dnwml.org
END:VEVENT
BEGIN:VEVENT
DTSTART;TZID=America/Detroit:20260205T130000
DTEND;TZID=America/Detroit:20260205T150000
DTSTAMP:20260419T142047
CREATED:20250730T142705Z
LAST-MODIFIED:20260317T194616Z
UID:10005213-1770296400-1770303600@dnwml.org
SUMMARY:Studio Be: Guided Sessions (in person)
DESCRIPTION:Studio Be: Guided Sessions (in person)\nMake art (and friends!) and learn about artists and new techniques in a relaxed social environment. Rotating through different media\, we explore materials and processes in a guided manner. No previous experience is necessary. Materials provided. \nTo receive weekly Art Programming email updates\, contact Claire! \n\nDownload and print the flyer: Art Program Brochure
URL:https://dnwml.org/event/in-person-art-class-guided-sessions-4-2-2-2-2-2-2/2026-02-05/
LOCATION:Washtenaw/Ann Arbor DNWML\, 3941 Research Park Dr\, Ann Arbor\, 48108\, United States
CATEGORIES:Art,Arts & Recreation
ORGANIZER;CN="Claire Moore":MAILTO:claire@dnwml.org
END:VEVENT
BEGIN:VEVENT
DTSTART;TZID=America/Detroit:20260209T110000
DTEND;TZID=America/Detroit:20260209T120000
DTSTAMP:20260419T142047
CREATED:20250730T142947Z
LAST-MODIFIED:20260317T194514Z
UID:10005186-1770634800-1770638400@dnwml.org
SUMMARY:Studio Be: Virtual
DESCRIPTION:Studio Be: Virtual\n\nThe Zoom version of our popular Art Class. Just as social\, fun\, and creative as the in-person option! Open studio style: share what you’re working on\, get feedback\, or just chat all things art (and beyond!) \nZoom link given upon contacting Claire. \nTo receive weekly Art Programming email updates\, contact Claire! \nDownload the program flyer here: Art Program Brochure
URL:https://dnwml.org/event/virtual-art-class-2-2/2026-02-09/
LOCATION:Zoom\, Virtual
CATEGORIES:Art,Arts & Recreation
ORGANIZER;CN="Claire Moore":MAILTO:claire@dnwml.org
END:VEVENT
BEGIN:VEVENT
DTSTART;TZID=America/Detroit:20260211T100000
DTEND;TZID=America/Detroit:20260211T120000
DTSTAMP:20260419T142047
CREATED:20250521T151625Z
LAST-MODIFIED:20260317T194545Z
UID:10005200-1770804000-1770811200@dnwml.org
SUMMARY:Studio Be: Open Studio (in person)
DESCRIPTION:Studio Be: Open Studio (in person)\nMake art and learn about artists and new techniques in a relaxed social environment. Drop-in\, open studio style. Try a new material and experiment in the studio alongside your friends. \nTo receive weekly Art Programming email updates\, contact Claire! \nDownload and print the flyer: Art Program Brochure
URL:https://dnwml.org/event/studio-be-open-studio-in-person/2026-02-11/
LOCATION:Washtenaw/Ann Arbor DNWML\, 3941 Research Park Dr\, Ann Arbor\, 48108\, United States
CATEGORIES:Art,Arts & Recreation
ORGANIZER;CN="Claire Moore":MAILTO:claire@dnwml.org
END:VEVENT
BEGIN:VEVENT
DTSTART;TZID=America/Detroit:20260212T130000
DTEND;TZID=America/Detroit:20260212T150000
DTSTAMP:20260419T142047
CREATED:20250730T142705Z
LAST-MODIFIED:20260317T194616Z
UID:10005214-1770901200-1770908400@dnwml.org
SUMMARY:Studio Be: Guided Sessions (in person)
DESCRIPTION:Studio Be: Guided Sessions (in person)\nMake art (and friends!) and learn about artists and new techniques in a relaxed social environment. Rotating through different media\, we explore materials and processes in a guided manner. No previous experience is necessary. Materials provided. \nTo receive weekly Art Programming email updates\, contact Claire! \n\nDownload and print the flyer: Art Program Brochure
URL:https://dnwml.org/event/in-person-art-class-guided-sessions-4-2-2-2-2-2-2/2026-02-12/
LOCATION:Washtenaw/Ann Arbor DNWML\, 3941 Research Park Dr\, Ann Arbor\, 48108\, United States
CATEGORIES:Art,Arts & Recreation
ORGANIZER;CN="Claire Moore":MAILTO:claire@dnwml.org
END:VEVENT
BEGIN:VEVENT
DTSTART;TZID=America/Detroit:20260217T090000
DTEND;TZID=America/Detroit:20260217T150000
DTSTAMP:20260419T142047
CREATED:20260305T202743Z
LAST-MODIFIED:20260305T202909Z
UID:10005502-1771318800-1771340400@dnwml.org
SUMMARY:The Awesomest Show
DESCRIPTION:DNWML Studio Be Artists presents…The Awesomest Show.  An artist showcase featuring recent works created at Disability Network’s Studio Be-* \nQuestions? Comments? Want a guided tour?  Contact Claire (claire@dnwml.org or 734-971-0277). \nFlyer: The Awesomest Show – Gallery Be – Flyer
URL:https://dnwml.org/event/the-awesomest-show/2026-02-17/
LOCATION:Washtenaw/Ann Arbor DNWML\, 3941 Research Park Dr\, Ann Arbor\, 48108\, United States
CATEGORIES:Art,Arts & Recreation
ORGANIZER;CN="Claire Moore":MAILTO:claire@dnwml.org
END:VEVENT
BEGIN:VEVENT
DTSTART;TZID=America/Detroit:20260218T090000
DTEND;TZID=America/Detroit:20260218T150000
DTSTAMP:20260419T142047
CREATED:20260305T202820Z
LAST-MODIFIED:20260305T202959Z
UID:10005496-1771405200-1771426800@dnwml.org
SUMMARY:The Awesomest Show
DESCRIPTION:DNWML Studio Be Artists presents…The Awesomest Show.  An artist showcase featuring recent works created at Disability Network’s Studio Be-* \nQuestions? Comments? Want a guided tour?  Contact Claire (claire@dnwml.org or 734-971-0277). \nFlyer: The Awesomest Show – Gallery Be – Flyer
URL:https://dnwml.org/event/the-awesomest-show-2/2026-02-18/
LOCATION:Washtenaw/Ann Arbor DNWML\, 3941 Research Park Dr\, Ann Arbor\, 48108\, United States
CATEGORIES:Art,Arts & Recreation
ORGANIZER;CN="Claire Moore":MAILTO:claire@dnwml.org
END:VEVENT
BEGIN:VEVENT
DTSTART;TZID=America/Detroit:20260218T100000
DTEND;TZID=America/Detroit:20260218T120000
DTSTAMP:20260419T142047
CREATED:20250521T151625Z
LAST-MODIFIED:20260317T194545Z
UID:10005201-1771408800-1771416000@dnwml.org
SUMMARY:Studio Be: Open Studio (in person)
DESCRIPTION:Studio Be: Open Studio (in person)\nMake art and learn about artists and new techniques in a relaxed social environment. Drop-in\, open studio style. Try a new material and experiment in the studio alongside your friends. \nTo receive weekly Art Programming email updates\, contact Claire! \nDownload and print the flyer: Art Program Brochure
URL:https://dnwml.org/event/studio-be-open-studio-in-person/2026-02-18/
LOCATION:Washtenaw/Ann Arbor DNWML\, 3941 Research Park Dr\, Ann Arbor\, 48108\, United States
CATEGORIES:Art,Arts & Recreation
ORGANIZER;CN="Claire Moore":MAILTO:claire@dnwml.org
END:VEVENT
BEGIN:VEVENT
DTSTART;TZID=America/Detroit:20260219T090000
DTEND;TZID=America/Detroit:20260219T150000
DTSTAMP:20260419T142047
CREATED:20260305T203030Z
LAST-MODIFIED:20260305T203030Z
UID:10005515-1771491600-1771513200@dnwml.org
SUMMARY:The Awesomest Show
DESCRIPTION:DNWML Studio Be Artists presents…The Awesomest Show.  An artist showcase featuring recent works created at Disability Network’s Studio Be-* \nQuestions? Comments? Want a guided tour?  Contact Claire (claire@dnwml.org or 734-971-0277). \nFlyer: The Awesomest Show – Gallery Be – Flyer
URL:https://dnwml.org/event/the-awesomest-show-3/2026-02-19/
LOCATION:Washtenaw/Ann Arbor DNWML\, 3941 Research Park Dr\, Ann Arbor\, 48108\, United States
CATEGORIES:Art,Arts & Recreation
ORGANIZER;CN="Claire Moore":MAILTO:claire@dnwml.org
END:VEVENT
BEGIN:VEVENT
DTSTART;TZID=America/Detroit:20260219T130000
DTEND;TZID=America/Detroit:20260219T150000
DTSTAMP:20260419T142047
CREATED:20250730T142705Z
LAST-MODIFIED:20260317T194616Z
UID:10005215-1771506000-1771513200@dnwml.org
SUMMARY:Studio Be: Guided Sessions (in person)
DESCRIPTION:Studio Be: Guided Sessions (in person)\nMake art (and friends!) and learn about artists and new techniques in a relaxed social environment. Rotating through different media\, we explore materials and processes in a guided manner. No previous experience is necessary. Materials provided. \nTo receive weekly Art Programming email updates\, contact Claire! \n\nDownload and print the flyer: Art Program Brochure
URL:https://dnwml.org/event/in-person-art-class-guided-sessions-4-2-2-2-2-2-2/2026-02-19/
LOCATION:Washtenaw/Ann Arbor DNWML\, 3941 Research Park Dr\, Ann Arbor\, 48108\, United States
CATEGORIES:Art,Arts & Recreation
ORGANIZER;CN="Claire Moore":MAILTO:claire@dnwml.org
END:VEVENT
BEGIN:VEVENT
DTSTART;TZID=America/Detroit:20260224T090000
DTEND;TZID=America/Detroit:20260224T150000
DTSTAMP:20260419T142047
CREATED:20260305T202743Z
LAST-MODIFIED:20260305T202909Z
UID:10005503-1771923600-1771945200@dnwml.org
SUMMARY:The Awesomest Show
DESCRIPTION:DNWML Studio Be Artists presents…The Awesomest Show.  An artist showcase featuring recent works created at Disability Network’s Studio Be-* \nQuestions? Comments? Want a guided tour?  Contact Claire (claire@dnwml.org or 734-971-0277). \nFlyer: The Awesomest Show – Gallery Be – Flyer
URL:https://dnwml.org/event/the-awesomest-show/2026-02-24/
LOCATION:Washtenaw/Ann Arbor DNWML\, 3941 Research Park Dr\, Ann Arbor\, 48108\, United States
CATEGORIES:Art,Arts & Recreation
ORGANIZER;CN="Claire Moore":MAILTO:claire@dnwml.org
END:VEVENT
BEGIN:VEVENT
DTSTART;TZID=America/Detroit:20260225T090000
DTEND;TZID=America/Detroit:20260225T150000
DTSTAMP:20260419T142047
CREATED:20260305T202820Z
LAST-MODIFIED:20260305T202959Z
UID:10005497-1772010000-1772031600@dnwml.org
SUMMARY:The Awesomest Show
DESCRIPTION:DNWML Studio Be Artists presents…The Awesomest Show.  An artist showcase featuring recent works created at Disability Network’s Studio Be-* \nQuestions? Comments? Want a guided tour?  Contact Claire (claire@dnwml.org or 734-971-0277). \nFlyer: The Awesomest Show – Gallery Be – Flyer
URL:https://dnwml.org/event/the-awesomest-show-2/2026-02-25/
LOCATION:Washtenaw/Ann Arbor DNWML\, 3941 Research Park Dr\, Ann Arbor\, 48108\, United States
CATEGORIES:Art,Arts & Recreation
ORGANIZER;CN="Claire Moore":MAILTO:claire@dnwml.org
END:VEVENT
BEGIN:VEVENT
DTSTART;TZID=America/Detroit:20260226T090000
DTEND;TZID=America/Detroit:20260226T150000
DTSTAMP:20260419T142047
CREATED:20260305T203030Z
LAST-MODIFIED:20260305T203030Z
UID:10005516-1772096400-1772118000@dnwml.org
SUMMARY:The Awesomest Show
DESCRIPTION:DNWML Studio Be Artists presents…The Awesomest Show.  An artist showcase featuring recent works created at Disability Network’s Studio Be-* \nQuestions? Comments? Want a guided tour?  Contact Claire (claire@dnwml.org or 734-971-0277). \nFlyer: The Awesomest Show – Gallery Be – Flyer
URL:https://dnwml.org/event/the-awesomest-show-3/2026-02-26/
LOCATION:Washtenaw/Ann Arbor DNWML\, 3941 Research Park Dr\, Ann Arbor\, 48108\, United States
CATEGORIES:Art,Arts & Recreation
ORGANIZER;CN="Claire Moore":MAILTO:claire@dnwml.org
END:VEVENT
END:VCALENDAR