BEGIN:VCALENDAR
VERSION:2.0
PRODID:-//Disability Network Washtenaw Monroe Livingston - ECPv6.15.20//NONSGML v1.0//EN
CALSCALE:GREGORIAN
METHOD:PUBLISH
X-ORIGINAL-URL:https://dnwml.org
X-WR-CALDESC:Events for Disability Network Washtenaw Monroe Livingston
REFRESH-INTERVAL;VALUE=DURATION:PT1H
X-Robots-Tag:noindex
X-PUBLISHED-TTL:PT1H
BEGIN:VTIMEZONE
TZID:America/Detroit
BEGIN:DAYLIGHT
TZOFFSETFROM:-0500
TZOFFSETTO:-0400
TZNAME:EDT
DTSTART:20240310T070000
END:DAYLIGHT
BEGIN:STANDARD
TZOFFSETFROM:-0400
TZOFFSETTO:-0500
TZNAME:EST
DTSTART:20241103T060000
END:STANDARD
BEGIN:DAYLIGHT
TZOFFSETFROM:-0500
TZOFFSETTO:-0400
TZNAME:EDT
DTSTART:20250309T070000
END:DAYLIGHT
BEGIN:STANDARD
TZOFFSETFROM:-0400
TZOFFSETTO:-0500
TZNAME:EST
DTSTART:20251102T060000
END:STANDARD
BEGIN:DAYLIGHT
TZOFFSETFROM:-0500
TZOFFSETTO:-0400
TZNAME:EDT
DTSTART:20260308T070000
END:DAYLIGHT
BEGIN:STANDARD
TZOFFSETFROM:-0400
TZOFFSETTO:-0500
TZNAME:EST
DTSTART:20261101T060000
END:STANDARD
END:VTIMEZONE
BEGIN:VEVENT
DTSTART;TZID=America/Detroit:20250213T093000
DTEND;TZID=America/Detroit:20250213T104500
DTSTAMP:20260420T010046
CREATED:20250213T201020Z
LAST-MODIFIED:20250213T205803Z
UID:10003999-1739439000-1739443500@dnwml.org
SUMMARY:DisScribe Writers Group
DESCRIPTION:DisScribe Writers Group\nHave you always wanted to be a writer?\nAre you hoping to improve your writing and editing skills?\nDo you need a buddy to keep you on track with your writing goals? \nOur open writing group is dedicated to supporting and empowering the creative writing efforts of individuals with disabilities. Whether you’re a seasoned writer or just starting out\, DisScribe offers a welcoming space for sharing ideas\, honing your craft\, and connecting with fellow writers. \nJoin us for inspiring workshops\, collaborative writing sessions\, and valuable feedback that celebrates diverse voices and stories. \nLet’s create together! \nDownload program flyer here:  DisScribe Flyer \nINFO\n9:30-10:45am\nvia Zoom \nStarting February 13 \nMarch Theme:  Writing for Publication!\n– March 13 & 20 \nApril Theme: Writing for Performance!\n– April 3 & 17 \nCONTACT/REGISTER\nWill – info below
URL:https://dnwml.org/event/disscribe-writers-group-3/2025-02-13/
LOCATION:Zoom\, Virtual
CATEGORIES:Art,Arts & Recreation
ORGANIZER;CN="Will Purves":MAILTO:william@dnwml.org
END:VEVENT
BEGIN:VEVENT
DTSTART;TZID=America/Detroit:20250213T110000
DTEND;TZID=America/Detroit:20250213T120000
DTSTAMP:20260420T010046
CREATED:20240515T172346Z
LAST-MODIFIED:20250303T155108Z
UID:10003757-1739444400-1739448000@dnwml.org
SUMMARY:Virtual Art Class
DESCRIPTION:Virtual Art Class\nThe Zoom version of our popular Art Class. Just as social\, fun\, and creative as the in-person option! Open studio style: share what you’re working on\, get feedback\, or just chat all things art (and beyond!) \nZoom link given upon contacting Claire. \nTo receive weekly Art Programming email updates\, contact Claire! \nDownload the program flyer here: Art Program Brochure
URL:https://dnwml.org/event/virtual-art-class/2025-02-13/
LOCATION:Zoom\, Virtual
CATEGORIES:Art,Arts & Recreation
ORGANIZER;CN="Claire Moore":MAILTO:claire@dnwml.org
END:VEVENT
BEGIN:VEVENT
DTSTART;TZID=America/Detroit:20250213T160000
DTEND;TZID=America/Detroit:20250213T170000
DTSTAMP:20260420T010046
CREATED:20250213T210248Z
LAST-MODIFIED:20250213T210345Z
UID:10003866-1739462400-1739466000@dnwml.org
SUMMARY:Movie Club
DESCRIPTION:Watch a movie\, then chat with folks! Join DNWML Movie Club! \nHow does it work? Each week\, watch a planned movie on your own time\, and then we get together virtually to talk about it and have some fun! It’s that easy! Movie club sessions include trivia\, thought-provoking questions\, and laughter. \nWeekly on Thursdays\n4:00-5:00pm\nZoom \nDate range: January 16 through April 17\, 2025\nProgram breaks: February 6\, February 20\, March 20\, April 3 \n  \nMovie List:\nJanuary 16 – Bad Boys\nJanuary 23 – Bad Boys II\nJanuary 30 – Bad Boys for Life\nFebruary 6 – Program Break\nFebruary 13 –  Bad Boys Ride or Die\nFebruary 20 – Program Break\nFebruary 27 – The Karate Kid III\nMarch 6 – Barbie\nMarch 13 – Bad Boys for Life\nMarch 20 – Program Break\nMarch 27 – (TBD)\nApril 3 – Program Break\nApril 10 – (TBD)\nApril 17 – (TBD)
URL:https://dnwml.org/event/movie-club-2-2/2025-02-13/
LOCATION:Zoom\, Virtual
CATEGORIES:Arts & Recreation,Entertainment
ORGANIZER;CN="Anna Dusbiber":MAILTO:anna@dnwml.org
END:VEVENT
END:VCALENDAR