BEGIN:VCALENDAR
VERSION:2.0
PRODID:-//Disability Network Washtenaw Monroe Livingston - ECPv6.15.20//NONSGML v1.0//EN
CALSCALE:GREGORIAN
METHOD:PUBLISH
X-WR-CALNAME:Disability Network Washtenaw Monroe Livingston
X-ORIGINAL-URL:https://dnwml.org
X-WR-CALDESC:Events for Disability Network Washtenaw Monroe Livingston
REFRESH-INTERVAL;VALUE=DURATION:PT1H
X-Robots-Tag:noindex
X-PUBLISHED-TTL:PT1H
BEGIN:VTIMEZONE
TZID:America/Detroit
BEGIN:DAYLIGHT
TZOFFSETFROM:-0500
TZOFFSETTO:-0400
TZNAME:EDT
DTSTART:20240310T070000
END:DAYLIGHT
BEGIN:STANDARD
TZOFFSETFROM:-0400
TZOFFSETTO:-0500
TZNAME:EST
DTSTART:20241103T060000
END:STANDARD
BEGIN:DAYLIGHT
TZOFFSETFROM:-0500
TZOFFSETTO:-0400
TZNAME:EDT
DTSTART:20250309T070000
END:DAYLIGHT
BEGIN:STANDARD
TZOFFSETFROM:-0400
TZOFFSETTO:-0500
TZNAME:EST
DTSTART:20251102T060000
END:STANDARD
BEGIN:DAYLIGHT
TZOFFSETFROM:-0500
TZOFFSETTO:-0400
TZNAME:EDT
DTSTART:20260308T070000
END:DAYLIGHT
BEGIN:STANDARD
TZOFFSETFROM:-0400
TZOFFSETTO:-0500
TZNAME:EST
DTSTART:20261101T060000
END:STANDARD
END:VTIMEZONE
BEGIN:VEVENT
DTSTART;TZID=America/Detroit:20250312T090000
DTEND;TZID=America/Detroit:20250312T210000
DTSTAMP:20260419T075627
CREATED:20250213T214453Z
LAST-MODIFIED:20250213T214453Z
UID:10004032-1741770000-1741813200@dnwml.org
SUMMARY:THRIVE - Group Art Exhibition
DESCRIPTION:Depicting their lived experiences in a variety of media\, artists exploring cycles of dormancy and snagging thorns alongside seasons of flourishing and exponential growth.  Studio artists from Disability Network Washtenaw Monroe Livingston’s Arts Program\, together with DNWML staff and board members\, reveal their unique disability journeys through a collaborative group showcase. \nUsing nature-based symbolism\, artists share works depicting their disability experiences. \nExhibition Runs Saturday March 1 to Friday March 28 at the Superior Branch Ypsilanti District Library \nReception Vernal Equinox Thursday March 20 at 6pm
URL:https://dnwml.org/event/thrive-group-art-exhibition-4/2025-03-12/
LOCATION:Superior Branch Ypsilanti District Library\, 1900 Harris Rd.\, Superior Township\, MI\, 48198\, United States
CATEGORIES:Art,Arts & Recreation
ORGANIZER;CN="Claire Moore":MAILTO:claire@dnwml.org
END:VEVENT
BEGIN:VEVENT
DTSTART;TZID=America/Detroit:20250312T100000
DTEND;TZID=America/Detroit:20250312T120000
DTSTAMP:20260419T075627
CREATED:20250121T153307Z
LAST-MODIFIED:20250303T153847Z
UID:10002812-1741773600-1741780800@dnwml.org
SUMMARY:In-person Art Class: Open Studio
DESCRIPTION:In-person Art Class: Open Studio\nMake art and learn about artists and new techniques in a relaxed social environment. Drop-in\, open studio style. Try a new material and experiment in the studio alongside your friends. \nTo receive weekly Art Programming email updates\, contact Claire! \nDownload and print the flyer: Art Program Brochure
URL:https://dnwml.org/event/in-person-art-class-open-studio-5-2-2-2-2/2025-03-12/
LOCATION:Washtenaw/Ann Arbor DNWML\, 3941 Research Park Dr\, Ann Arbor\, 48108\, United States
CATEGORIES:Art,Arts & Recreation
ORGANIZER;CN="Claire Moore":MAILTO:claire@dnwml.org
END:VEVENT
BEGIN:VEVENT
DTSTART;TZID=America/Detroit:20250312T130000
DTEND;TZID=America/Detroit:20250312T140000
DTSTAMP:20260419T075627
CREATED:20250113T153929Z
LAST-MODIFIED:20250113T153929Z
UID:10003862-1741784400-1741788000@dnwml.org
SUMMARY:ASL Virtual Theatre Workshop
DESCRIPTION:Join us for a special 6-week Zoom workshop costarring DNWML’s Theatre Be and Disability Network Eastern Michigan’s (DNEM) ASL Program! \nLearn beginner & conversational American Sign Language (ASL) through the medium of theatrical expression and performance. \nAll experience levels welcome! \nRegistration required.   NOT A DROP-IN CLASS: registrants sign up to attend all 6 dates. \nRegister now – see website below. \nSpots are limited.
URL:https://dnwml.org/event/asl-virtual-theatre-workshop-2/2025-03-12/
LOCATION:Zoom\, Virtual
CATEGORIES:Arts & Recreation
ORGANIZER;CN="Robin Bennett":MAILTO:robin@dnwml.org
END:VEVENT
END:VCALENDAR