BEGIN:VCALENDAR
VERSION:2.0
PRODID:-//Disability Network Washtenaw Monroe Livingston - ECPv6.15.20//NONSGML v1.0//EN
CALSCALE:GREGORIAN
METHOD:PUBLISH
X-WR-CALNAME:Disability Network Washtenaw Monroe Livingston
X-ORIGINAL-URL:https://dnwml.org
X-WR-CALDESC:Events for Disability Network Washtenaw Monroe Livingston
REFRESH-INTERVAL;VALUE=DURATION:PT1H
X-Robots-Tag:noindex
X-PUBLISHED-TTL:PT1H
BEGIN:VTIMEZONE
TZID:America/Detroit
BEGIN:DAYLIGHT
TZOFFSETFROM:-0500
TZOFFSETTO:-0400
TZNAME:EDT
DTSTART:20240310T070000
END:DAYLIGHT
BEGIN:STANDARD
TZOFFSETFROM:-0400
TZOFFSETTO:-0500
TZNAME:EST
DTSTART:20241103T060000
END:STANDARD
BEGIN:DAYLIGHT
TZOFFSETFROM:-0500
TZOFFSETTO:-0400
TZNAME:EDT
DTSTART:20250309T070000
END:DAYLIGHT
BEGIN:STANDARD
TZOFFSETFROM:-0400
TZOFFSETTO:-0500
TZNAME:EST
DTSTART:20251102T060000
END:STANDARD
BEGIN:DAYLIGHT
TZOFFSETFROM:-0500
TZOFFSETTO:-0400
TZNAME:EDT
DTSTART:20260308T070000
END:DAYLIGHT
BEGIN:STANDARD
TZOFFSETFROM:-0400
TZOFFSETTO:-0500
TZNAME:EST
DTSTART:20261101T060000
END:STANDARD
END:VTIMEZONE
BEGIN:VEVENT
DTSTART;TZID=America/Detroit:20250417T090000
DTEND;TZID=America/Detroit:20250417T160000
DTSTAMP:20260420T070225
CREATED:20250217T194335Z
LAST-MODIFIED:20250401T192553Z
UID:10004074-1744880400-1744905600@dnwml.org
SUMMARY:Waiting To Be Seen - Solo Art Exhibition:  Gwynneth Vanlaven
DESCRIPTION:A solo art exhibition reception\, showcasing stunning installation\, photography\, and interactive works by artist\, Gwynneth Vanlaven\, offering a glimpse into their creative journey. \nMarch 17 to April 25\, 9am to 4pm Tuesday through Thursday in Gallery BE at the DN Washtenaw Office. \nReception: April 10\, 6pm to 8pm \nFlyer: Waiting to be Seen
URL:https://dnwml.org/event/waiting-to-be-seen-solo-art-exhibition-gwynneth-vanlaven/2025-04-17/
LOCATION:Washtenaw/Ann Arbor DNWML\, 3941 Research Park Dr\, Ann Arbor\, 48108\, United States
CATEGORIES:Art,Arts & Recreation
ORGANIZER;CN="Claire Moore":MAILTO:claire@dnwml.org
END:VEVENT
BEGIN:VEVENT
DTSTART;TZID=America/Detroit:20250417T093000
DTEND;TZID=America/Detroit:20250417T104500
DTSTAMP:20260420T070225
CREATED:20250213T201020Z
LAST-MODIFIED:20250213T205803Z
UID:10004005-1744882200-1744886700@dnwml.org
SUMMARY:DisScribe Writers Group
DESCRIPTION:DisScribe Writers Group\nHave you always wanted to be a writer?\nAre you hoping to improve your writing and editing skills?\nDo you need a buddy to keep you on track with your writing goals? \nOur open writing group is dedicated to supporting and empowering the creative writing efforts of individuals with disabilities. Whether you’re a seasoned writer or just starting out\, DisScribe offers a welcoming space for sharing ideas\, honing your craft\, and connecting with fellow writers. \nJoin us for inspiring workshops\, collaborative writing sessions\, and valuable feedback that celebrates diverse voices and stories. \nLet’s create together! \nDownload program flyer here:  DisScribe Flyer \nINFO\n9:30-10:45am\nvia Zoom \nStarting February 13 \nMarch Theme:  Writing for Publication!\n– March 13 & 20 \nApril Theme: Writing for Performance!\n– April 3 & 17 \nCONTACT/REGISTER\nWill – info below
URL:https://dnwml.org/event/disscribe-writers-group-3/2025-04-17/
LOCATION:Zoom\, Virtual
CATEGORIES:Art,Arts & Recreation
ORGANIZER;CN="Will Purves":MAILTO:william@dnwml.org
END:VEVENT
END:VCALENDAR