BEGIN:VCALENDAR
VERSION:2.0
PRODID:-//Disability Network Washtenaw Monroe Livingston - ECPv6.15.20//NONSGML v1.0//EN
CALSCALE:GREGORIAN
METHOD:PUBLISH
X-ORIGINAL-URL:https://dnwml.org
X-WR-CALDESC:Events for Disability Network Washtenaw Monroe Livingston
REFRESH-INTERVAL;VALUE=DURATION:PT1H
X-Robots-Tag:noindex
X-PUBLISHED-TTL:PT1H
BEGIN:VTIMEZONE
TZID:America/Detroit
BEGIN:DAYLIGHT
TZOFFSETFROM:-0500
TZOFFSETTO:-0400
TZNAME:EDT
DTSTART:20240310T070000
END:DAYLIGHT
BEGIN:STANDARD
TZOFFSETFROM:-0400
TZOFFSETTO:-0500
TZNAME:EST
DTSTART:20241103T060000
END:STANDARD
BEGIN:DAYLIGHT
TZOFFSETFROM:-0500
TZOFFSETTO:-0400
TZNAME:EDT
DTSTART:20250309T070000
END:DAYLIGHT
BEGIN:STANDARD
TZOFFSETFROM:-0400
TZOFFSETTO:-0500
TZNAME:EST
DTSTART:20251102T060000
END:STANDARD
BEGIN:DAYLIGHT
TZOFFSETFROM:-0500
TZOFFSETTO:-0400
TZNAME:EDT
DTSTART:20260308T070000
END:DAYLIGHT
BEGIN:STANDARD
TZOFFSETFROM:-0400
TZOFFSETTO:-0500
TZNAME:EST
DTSTART:20261101T060000
END:STANDARD
END:VTIMEZONE
BEGIN:VEVENT
DTSTART;TZID=America/Detroit:20250424T090000
DTEND;TZID=America/Detroit:20250424T160000
DTSTAMP:20260420T143114
CREATED:20250217T194335Z
LAST-MODIFIED:20250401T192553Z
UID:10004078-1745485200-1745510400@dnwml.org
SUMMARY:Waiting To Be Seen - Solo Art Exhibition:  Gwynneth Vanlaven
DESCRIPTION:A solo art exhibition reception\, showcasing stunning installation\, photography\, and interactive works by artist\, Gwynneth Vanlaven\, offering a glimpse into their creative journey. \nMarch 17 to April 25\, 9am to 4pm Tuesday through Thursday in Gallery BE at the DN Washtenaw Office. \nReception: April 10\, 6pm to 8pm \nFlyer: Waiting to be Seen
URL:https://dnwml.org/event/waiting-to-be-seen-solo-art-exhibition-gwynneth-vanlaven/2025-04-24/
LOCATION:Washtenaw/Ann Arbor DNWML\, 3941 Research Park Dr\, Ann Arbor\, 48108\, United States
CATEGORIES:Art,Arts & Recreation
ORGANIZER;CN="Claire Moore":MAILTO:claire@dnwml.org
END:VEVENT
BEGIN:VEVENT
DTSTART;TZID=America/Detroit:20250424T100000
DTEND;TZID=America/Detroit:20250424T160000
DTSTAMP:20260420T143114
CREATED:20250407T143545Z
LAST-MODIFIED:20250407T144401Z
UID:10004210-1745488800-1745510400@dnwml.org
SUMMARY:Nothing About Us Without Us Virtual Film Festival
DESCRIPTION:All films presented feature a disability theme and reflect the values of the Independent Living Movement.  The festival will conclude Thursday afternoon with a conversation on the films shown.  Sign up for as many events as you like.  All events are free and open to the public. \nRegister online at https://bit.ly/25dnff or by contacting Eliot Carter (see contact info below) \nThursday’s Theme: Resilience \n\nLove After War: Saving Love\, Saving Lives 10:00 AM to 12:00 PM\n\nLove After War delves deep into the intimate lives of injured veterans and their romantic partners. It is a story of coming home and sexual healing. The accounts illustrate how each faces the challenges of disability and musters up the courage beyond what was needed for war to restore connection.\n\n\nDefiant Lives 1:00 to 3:00 PM\n\nDefiant Lives introduces the world to the most impressive activists you’ve never heard of and tells the story of the rise and fight of the disability rights movement in the United States\, Britain and Australia.\nContent note: Offensive language\, institutional abuse and neglect\, and violence toward people with disabilities\n\n\nFilm Festival Wrap-Up Discussion 3:00 to 4:00 PM\n\nA group-led discussion about the films we have watched over the past two days and how people with disabilities use the arts and creativity to affect social change.\n\n\n\nThis event is a collaboration of Disability Network Southwest Michigan and Disability Network Washtenaw Monroe Livingston. \nFlyer: Film Festival Flyer 2025
URL:https://dnwml.org/event/nothing-about-us-without-out-us-film-festival/
LOCATION:Zoom\, Virtual
CATEGORIES:Arts & Recreation,Entertainment
ORGANIZER;CN="Eliot Carter":MAILTO:eliot@dnwml.org
END:VEVENT
BEGIN:VEVENT
DTSTART;TZID=America/Detroit:20250424T130000
DTEND;TZID=America/Detroit:20250424T150000
DTSTAMP:20260420T143114
CREATED:20250410T174025Z
LAST-MODIFIED:20250424T131932Z
UID:10002749-1745499600-1745506800@dnwml.org
SUMMARY:Studio Be: Guided Sessions (in person)
DESCRIPTION:Studio Be: Guided Sessions (in person)\nMake art (and friends!) and learn about artists and new techniques in a relaxed social environment. Rotating through different media\, we explore materials and processes in a guided manner. No previous experience is necessary. Materials provided. \nTo receive weekly Art Programming email updates\, contact Claire! \n\nDownload and print the flyer: Art Program Brochure
URL:https://dnwml.org/event/in-person-art-class-guided-sessions-4-2-2-2-2-2/
LOCATION:Washtenaw/Ann Arbor DNWML\, 3941 Research Park Dr\, Ann Arbor\, 48108\, United States
CATEGORIES:Art,Arts & Recreation
ORGANIZER;CN="Claire Moore":MAILTO:claire@dnwml.org
END:VEVENT
END:VCALENDAR