BEGIN:VCALENDAR
VERSION:2.0
PRODID:-//Disability Network Washtenaw Monroe Livingston - ECPv6.15.20//NONSGML v1.0//EN
CALSCALE:GREGORIAN
METHOD:PUBLISH
X-WR-CALNAME:Disability Network Washtenaw Monroe Livingston
X-ORIGINAL-URL:https://dnwml.org
X-WR-CALDESC:Events for Disability Network Washtenaw Monroe Livingston
REFRESH-INTERVAL;VALUE=DURATION:PT1H
X-Robots-Tag:noindex
X-PUBLISHED-TTL:PT1H
BEGIN:VTIMEZONE
TZID:America/Detroit
BEGIN:DAYLIGHT
TZOFFSETFROM:-0500
TZOFFSETTO:-0400
TZNAME:EDT
DTSTART:20220313T070000
END:DAYLIGHT
BEGIN:STANDARD
TZOFFSETFROM:-0400
TZOFFSETTO:-0500
TZNAME:EST
DTSTART:20221106T060000
END:STANDARD
BEGIN:DAYLIGHT
TZOFFSETFROM:-0500
TZOFFSETTO:-0400
TZNAME:EDT
DTSTART:20230312T070000
END:DAYLIGHT
BEGIN:STANDARD
TZOFFSETFROM:-0400
TZOFFSETTO:-0500
TZNAME:EST
DTSTART:20231105T060000
END:STANDARD
BEGIN:DAYLIGHT
TZOFFSETFROM:-0500
TZOFFSETTO:-0400
TZNAME:EDT
DTSTART:20240310T070000
END:DAYLIGHT
BEGIN:STANDARD
TZOFFSETFROM:-0400
TZOFFSETTO:-0500
TZNAME:EST
DTSTART:20241103T060000
END:STANDARD
END:VTIMEZONE
BEGIN:VEVENT
DTSTART;TZID=America/Detroit:20230927T100000
DTEND;TZID=America/Detroit:20230927T120000
DTSTAMP:20260420T124332
CREATED:20230811T143935Z
LAST-MODIFIED:20231206T150805Z
UID:10001745-1695808800-1695816000@dnwml.org
SUMMARY:In-person Art Class: Open Studio
DESCRIPTION:In-person Art Class\nMake art and learn about artists and new techniques in a relaxed social environment. Rotating through different media\, we explore materials and techniques in a guided manner. No previous experience is necessary. Materials provided. \nTo receive weekly Art Programming email updates\, contact Claire.
URL:https://dnwml.org/event/in-person-art-class-open-studio-4/2023-09-27/
LOCATION:Washtenaw/Ann Arbor DNWML\, 3941 Research Park Dr\, Ann Arbor\, 48108\, United States
CATEGORIES:Art,Arts & Recreation
ORGANIZER;CN="Claire Moore":MAILTO:claire@dnwml.org
END:VEVENT
BEGIN:VEVENT
DTSTART;TZID=America/Detroit:20230926T083000
DTEND;TZID=America/Detroit:20230926T090000
DTSTAMP:20260420T124332
CREATED:20231222T174253Z
LAST-MODIFIED:20231222T174407Z
UID:10002318-1695717000-1695718800@dnwml.org
SUMMARY:Virtual Art Class: Open Studio
DESCRIPTION:Virtual Art Class: Open Studio\nStop by the “studio” and work on your art in a relaxed\, social atmosphere. Enjoy making progress on your own individual projects while chatting with friends or getting feedback on your work. Although there are no set instructions for either open studio session\, feel free to bring a question to class or ask for support while we’re all making art alongside each other. \nTo receive weekly Art Programming email updates\, contact Claire.
URL:https://dnwml.org/event/virtual-art-class-open-studio-7/2023-09-26/
LOCATION:Zoom\, Virtual
CATEGORIES:Art,Arts & Recreation
ORGANIZER;CN="Claire Moore":MAILTO:claire@dnwml.org
END:VEVENT
BEGIN:VEVENT
DTSTART;TZID=America/Detroit:20230925T133000
DTEND;TZID=America/Detroit:20230925T153000
DTSTAMP:20260420T124332
CREATED:20230811T144232Z
LAST-MODIFIED:20231222T140052Z
UID:10001676-1695648600-1695655800@dnwml.org
SUMMARY:In-person Art Class: Guided Sessions
DESCRIPTION:In-person Art Class\nMake art and learn about artists and new techniques in a relaxed social environment. Rotating through different media\, we explore materials and techniques in a guided manner. No previous experience is necessary. Materials provided. \nTo receive weekly Art Programming email updates\, contact Claire.
URL:https://dnwml.org/event/in-person-art-class-guided-sessions-4/2023-09-25/
LOCATION:Washtenaw/Ann Arbor DNWML\, 3941 Research Park Dr\, Ann Arbor\, 48108\, United States
CATEGORIES:Art,Arts & Recreation
ORGANIZER;CN="Claire Moore":MAILTO:claire@dnwml.org
END:VEVENT
BEGIN:VEVENT
DTSTART;TZID=America/Detroit:20230922T130000
DTEND;TZID=America/Detroit:20230922T150000
DTSTAMP:20260420T124332
CREATED:20230922T164946Z
LAST-MODIFIED:20230922T164958Z
UID:10001846-1695387600-1695394800@dnwml.org
SUMMARY:Tech Teach-Out
DESCRIPTION:Tech Teach-Outs \nAre you feeling lost in the\nWorld Wide Web?\nNeed to brush up on today’s most important technology skills? \nOur 21st Century Assistive Technology Program presents Tech Teach-Outs: a beginner-friendly space designed to prepare all learners to use the latest technology with confidence! Seniors and people with disabilities are encouraged to attend. \nWe’ll be going over topics like… \n\nSmartphone and tablet basics\nUnderstanding telehealth\nStaying safe on the internet\n…and more!\n\nSCHEDULE \n\nThe PWD/Senior’s Guide to the Internet\nFriday\, September 22\n1:00 – 3:00pm\nDisability Network Ann Arbor/Washtenaw Office\nTechnology Based Scam Prevention\nTuesday\, October 4\n11:45am – 12:30pm\nMonroe County Opportunity Program\nAndroid Tablet and Smartphone Basics\nFriday\, October 20\n1:00pm – 3:00pm\nDisability Network Ann Arbor/Washtenaw Office
URL:https://dnwml.org/event/7059/2023-09-22/
LOCATION:Washtenaw/Ann Arbor DNWML\, 3941 Research Park Dr\, Ann Arbor\, 48108\, United States
CATEGORIES:Career Services,General Support,Independent Living Skills,Information & Resources
ORGANIZER;CN="Eliot Carter":MAILTO:eliot@dnwml.org
END:VEVENT
BEGIN:VEVENT
DTSTART;TZID=America/Detroit:20230920T113000
DTEND;TZID=America/Detroit:20230920T153000
DTSTAMP:20260420T124332
CREATED:20230503T190621Z
LAST-MODIFIED:20231130T185155Z
UID:10002078-1695209400-1695223800@dnwml.org
SUMMARY:Monroe: Drop-in Computer Lab Hours
DESCRIPTION:Drop-in access\, support\, and/or help at the Monroe Office.
URL:https://dnwml.org/event/drop-in-computer-lab-hours/2023-09-20/
LOCATION:Monroe DNWML\, 1070 S. Telegraph Rd.\, Monroe\, MI\, 48161\, United States
CATEGORIES:General Support,Information & Resources
ORGANIZER;CN="Josh Nocella":MAILTO:josh@dnwml.org
END:VEVENT
BEGIN:VEVENT
DTSTART;TZID=America/Detroit:20230920T100000
DTEND;TZID=America/Detroit:20230920T120000
DTSTAMP:20260420T124332
CREATED:20230811T143935Z
LAST-MODIFIED:20231206T150805Z
UID:10001744-1695204000-1695211200@dnwml.org
SUMMARY:In-person Art Class: Open Studio
DESCRIPTION:In-person Art Class\nMake art and learn about artists and new techniques in a relaxed social environment. Rotating through different media\, we explore materials and techniques in a guided manner. No previous experience is necessary. Materials provided. \nTo receive weekly Art Programming email updates\, contact Claire.
URL:https://dnwml.org/event/in-person-art-class-open-studio-4/2023-09-20/
LOCATION:Washtenaw/Ann Arbor DNWML\, 3941 Research Park Dr\, Ann Arbor\, 48108\, United States
CATEGORIES:Art,Arts & Recreation
ORGANIZER;CN="Claire Moore":MAILTO:claire@dnwml.org
END:VEVENT
BEGIN:VEVENT
DTSTART;TZID=America/Detroit:20230919T083000
DTEND;TZID=America/Detroit:20230919T090000
DTSTAMP:20260420T124332
CREATED:20231222T174253Z
LAST-MODIFIED:20231222T174407Z
UID:10002317-1695112200-1695114000@dnwml.org
SUMMARY:Virtual Art Class: Open Studio
DESCRIPTION:Virtual Art Class: Open Studio\nStop by the “studio” and work on your art in a relaxed\, social atmosphere. Enjoy making progress on your own individual projects while chatting with friends or getting feedback on your work. Although there are no set instructions for either open studio session\, feel free to bring a question to class or ask for support while we’re all making art alongside each other. \nTo receive weekly Art Programming email updates\, contact Claire.
URL:https://dnwml.org/event/virtual-art-class-open-studio-7/2023-09-19/
LOCATION:Zoom\, Virtual
CATEGORIES:Art,Arts & Recreation
ORGANIZER;CN="Claire Moore":MAILTO:claire@dnwml.org
END:VEVENT
BEGIN:VEVENT
DTSTART;TZID=America/Detroit:20230918T133000
DTEND;TZID=America/Detroit:20230918T153000
DTSTAMP:20260420T124332
CREATED:20230811T144232Z
LAST-MODIFIED:20231222T140052Z
UID:10001675-1695043800-1695051000@dnwml.org
SUMMARY:In-person Art Class: Guided Sessions
DESCRIPTION:In-person Art Class\nMake art and learn about artists and new techniques in a relaxed social environment. Rotating through different media\, we explore materials and techniques in a guided manner. No previous experience is necessary. Materials provided. \nTo receive weekly Art Programming email updates\, contact Claire.
URL:https://dnwml.org/event/in-person-art-class-guided-sessions-4/2023-09-18/
LOCATION:Washtenaw/Ann Arbor DNWML\, 3941 Research Park Dr\, Ann Arbor\, 48108\, United States
CATEGORIES:Art,Arts & Recreation
ORGANIZER;CN="Claire Moore":MAILTO:claire@dnwml.org
END:VEVENT
BEGIN:VEVENT
DTSTART;TZID=America/Detroit:20230914T130000
DTEND;TZID=America/Detroit:20230914T140000
DTSTAMP:20260420T124332
CREATED:20230503T193656Z
LAST-MODIFIED:20230531T142941Z
UID:10001445-1694696400-1694700000@dnwml.org
SUMMARY:Delishability Cooking Class
DESCRIPTION:All ages and abilities. This particular cooking class will focus on developing a variety of cooking skills and applying them to specific recipes. Classes will take place at our Ann Arbor location. \nRegister by June 15th \nClass fee: $5.00 per session to cover supplies \n\n7/13\n7/20\n7/27\n8/3\n8/10\n8/17\n8/24\n9/7\n9/14\n9/21
URL:https://dnwml.org/event/delishability-cooking-class/2023-09-14/
LOCATION:Washtenaw/Ann Arbor DNWML\, 3941 Research Park Dr\, Ann Arbor\, 48108\, United States
CATEGORIES:General Support,Independent Living Skills,Information & Resources
ORGANIZER;CN="Krystina Johnson":MAILTO:krystina@dnwml.org
END:VEVENT
BEGIN:VEVENT
DTSTART;TZID=America/Detroit:20230913T113000
DTEND;TZID=America/Detroit:20230913T153000
DTSTAMP:20260420T124332
CREATED:20230503T190621Z
LAST-MODIFIED:20231130T185155Z
UID:10002077-1694604600-1694619000@dnwml.org
SUMMARY:Monroe: Drop-in Computer Lab Hours
DESCRIPTION:Drop-in access\, support\, and/or help at the Monroe Office.
URL:https://dnwml.org/event/drop-in-computer-lab-hours/2023-09-13/
LOCATION:Monroe DNWML\, 1070 S. Telegraph Rd.\, Monroe\, MI\, 48161\, United States
CATEGORIES:General Support,Information & Resources
ORGANIZER;CN="Josh Nocella":MAILTO:josh@dnwml.org
END:VEVENT
BEGIN:VEVENT
DTSTART;TZID=America/Detroit:20230913T100000
DTEND;TZID=America/Detroit:20230913T120000
DTSTAMP:20260420T124332
CREATED:20230811T143935Z
LAST-MODIFIED:20231206T150805Z
UID:10001743-1694599200-1694606400@dnwml.org
SUMMARY:In-person Art Class: Open Studio
DESCRIPTION:In-person Art Class\nMake art and learn about artists and new techniques in a relaxed social environment. Rotating through different media\, we explore materials and techniques in a guided manner. No previous experience is necessary. Materials provided. \nTo receive weekly Art Programming email updates\, contact Claire.
URL:https://dnwml.org/event/in-person-art-class-open-studio-4/2023-09-13/
LOCATION:Washtenaw/Ann Arbor DNWML\, 3941 Research Park Dr\, Ann Arbor\, 48108\, United States
CATEGORIES:Art,Arts & Recreation
ORGANIZER;CN="Claire Moore":MAILTO:claire@dnwml.org
END:VEVENT
BEGIN:VEVENT
DTSTART;TZID=America/Detroit:20230912T083000
DTEND;TZID=America/Detroit:20230912T090000
DTSTAMP:20260420T124332
CREATED:20231222T174253Z
LAST-MODIFIED:20231222T174407Z
UID:10002316-1694507400-1694509200@dnwml.org
SUMMARY:Virtual Art Class: Open Studio
DESCRIPTION:Virtual Art Class: Open Studio\nStop by the “studio” and work on your art in a relaxed\, social atmosphere. Enjoy making progress on your own individual projects while chatting with friends or getting feedback on your work. Although there are no set instructions for either open studio session\, feel free to bring a question to class or ask for support while we’re all making art alongside each other. \nTo receive weekly Art Programming email updates\, contact Claire.
URL:https://dnwml.org/event/virtual-art-class-open-studio-7/2023-09-12/
LOCATION:Zoom\, Virtual
CATEGORIES:Art,Arts & Recreation
ORGANIZER;CN="Claire Moore":MAILTO:claire@dnwml.org
END:VEVENT
BEGIN:VEVENT
DTSTART;TZID=America/Detroit:20230911T133000
DTEND;TZID=America/Detroit:20230911T153000
DTSTAMP:20260420T124332
CREATED:20230811T144232Z
LAST-MODIFIED:20231222T140052Z
UID:10001674-1694439000-1694446200@dnwml.org
SUMMARY:In-person Art Class: Guided Sessions
DESCRIPTION:In-person Art Class\nMake art and learn about artists and new techniques in a relaxed social environment. Rotating through different media\, we explore materials and techniques in a guided manner. No previous experience is necessary. Materials provided. \nTo receive weekly Art Programming email updates\, contact Claire.
URL:https://dnwml.org/event/in-person-art-class-guided-sessions-4/2023-09-11/
LOCATION:Washtenaw/Ann Arbor DNWML\, 3941 Research Park Dr\, Ann Arbor\, 48108\, United States
CATEGORIES:Art,Arts & Recreation
ORGANIZER;CN="Claire Moore":MAILTO:claire@dnwml.org
END:VEVENT
BEGIN:VEVENT
DTSTART;TZID=America/Detroit:20230907T130000
DTEND;TZID=America/Detroit:20230907T140000
DTSTAMP:20260420T124332
CREATED:20230503T193656Z
LAST-MODIFIED:20230531T142941Z
UID:10001444-1694091600-1694095200@dnwml.org
SUMMARY:Delishability Cooking Class
DESCRIPTION:All ages and abilities. This particular cooking class will focus on developing a variety of cooking skills and applying them to specific recipes. Classes will take place at our Ann Arbor location. \nRegister by June 15th \nClass fee: $5.00 per session to cover supplies \n\n7/13\n7/20\n7/27\n8/3\n8/10\n8/17\n8/24\n9/7\n9/14\n9/21
URL:https://dnwml.org/event/delishability-cooking-class/2023-09-07/
LOCATION:Washtenaw/Ann Arbor DNWML\, 3941 Research Park Dr\, Ann Arbor\, 48108\, United States
CATEGORIES:General Support,Independent Living Skills,Information & Resources
ORGANIZER;CN="Krystina Johnson":MAILTO:krystina@dnwml.org
END:VEVENT
BEGIN:VEVENT
DTSTART;TZID=America/Detroit:20230906T113000
DTEND;TZID=America/Detroit:20230906T153000
DTSTAMP:20260420T124332
CREATED:20230503T190621Z
LAST-MODIFIED:20231130T185155Z
UID:10002076-1693999800-1694014200@dnwml.org
SUMMARY:Monroe: Drop-in Computer Lab Hours
DESCRIPTION:Drop-in access\, support\, and/or help at the Monroe Office.
URL:https://dnwml.org/event/drop-in-computer-lab-hours/2023-09-06/
LOCATION:Monroe DNWML\, 1070 S. Telegraph Rd.\, Monroe\, MI\, 48161\, United States
CATEGORIES:General Support,Information & Resources
ORGANIZER;CN="Josh Nocella":MAILTO:josh@dnwml.org
END:VEVENT
BEGIN:VEVENT
DTSTART;TZID=America/Detroit:20230905T083000
DTEND;TZID=America/Detroit:20230905T090000
DTSTAMP:20260420T124332
CREATED:20231222T174253Z
LAST-MODIFIED:20231222T174407Z
UID:10002315-1693902600-1693904400@dnwml.org
SUMMARY:Virtual Art Class: Open Studio
DESCRIPTION:Virtual Art Class: Open Studio\nStop by the “studio” and work on your art in a relaxed\, social atmosphere. Enjoy making progress on your own individual projects while chatting with friends or getting feedback on your work. Although there are no set instructions for either open studio session\, feel free to bring a question to class or ask for support while we’re all making art alongside each other. \nTo receive weekly Art Programming email updates\, contact Claire.
URL:https://dnwml.org/event/virtual-art-class-open-studio-7/2023-09-05/
LOCATION:Zoom\, Virtual
CATEGORIES:Art,Arts & Recreation
ORGANIZER;CN="Claire Moore":MAILTO:claire@dnwml.org
END:VEVENT
BEGIN:VEVENT
DTSTART;TZID=America/Detroit:20230830T113000
DTEND;TZID=America/Detroit:20230830T153000
DTSTAMP:20260420T124332
CREATED:20230503T190621Z
LAST-MODIFIED:20231130T185155Z
UID:10002075-1693395000-1693409400@dnwml.org
SUMMARY:Monroe: Drop-in Computer Lab Hours
DESCRIPTION:Drop-in access\, support\, and/or help at the Monroe Office.
URL:https://dnwml.org/event/drop-in-computer-lab-hours/2023-08-30/
LOCATION:Monroe DNWML\, 1070 S. Telegraph Rd.\, Monroe\, MI\, 48161\, United States
CATEGORIES:General Support,Information & Resources
ORGANIZER;CN="Josh Nocella":MAILTO:josh@dnwml.org
END:VEVENT
BEGIN:VEVENT
DTSTART;TZID=America/Detroit:20230829T083000
DTEND;TZID=America/Detroit:20230829T090000
DTSTAMP:20260420T124332
CREATED:20231222T174253Z
LAST-MODIFIED:20231222T174407Z
UID:10002314-1693297800-1693299600@dnwml.org
SUMMARY:Virtual Art Class: Open Studio
DESCRIPTION:Virtual Art Class: Open Studio\nStop by the “studio” and work on your art in a relaxed\, social atmosphere. Enjoy making progress on your own individual projects while chatting with friends or getting feedback on your work. Although there are no set instructions for either open studio session\, feel free to bring a question to class or ask for support while we’re all making art alongside each other. \nTo receive weekly Art Programming email updates\, contact Claire.
URL:https://dnwml.org/event/virtual-art-class-open-studio-7/2023-08-29/
LOCATION:Zoom\, Virtual
CATEGORIES:Art,Arts & Recreation
ORGANIZER;CN="Claire Moore":MAILTO:claire@dnwml.org
END:VEVENT
BEGIN:VEVENT
DTSTART;TZID=America/Detroit:20230824T130000
DTEND;TZID=America/Detroit:20230824T140000
DTSTAMP:20260420T124332
CREATED:20230503T193656Z
LAST-MODIFIED:20230531T142941Z
UID:10001442-1692882000-1692885600@dnwml.org
SUMMARY:Delishability Cooking Class
DESCRIPTION:All ages and abilities. This particular cooking class will focus on developing a variety of cooking skills and applying them to specific recipes. Classes will take place at our Ann Arbor location. \nRegister by June 15th \nClass fee: $5.00 per session to cover supplies \n\n7/13\n7/20\n7/27\n8/3\n8/10\n8/17\n8/24\n9/7\n9/14\n9/21
URL:https://dnwml.org/event/delishability-cooking-class/2023-08-24/
LOCATION:Washtenaw/Ann Arbor DNWML\, 3941 Research Park Dr\, Ann Arbor\, 48108\, United States
CATEGORIES:General Support,Independent Living Skills,Information & Resources
ORGANIZER;CN="Krystina Johnson":MAILTO:krystina@dnwml.org
END:VEVENT
BEGIN:VEVENT
DTSTART;TZID=America/Detroit:20230823T113000
DTEND;TZID=America/Detroit:20230823T153000
DTSTAMP:20260420T124332
CREATED:20230503T190621Z
LAST-MODIFIED:20231130T185155Z
UID:10002074-1692790200-1692804600@dnwml.org
SUMMARY:Monroe: Drop-in Computer Lab Hours
DESCRIPTION:Drop-in access\, support\, and/or help at the Monroe Office.
URL:https://dnwml.org/event/drop-in-computer-lab-hours/2023-08-23/
LOCATION:Monroe DNWML\, 1070 S. Telegraph Rd.\, Monroe\, MI\, 48161\, United States
CATEGORIES:General Support,Information & Resources
ORGANIZER;CN="Josh Nocella":MAILTO:josh@dnwml.org
END:VEVENT
BEGIN:VEVENT
DTSTART;TZID=America/Detroit:20230823T100000
DTEND;TZID=America/Detroit:20230823T120000
DTSTAMP:20260420T124332
CREATED:20230811T143935Z
LAST-MODIFIED:20231206T150805Z
UID:10001740-1692784800-1692792000@dnwml.org
SUMMARY:In-person Art Class: Open Studio
DESCRIPTION:In-person Art Class\nMake art and learn about artists and new techniques in a relaxed social environment. Rotating through different media\, we explore materials and techniques in a guided manner. No previous experience is necessary. Materials provided. \nTo receive weekly Art Programming email updates\, contact Claire.
URL:https://dnwml.org/event/in-person-art-class-open-studio-4/2023-08-23/
LOCATION:Washtenaw/Ann Arbor DNWML\, 3941 Research Park Dr\, Ann Arbor\, 48108\, United States
CATEGORIES:Art,Arts & Recreation
ORGANIZER;CN="Claire Moore":MAILTO:claire@dnwml.org
END:VEVENT
BEGIN:VEVENT
DTSTART;TZID=America/Detroit:20230822T083000
DTEND;TZID=America/Detroit:20230822T090000
DTSTAMP:20260420T124332
CREATED:20231222T174253Z
LAST-MODIFIED:20231222T174407Z
UID:10002313-1692693000-1692694800@dnwml.org
SUMMARY:Virtual Art Class: Open Studio
DESCRIPTION:Virtual Art Class: Open Studio\nStop by the “studio” and work on your art in a relaxed\, social atmosphere. Enjoy making progress on your own individual projects while chatting with friends or getting feedback on your work. Although there are no set instructions for either open studio session\, feel free to bring a question to class or ask for support while we’re all making art alongside each other. \nTo receive weekly Art Programming email updates\, contact Claire.
URL:https://dnwml.org/event/virtual-art-class-open-studio-7/2023-08-22/
LOCATION:Zoom\, Virtual
CATEGORIES:Art,Arts & Recreation
ORGANIZER;CN="Claire Moore":MAILTO:claire@dnwml.org
END:VEVENT
BEGIN:VEVENT
DTSTART;TZID=America/Detroit:20230821T133000
DTEND;TZID=America/Detroit:20230821T153000
DTSTAMP:20260420T124332
CREATED:20230811T144232Z
LAST-MODIFIED:20231222T140052Z
UID:10001671-1692624600-1692631800@dnwml.org
SUMMARY:In-person Art Class: Guided Sessions
DESCRIPTION:In-person Art Class\nMake art and learn about artists and new techniques in a relaxed social environment. Rotating through different media\, we explore materials and techniques in a guided manner. No previous experience is necessary. Materials provided. \nTo receive weekly Art Programming email updates\, contact Claire.
URL:https://dnwml.org/event/in-person-art-class-guided-sessions-4/2023-08-21/
LOCATION:Washtenaw/Ann Arbor DNWML\, 3941 Research Park Dr\, Ann Arbor\, 48108\, United States
CATEGORIES:Art,Arts & Recreation
ORGANIZER;CN="Claire Moore":MAILTO:claire@dnwml.org
END:VEVENT
BEGIN:VEVENT
DTSTART;TZID=America/Detroit:20230817T130000
DTEND;TZID=America/Detroit:20230817T140000
DTSTAMP:20260420T124332
CREATED:20230503T193656Z
LAST-MODIFIED:20230531T142941Z
UID:10001441-1692277200-1692280800@dnwml.org
SUMMARY:Delishability Cooking Class
DESCRIPTION:All ages and abilities. This particular cooking class will focus on developing a variety of cooking skills and applying them to specific recipes. Classes will take place at our Ann Arbor location. \nRegister by June 15th \nClass fee: $5.00 per session to cover supplies \n\n7/13\n7/20\n7/27\n8/3\n8/10\n8/17\n8/24\n9/7\n9/14\n9/21
URL:https://dnwml.org/event/delishability-cooking-class/2023-08-17/
LOCATION:Washtenaw/Ann Arbor DNWML\, 3941 Research Park Dr\, Ann Arbor\, 48108\, United States
CATEGORIES:General Support,Independent Living Skills,Information & Resources
ORGANIZER;CN="Krystina Johnson":MAILTO:krystina@dnwml.org
END:VEVENT
BEGIN:VEVENT
DTSTART;TZID=America/Detroit:20230816T113000
DTEND;TZID=America/Detroit:20230816T153000
DTSTAMP:20260420T124332
CREATED:20230503T190621Z
LAST-MODIFIED:20231130T185155Z
UID:10002073-1692185400-1692199800@dnwml.org
SUMMARY:Monroe: Drop-in Computer Lab Hours
DESCRIPTION:Drop-in access\, support\, and/or help at the Monroe Office.
URL:https://dnwml.org/event/drop-in-computer-lab-hours/2023-08-16/
LOCATION:Monroe DNWML\, 1070 S. Telegraph Rd.\, Monroe\, MI\, 48161\, United States
CATEGORIES:General Support,Information & Resources
ORGANIZER;CN="Josh Nocella":MAILTO:josh@dnwml.org
END:VEVENT
BEGIN:VEVENT
DTSTART;TZID=America/Detroit:20230816T100000
DTEND;TZID=America/Detroit:20230816T120000
DTSTAMP:20260420T124332
CREATED:20230811T143935Z
LAST-MODIFIED:20231206T150805Z
UID:10001660-1692180000-1692187200@dnwml.org
SUMMARY:In-person Art Class: Open Studio
DESCRIPTION:In-person Art Class\nMake art and learn about artists and new techniques in a relaxed social environment. Rotating through different media\, we explore materials and techniques in a guided manner. No previous experience is necessary. Materials provided. \nTo receive weekly Art Programming email updates\, contact Claire.
URL:https://dnwml.org/event/in-person-art-class-open-studio-4/2023-08-16/
LOCATION:Washtenaw/Ann Arbor DNWML\, 3941 Research Park Dr\, Ann Arbor\, 48108\, United States
CATEGORIES:Art,Arts & Recreation
ORGANIZER;CN="Claire Moore":MAILTO:claire@dnwml.org
END:VEVENT
BEGIN:VEVENT
DTSTART;TZID=America/Detroit:20230815T083000
DTEND;TZID=America/Detroit:20230815T090000
DTSTAMP:20260420T124332
CREATED:20231222T174253Z
LAST-MODIFIED:20231222T174407Z
UID:10002312-1692088200-1692090000@dnwml.org
SUMMARY:Virtual Art Class: Open Studio
DESCRIPTION:Virtual Art Class: Open Studio\nStop by the “studio” and work on your art in a relaxed\, social atmosphere. Enjoy making progress on your own individual projects while chatting with friends or getting feedback on your work. Although there are no set instructions for either open studio session\, feel free to bring a question to class or ask for support while we’re all making art alongside each other. \nTo receive weekly Art Programming email updates\, contact Claire.
URL:https://dnwml.org/event/virtual-art-class-open-studio-7/2023-08-15/
LOCATION:Zoom\, Virtual
CATEGORIES:Art,Arts & Recreation
ORGANIZER;CN="Claire Moore":MAILTO:claire@dnwml.org
END:VEVENT
BEGIN:VEVENT
DTSTART;TZID=America/Detroit:20230814T133000
DTEND;TZID=America/Detroit:20230814T153000
DTSTAMP:20260420T124332
CREATED:20230811T144232Z
LAST-MODIFIED:20231222T140052Z
UID:10001650-1692019800-1692027000@dnwml.org
SUMMARY:In-person Art Class: Guided Sessions
DESCRIPTION:In-person Art Class\nMake art and learn about artists and new techniques in a relaxed social environment. Rotating through different media\, we explore materials and techniques in a guided manner. No previous experience is necessary. Materials provided. \nTo receive weekly Art Programming email updates\, contact Claire.
URL:https://dnwml.org/event/in-person-art-class-guided-sessions-4/2023-08-14/
LOCATION:Washtenaw/Ann Arbor DNWML\, 3941 Research Park Dr\, Ann Arbor\, 48108\, United States
CATEGORIES:Art,Arts & Recreation
ORGANIZER;CN="Claire Moore":MAILTO:claire@dnwml.org
END:VEVENT
BEGIN:VEVENT
DTSTART;TZID=America/Detroit:20230811T133000
DTEND;TZID=America/Detroit:20230811T150000
DTSTAMP:20260420T124332
CREATED:20230811T151807Z
LAST-MODIFIED:20230811T151807Z
UID:10000529-1691760600-1691766000@dnwml.org
SUMMARY:Virtual Art Class: Open Studio
DESCRIPTION:Virtual Art Class: Open Studio\nStop by the “studio” and work on your art in a relaxed\, social atmosphere. Enjoy making progress on your own individual projects while chatting with friends or getting feedback on your work. Although there are no set instructions for either open studio session\, feel free to bring a question to class or ask for support while we’re all making art alongside each other. \nTo receive weekly Art Programming email updates\, contact Claire. \n\n 
URL:https://dnwml.org/event/virtual-art-class-open-studio-4-2-2/
LOCATION:Zoom\, Virtual
CATEGORIES:Art,Arts & Recreation
ORGANIZER;CN="Claire Moore":MAILTO:claire@dnwml.org
END:VEVENT
BEGIN:VEVENT
DTSTART;TZID=America/Detroit:20230810T130000
DTEND;TZID=America/Detroit:20230810T140000
DTSTAMP:20260420T124332
CREATED:20230503T193656Z
LAST-MODIFIED:20230531T142941Z
UID:10001440-1691672400-1691676000@dnwml.org
SUMMARY:Delishability Cooking Class
DESCRIPTION:All ages and abilities. This particular cooking class will focus on developing a variety of cooking skills and applying them to specific recipes. Classes will take place at our Ann Arbor location. \nRegister by June 15th \nClass fee: $5.00 per session to cover supplies \n\n7/13\n7/20\n7/27\n8/3\n8/10\n8/17\n8/24\n9/7\n9/14\n9/21
URL:https://dnwml.org/event/delishability-cooking-class/2023-08-10/
LOCATION:Washtenaw/Ann Arbor DNWML\, 3941 Research Park Dr\, Ann Arbor\, 48108\, United States
CATEGORIES:General Support,Independent Living Skills,Information & Resources
ORGANIZER;CN="Krystina Johnson":MAILTO:krystina@dnwml.org
END:VEVENT
END:VCALENDAR