BEGIN:VCALENDAR
VERSION:2.0
PRODID:-//Disability Network Washtenaw Monroe Livingston - ECPv6.15.20//NONSGML v1.0//EN
CALSCALE:GREGORIAN
METHOD:PUBLISH
X-WR-CALNAME:Disability Network Washtenaw Monroe Livingston
X-ORIGINAL-URL:https://dnwml.org
X-WR-CALDESC:Events for Disability Network Washtenaw Monroe Livingston
REFRESH-INTERVAL;VALUE=DURATION:PT1H
X-Robots-Tag:noindex
X-PUBLISHED-TTL:PT1H
BEGIN:VTIMEZONE
TZID:America/Detroit
BEGIN:DAYLIGHT
TZOFFSETFROM:-0500
TZOFFSETTO:-0400
TZNAME:EDT
DTSTART:20220313T070000
END:DAYLIGHT
BEGIN:STANDARD
TZOFFSETFROM:-0400
TZOFFSETTO:-0500
TZNAME:EST
DTSTART:20221106T060000
END:STANDARD
BEGIN:DAYLIGHT
TZOFFSETFROM:-0500
TZOFFSETTO:-0400
TZNAME:EDT
DTSTART:20230312T070000
END:DAYLIGHT
BEGIN:STANDARD
TZOFFSETFROM:-0400
TZOFFSETTO:-0500
TZNAME:EST
DTSTART:20231105T060000
END:STANDARD
BEGIN:DAYLIGHT
TZOFFSETFROM:-0500
TZOFFSETTO:-0400
TZNAME:EDT
DTSTART:20240310T070000
END:DAYLIGHT
BEGIN:STANDARD
TZOFFSETFROM:-0400
TZOFFSETTO:-0500
TZNAME:EST
DTSTART:20241103T060000
END:STANDARD
END:VTIMEZONE
BEGIN:VEVENT
DTSTART;TZID=America/Detroit:20230620T190000
DTEND;TZID=America/Detroit:20230620T200000
DTSTAMP:20260424T075001
CREATED:20230503T195250Z
LAST-MODIFIED:20230503T195250Z
UID:10000931-1687287600-1687291200@dnwml.org
SUMMARY:Caring Connections for Parents with Disabilities
DESCRIPTION:Caring Connections for Parents w/ Disabilities\n\nThis is a caring and supportive space for disabled parents to share their struggles and joys as parents. We share stories\, strategies\, and resources. Further\, we grow in our pride and identities as disabled people while navigating life as parents and caregivers. \nContacts: Renee and Celleste \nCaring Connections meets on the second and fourth Tuesday of each month\, from 7:00-8:00pm.
URL:https://dnwml.org/event/caring-connections-for-parents-with-disabilities/2023-06-20/
LOCATION:Zoom\, Virtual
CATEGORIES:Information & Resources,Peer Support
ORGANIZER;CN="Renee Echols":MAILTO:renee@dnwml.org
END:VEVENT
BEGIN:VEVENT
DTSTART;TZID=America/Detroit:20230620T160000
DTEND;TZID=America/Detroit:20230620T170000
DTSTAMP:20260424T075001
CREATED:20230503T193115Z
LAST-MODIFIED:20230503T193115Z
UID:10000843-1687276800-1687280400@dnwml.org
SUMMARY:Virtual Tuesday Games
DESCRIPTION:Third Tuesday of each month 4-5p.m. on Zoom \n\nMay 16th\nJune 20th\nJuly 18th\n\nAll ages and abilities. \nJoin us online for Tuesday Games! There will be new themes monthly\, starting May 16th\, so be sure to follow our Facebook @DisabilityNetworkWML or Instagram @dn_wml for what’s in store! Join as a team or play on your own\, take score or just play for fun\, the choice is yours. You will always get to decide what kind of games we will explore!
URL:https://dnwml.org/event/virtual-tuesday-games/2023-06-20/
LOCATION:Zoom\, Virtual
CATEGORIES:Arts & Recreation,Entertainment
ORGANIZER;CN="Robin Bennett":MAILTO:robin@dnwml.org
END:VEVENT
BEGIN:VEVENT
DTSTART;TZID=America/Detroit:20230619T080000
DTEND;TZID=America/Detroit:20230622T150000
DTSTAMP:20260424T075001
CREATED:20230503T192134Z
LAST-MODIFIED:20230503T192205Z
UID:10000827-1687161600-1687446000@dnwml.org
SUMMARY:Camp New Horizons: Youth Sports Week
DESCRIPTION:Disability Network is happy to announce Camp New Horizons\, a day camp for youth with disabilities. Camp New Horizons will take place over two weeks this summer where youth can engage with one another\, learn new skills\, and broaden their horizons. Youth with disabilities ages 16-26. \nSports Week: June 19 -June 22\nCamp Horizon’s sports week is brought to you in partnership with U of M Adaptive Sports. Each day campers will get to engage in a different accessible sport including sitting volleyball\, basketball\, personal fitness\, and culminating in a group bicycle outing at Gallup Park. \nArt Week: July 31 – August 3\nCampers will experiment with new materials\, learn about process-driven techniques\, and collaborate on a mural at our Ann Arbor office\, in the community garden. \nREGISTER BELOW.
URL:https://dnwml.org/event/camp-new-horizons-youth-sports-week/
LOCATION:Washtenaw/Ann Arbor DNWML\, 3941 Research Park Dr\, Ann Arbor\, 48108\, United States
CATEGORIES:Arts & Recreation,Fitness,Youth Services
ORGANIZER;CN="Eric Evans":MAILTO:eric@dnwml.org
END:VEVENT
BEGIN:VEVENT
DTSTART;VALUE=DATE:20230619
DTEND;VALUE=DATE:20230620
DTSTAMP:20260424T075001
CREATED:20230531T180852Z
LAST-MODIFIED:20230531T180947Z
UID:10001514-1687132800-1687219199@dnwml.org
SUMMARY:DNWML CLOSED
DESCRIPTION:Honoring Juneteenth Holiday.* \n*Summer Camp will still be held.
URL:https://dnwml.org/event/dnwml-offices-closed/
LOCATION:Washtenaw/Ann Arbor DNWML\, 3941 Research Park Dr\, Ann Arbor\, 48108\, United States
CATEGORIES:Holiday Break,Special Event
END:VEVENT
BEGIN:VEVENT
DTSTART;TZID=America/Detroit:20230615T133000
DTEND;TZID=America/Detroit:20230615T150000
DTSTAMP:20260424T075001
CREATED:20230424T140538Z
LAST-MODIFIED:20230503T190811Z
UID:10000522-1686835800-1686841200@dnwml.org
SUMMARY:Virtual Art Class: Open Studio
DESCRIPTION:Virtual Art Class: Open Studio\nStop by the “studio” and work on your art in a relaxed\, social atmosphere. Enjoy making progress on your own individual projects while chatting with friends or getting feedback on your work. Although there are no set instructions for either open studio session\, feel free to bring a question to class or ask for support while we’re all making art alongside each other. \nTo receive weekly Art Programming email updates\, contact Claire. \n\n 
URL:https://dnwml.org/event/virtual-art-class-open-studio-4-2/2023-06-15/
LOCATION:Zoom\, Virtual
CATEGORIES:Art,Arts & Recreation
ORGANIZER;CN="Claire Moore":MAILTO:claire@dnwml.org
END:VEVENT
BEGIN:VEVENT
DTSTART;TZID=America/Detroit:20230614T113000
DTEND;TZID=America/Detroit:20230614T153000
DTSTAMP:20260424T075001
CREATED:20230503T190621Z
LAST-MODIFIED:20231130T185155Z
UID:10002064-1686742200-1686756600@dnwml.org
SUMMARY:Monroe: Drop-in Computer Lab Hours
DESCRIPTION:Drop-in access\, support\, and/or help at the Monroe Office.
URL:https://dnwml.org/event/drop-in-computer-lab-hours/2023-06-14/
LOCATION:Monroe DNWML\, 1070 S. Telegraph Rd.\, Monroe\, MI\, 48161\, United States
CATEGORIES:General Support,Information & Resources
ORGANIZER;CN="Josh Nocella":MAILTO:josh@dnwml.org
END:VEVENT
BEGIN:VEVENT
DTSTART;TZID=America/Detroit:20230614T100000
DTEND;TZID=America/Detroit:20230614T120000
DTSTAMP:20260424T075001
CREATED:20230427T171425Z
LAST-MODIFIED:20230503T185409Z
UID:10000662-1686736800-1686744000@dnwml.org
SUMMARY:In-person Art Class: Open Studio
DESCRIPTION:In-person Art Class\nMake art and learn about artists and new techniques in a relaxed social environment. Rotating through different media\, we explore materials and techniques in a guided manner. No previous experience is necessary. Materials provided. \nTo receive weekly Art Programming email updates\, contact Claire.
URL:https://dnwml.org/event/in-person-art-class-open-studio-3/2023-06-14/
LOCATION:Washtenaw/Ann Arbor DNWML\, 3941 Research Park Dr\, Ann Arbor\, 48108\, United States
CATEGORIES:Art,Arts & Recreation
ORGANIZER;CN="Claire Moore":MAILTO:claire@dnwml.org
END:VEVENT
BEGIN:VEVENT
DTSTART;TZID=America/Detroit:20230613T190000
DTEND;TZID=America/Detroit:20230613T200000
DTSTAMP:20260424T075001
CREATED:20230503T195250Z
LAST-MODIFIED:20230503T195250Z
UID:10000930-1686682800-1686686400@dnwml.org
SUMMARY:Caring Connections for Parents with Disabilities
DESCRIPTION:Caring Connections for Parents w/ Disabilities\n\nThis is a caring and supportive space for disabled parents to share their struggles and joys as parents. We share stories\, strategies\, and resources. Further\, we grow in our pride and identities as disabled people while navigating life as parents and caregivers. \nContacts: Renee and Celleste \nCaring Connections meets on the second and fourth Tuesday of each month\, from 7:00-8:00pm.
URL:https://dnwml.org/event/caring-connections-for-parents-with-disabilities/2023-06-13/
LOCATION:Zoom\, Virtual
CATEGORIES:Information & Resources,Peer Support
ORGANIZER;CN="Renee Echols":MAILTO:renee@dnwml.org
END:VEVENT
BEGIN:VEVENT
DTSTART;TZID=America/Detroit:20230607T120000
DTEND;TZID=America/Detroit:20230607T130000
DTSTAMP:20260424T075001
CREATED:20230503T195034Z
LAST-MODIFIED:20230503T195052Z
UID:10000916-1686139200-1686142800@dnwml.org
SUMMARY:Your World: Navigating Life with Blindness and Low Vision
DESCRIPTION:Your World: Navigating Life with Blindness and Low Vision\nJoin us on Zoom for a welcoming discussion group for people who are blind or experiencing vision loss. Topics will be participant-driven and sessions will empower group members to embrace their self-identities and individuality as people with low vision\, while strengthening belonging and community inclusion. Your World is a group where we discuss different topics involving navigating life with low vision. We share resources\, tips\, and perspectives to help us enhance the quality and autonomy of our lives. Group facilitators are professionals from a wide range of backgrounds who experience blindness or vision loss. Assistive technology support will be available. \nYour World meets on the first Wednesday of every month from 12:00-1:00pm. \nAnyone over 18 with low vision or blindness can participate. \nContacts: Mark (734-889-9670) or Renee (734-889-9370)
URL:https://dnwml.org/event/your-world-navigating-life-with-blindness-and-low-vision-2/2023-06-07/
LOCATION:Zoom\, Virtual
CATEGORIES:Information & Resources,Peer Support
ORGANIZER;CN="Renee Echols":MAILTO:renee@dnwml.org
END:VEVENT
BEGIN:VEVENT
DTSTART;TZID=America/Detroit:20230607T113000
DTEND;TZID=America/Detroit:20230607T153000
DTSTAMP:20260424T075001
CREATED:20230503T190621Z
LAST-MODIFIED:20231130T185155Z
UID:10002063-1686137400-1686151800@dnwml.org
SUMMARY:Monroe: Drop-in Computer Lab Hours
DESCRIPTION:Drop-in access\, support\, and/or help at the Monroe Office.
URL:https://dnwml.org/event/drop-in-computer-lab-hours/2023-06-07/
LOCATION:Monroe DNWML\, 1070 S. Telegraph Rd.\, Monroe\, MI\, 48161\, United States
CATEGORIES:General Support,Information & Resources
ORGANIZER;CN="Josh Nocella":MAILTO:josh@dnwml.org
END:VEVENT
BEGIN:VEVENT
DTSTART;TZID=America/Detroit:20230606T190000
DTEND;TZID=America/Detroit:20230606T200000
DTSTAMP:20260424T075001
CREATED:20230503T195250Z
LAST-MODIFIED:20230503T195250Z
UID:10000929-1686078000-1686081600@dnwml.org
SUMMARY:Caring Connections for Parents with Disabilities
DESCRIPTION:Caring Connections for Parents w/ Disabilities\n\nThis is a caring and supportive space for disabled parents to share their struggles and joys as parents. We share stories\, strategies\, and resources. Further\, we grow in our pride and identities as disabled people while navigating life as parents and caregivers. \nContacts: Renee and Celleste \nCaring Connections meets on the second and fourth Tuesday of each month\, from 7:00-8:00pm.
URL:https://dnwml.org/event/caring-connections-for-parents-with-disabilities/2023-06-06/
LOCATION:Zoom\, Virtual
CATEGORIES:Information & Resources,Peer Support
ORGANIZER;CN="Renee Echols":MAILTO:renee@dnwml.org
END:VEVENT
BEGIN:VEVENT
DTSTART;TZID=America/Detroit:20230605T173000
DTEND;TZID=America/Detroit:20230605T184500
DTSTAMP:20260424T075001
CREATED:20230427T180350Z
LAST-MODIFIED:20230508T202953Z
UID:10000727-1685986200-1685990700@dnwml.org
SUMMARY:Theatre Program
DESCRIPTION:Virtual Theatre Kickoff! \nMondays\, 5:30-6:45 PM \nAre you ready to show off your star potential?! Are you loud or quiet? Love being in front of people or with just a few good friends? Theatre is for YOU!! Come meet new friends and get to know the art of theatre: performance-acting\, dancing\, singing & movement; skill building; and more! Share your ideas for the hybrid theatre program starting this May. Join us virtually on Zoom by registering here. \nStaff contact: Robin Bennett Robin@dnwml.org or 734-889-9380 \nRegister here: https://forms.office.com/r/LVKDGLHgNd
URL:https://dnwml.org/event/theatre-program/2023-06-05/
LOCATION:Zoom\, Virtual
CATEGORIES:Art,Arts & Recreation,Entertainment
END:VEVENT
BEGIN:VEVENT
DTSTART;TZID=America/Detroit:20230605T133000
DTEND;TZID=America/Detroit:20230605T153000
DTSTAMP:20260424T075001
CREATED:20230427T153943Z
LAST-MODIFIED:20230531T180444Z
UID:10000533-1685971800-1685979000@dnwml.org
SUMMARY:In-person Art Class: Guided Sessions
DESCRIPTION:In-person Art Class\nMake art and learn about artists and new techniques in a relaxed social environment. Rotating through different media\, we explore materials and techniques in a guided manner. No previous experience is necessary. Materials provided. \nTo receive weekly Art Programming email updates\, contact Claire. \n\n 
URL:https://dnwml.org/event/in-person-art-class-2-2/2023-06-05/
LOCATION:Washtenaw/Ann Arbor DNWML\, 3941 Research Park Dr\, Ann Arbor\, 48108\, United States
CATEGORIES:Art,Arts & Recreation
ORGANIZER;CN="Claire Moore":MAILTO:claire@dnwml.org
END:VEVENT
BEGIN:VEVENT
DTSTART;TZID=America/Detroit:20230601T133000
DTEND;TZID=America/Detroit:20230601T150000
DTSTAMP:20260424T075001
CREATED:20230424T140538Z
LAST-MODIFIED:20230503T190811Z
UID:10000816-1685626200-1685631600@dnwml.org
SUMMARY:Virtual Art Class: Open Studio
DESCRIPTION:Virtual Art Class: Open Studio\nStop by the “studio” and work on your art in a relaxed\, social atmosphere. Enjoy making progress on your own individual projects while chatting with friends or getting feedback on your work. Although there are no set instructions for either open studio session\, feel free to bring a question to class or ask for support while we’re all making art alongside each other. \nTo receive weekly Art Programming email updates\, contact Claire. \n\n 
URL:https://dnwml.org/event/virtual-art-class-open-studio-4-2/2023-06-01/
LOCATION:Zoom\, Virtual
CATEGORIES:Art,Arts & Recreation
ORGANIZER;CN="Claire Moore":MAILTO:claire@dnwml.org
END:VEVENT
BEGIN:VEVENT
DTSTART;TZID=America/Detroit:20230531T113000
DTEND;TZID=America/Detroit:20230531T153000
DTSTAMP:20260424T075001
CREATED:20230503T190621Z
LAST-MODIFIED:20231130T185155Z
UID:10002062-1685532600-1685547000@dnwml.org
SUMMARY:Monroe: Drop-in Computer Lab Hours
DESCRIPTION:Drop-in access\, support\, and/or help at the Monroe Office.
URL:https://dnwml.org/event/drop-in-computer-lab-hours/2023-05-31/
LOCATION:Monroe DNWML\, 1070 S. Telegraph Rd.\, Monroe\, MI\, 48161\, United States
CATEGORIES:General Support,Information & Resources
ORGANIZER;CN="Josh Nocella":MAILTO:josh@dnwml.org
END:VEVENT
BEGIN:VEVENT
DTSTART;TZID=America/Detroit:20230531T100000
DTEND;TZID=America/Detroit:20230531T120000
DTSTAMP:20260424T075001
CREATED:20230427T171425Z
LAST-MODIFIED:20230503T185409Z
UID:10000746-1685527200-1685534400@dnwml.org
SUMMARY:In-person Art Class: Open Studio
DESCRIPTION:In-person Art Class\nMake art and learn about artists and new techniques in a relaxed social environment. Rotating through different media\, we explore materials and techniques in a guided manner. No previous experience is necessary. Materials provided. \nTo receive weekly Art Programming email updates\, contact Claire.
URL:https://dnwml.org/event/in-person-art-class-open-studio-3/2023-05-31/
LOCATION:Washtenaw/Ann Arbor DNWML\, 3941 Research Park Dr\, Ann Arbor\, 48108\, United States
CATEGORIES:Art,Arts & Recreation
ORGANIZER;CN="Claire Moore":MAILTO:claire@dnwml.org
END:VEVENT
BEGIN:VEVENT
DTSTART;TZID=America/Detroit:20230530T190000
DTEND;TZID=America/Detroit:20230530T200000
DTSTAMP:20260424T075001
CREATED:20230503T195250Z
LAST-MODIFIED:20230503T195250Z
UID:10000928-1685473200-1685476800@dnwml.org
SUMMARY:Caring Connections for Parents with Disabilities
DESCRIPTION:Caring Connections for Parents w/ Disabilities\n\nThis is a caring and supportive space for disabled parents to share their struggles and joys as parents. We share stories\, strategies\, and resources. Further\, we grow in our pride and identities as disabled people while navigating life as parents and caregivers. \nContacts: Renee and Celleste \nCaring Connections meets on the second and fourth Tuesday of each month\, from 7:00-8:00pm.
URL:https://dnwml.org/event/caring-connections-for-parents-with-disabilities/2023-05-30/
LOCATION:Zoom\, Virtual
CATEGORIES:Information & Resources,Peer Support
ORGANIZER;CN="Renee Echols":MAILTO:renee@dnwml.org
END:VEVENT
BEGIN:VEVENT
DTSTART;VALUE=DATE:20230529
DTEND;VALUE=DATE:20230530
DTSTAMP:20260424T075001
CREATED:20230525T193108Z
LAST-MODIFIED:20230525T193108Z
UID:10001434-1685318400-1685404799@dnwml.org
SUMMARY:DNWML CLOSED
DESCRIPTION:Memorial Day Holiday.
URL:https://dnwml.org/event/dnwml-closed/
LOCATION:Washtenaw/Ann Arbor DNWML\, 3941 Research Park Dr\, Ann Arbor\, 48108\, United States
CATEGORIES:Holiday Break,Special Event
END:VEVENT
BEGIN:VEVENT
DTSTART;TZID=America/Detroit:20230525T133000
DTEND;TZID=America/Detroit:20230525T150000
DTSTAMP:20260424T075001
CREATED:20230424T140538Z
LAST-MODIFIED:20230503T190811Z
UID:10000520-1685021400-1685026800@dnwml.org
SUMMARY:Virtual Art Class: Open Studio
DESCRIPTION:Virtual Art Class: Open Studio\nStop by the “studio” and work on your art in a relaxed\, social atmosphere. Enjoy making progress on your own individual projects while chatting with friends or getting feedback on your work. Although there are no set instructions for either open studio session\, feel free to bring a question to class or ask for support while we’re all making art alongside each other. \nTo receive weekly Art Programming email updates\, contact Claire. \n\n 
URL:https://dnwml.org/event/virtual-art-class-open-studio-4-2/2023-05-25/
LOCATION:Zoom\, Virtual
CATEGORIES:Art,Arts & Recreation
ORGANIZER;CN="Claire Moore":MAILTO:claire@dnwml.org
END:VEVENT
BEGIN:VEVENT
DTSTART;VALUE=DATE:20230525
DTEND;VALUE=DATE:20230622
DTSTAMP:20260424T075001
CREATED:20230525T192610Z
LAST-MODIFIED:20230525T192849Z
UID:10001433-1684972800-1687391999@dnwml.org
SUMMARY:CALL FOR ARTISTS: Disability Pride Exhibition
DESCRIPTION:Gallery Be @ Disability Network Washtenaw Monroe Livingston \nCALL FOR ARTISTS\nDisability Pride ExhibitionJune 30\, 2023 – August 4\, 2023 \nShow us YOUR PRIDE! What makes you\, YOU? \nOpen to all disabled artists\, working in all media!* \nAPPLY NOW \nShare work speaking to your disability experience at a disability-centered gallery space\, during Disability Pride month AND our annual Americans with Disabilities Act Picnic. \nApply by June 21! \nContact Claire with questions. \n*If submitting video/time-based media\, you may have to provide a monitor or additional equipment.
URL:https://dnwml.org/event/call-for-artists-disability-pride-exhibition/
LOCATION:Washtenaw/Ann Arbor DNWML\, 3941 Research Park Dr\, Ann Arbor\, 48108\, United States
CATEGORIES:Art,Arts & Recreation,Special Event
ORGANIZER;CN="Claire Moore":MAILTO:claire@dnwml.org
END:VEVENT
BEGIN:VEVENT
DTSTART;TZID=America/Detroit:20230524T113000
DTEND;TZID=America/Detroit:20230524T153000
DTSTAMP:20260424T075001
CREATED:20230503T190621Z
LAST-MODIFIED:20231130T185155Z
UID:10002061-1684927800-1684942200@dnwml.org
SUMMARY:Monroe: Drop-in Computer Lab Hours
DESCRIPTION:Drop-in access\, support\, and/or help at the Monroe Office.
URL:https://dnwml.org/event/drop-in-computer-lab-hours/2023-05-24/
LOCATION:Monroe DNWML\, 1070 S. Telegraph Rd.\, Monroe\, MI\, 48161\, United States
CATEGORIES:General Support,Information & Resources
ORGANIZER;CN="Josh Nocella":MAILTO:josh@dnwml.org
END:VEVENT
BEGIN:VEVENT
DTSTART;TZID=America/Detroit:20230524T100000
DTEND;TZID=America/Detroit:20230524T120000
DTSTAMP:20260424T075001
CREATED:20230427T171425Z
LAST-MODIFIED:20230503T185409Z
UID:10000660-1684922400-1684929600@dnwml.org
SUMMARY:In-person Art Class: Open Studio
DESCRIPTION:In-person Art Class\nMake art and learn about artists and new techniques in a relaxed social environment. Rotating through different media\, we explore materials and techniques in a guided manner. No previous experience is necessary. Materials provided. \nTo receive weekly Art Programming email updates\, contact Claire.
URL:https://dnwml.org/event/in-person-art-class-open-studio-3/2023-05-24/
LOCATION:Washtenaw/Ann Arbor DNWML\, 3941 Research Park Dr\, Ann Arbor\, 48108\, United States
CATEGORIES:Art,Arts & Recreation
ORGANIZER;CN="Claire Moore":MAILTO:claire@dnwml.org
END:VEVENT
BEGIN:VEVENT
DTSTART;TZID=America/Detroit:20230523T190000
DTEND;TZID=America/Detroit:20230523T200000
DTSTAMP:20260424T075001
CREATED:20230503T195250Z
LAST-MODIFIED:20230503T195250Z
UID:10000927-1684868400-1684872000@dnwml.org
SUMMARY:Caring Connections for Parents with Disabilities
DESCRIPTION:Caring Connections for Parents w/ Disabilities\n\nThis is a caring and supportive space for disabled parents to share their struggles and joys as parents. We share stories\, strategies\, and resources. Further\, we grow in our pride and identities as disabled people while navigating life as parents and caregivers. \nContacts: Renee and Celleste \nCaring Connections meets on the second and fourth Tuesday of each month\, from 7:00-8:00pm.
URL:https://dnwml.org/event/caring-connections-for-parents-with-disabilities/2023-05-23/
LOCATION:Zoom\, Virtual
CATEGORIES:Information & Resources,Peer Support
ORGANIZER;CN="Renee Echols":MAILTO:renee@dnwml.org
END:VEVENT
BEGIN:VEVENT
DTSTART;TZID=America/Detroit:20230522T173000
DTEND;TZID=America/Detroit:20230522T184500
DTSTAMP:20260424T075001
CREATED:20230427T180350Z
LAST-MODIFIED:20230508T202953Z
UID:10000725-1684776600-1684781100@dnwml.org
SUMMARY:Theatre Program
DESCRIPTION:Virtual Theatre Kickoff! \nMondays\, 5:30-6:45 PM \nAre you ready to show off your star potential?! Are you loud or quiet? Love being in front of people or with just a few good friends? Theatre is for YOU!! Come meet new friends and get to know the art of theatre: performance-acting\, dancing\, singing & movement; skill building; and more! Share your ideas for the hybrid theatre program starting this May. Join us virtually on Zoom by registering here. \nStaff contact: Robin Bennett Robin@dnwml.org or 734-889-9380 \nRegister here: https://forms.office.com/r/LVKDGLHgNd
URL:https://dnwml.org/event/theatre-program/2023-05-22/
LOCATION:Zoom\, Virtual
CATEGORIES:Art,Arts & Recreation,Entertainment
END:VEVENT
BEGIN:VEVENT
DTSTART;TZID=America/Detroit:20230522T133000
DTEND;TZID=America/Detroit:20230522T150000
DTSTAMP:20260424T075001
CREATED:20230427T181157Z
LAST-MODIFIED:20230531T180308Z
UID:10000747-1684762200-1684767600@dnwml.org
SUMMARY:Disability Network + Therapeutic Riding\, Inc. Plein Air Art Series
DESCRIPTION:Mondays\, 1:30-3:00pm\nMAY 2023\no 5/8 – DNWML: Foundational drawing class\no 5/22 – TRI: Drawing horses from observation\no Register: tinyurl.com/MayHorseArt \nJUNE 2023\no 6/12- DNWML: Foundational photography class\no 6/26 – TRI: Photographing horses\no Register: tinyurl.com/JuneHorseArt \nJULY 2023\no 7/10 – DNWML: Foundational mosaics class\no 7/24 – TRI: Recreating horses in mosaics\no Register: tinyurl.com/JulyHorseArt \nTherapeutic Riding\, Inc and Disability Network are collaborating to bring art and horses to both organizations’ participants. Registrants will learn foundational art (drawing and photography) techniques at our Ann Arbor DNWML office\, then venture to TRI for plein air/from observation making. Our goal is to cross-expose regular participants from both organizations to the other’s amazing programming. \nStaff contact: Claire – claire@dnwml.org
URL:https://dnwml.org/event/disability-network-therapeutic-riding-inc-plein-air-art-series/2023-05-22/
LOCATION:Washtenaw/Ann Arbor DNWML\, 3941 Research Park Dr\, Ann Arbor\, 48108\, United States
CATEGORIES:Art,Arts & Recreation,Special Event
ORGANIZER;CN="Claire Moore":MAILTO:claire@dnwml.org
END:VEVENT
BEGIN:VEVENT
DTSTART;TZID=America/Detroit:20230521T120000
DTEND;TZID=America/Detroit:20230521T133000
DTSTAMP:20260424T075001
CREATED:20230405T182210Z
LAST-MODIFIED:20240904T134958Z
UID:10003475-1684670400-1684675800@dnwml.org
SUMMARY:SCI Virtual Meet Up
DESCRIPTION:SCI Virtual Meet Up\nLiving with a spinal cord injury can be challenging in many ways. Join us to connect with others with SCI\, get help tackling your own needs\, and provide help and advice to others. \nThis group meets the second Tuesday of the month\, 12:00-1:30pm.
URL:https://dnwml.org/event/sci-virtual-meet-up-4/2023-05-21/
LOCATION:Zoom\, Virtual
CATEGORIES:Information & Resources,Peer Support
ORGANIZER;CN="Janeen Musselman":MAILTO:janeen@dnwml.org
END:VEVENT
BEGIN:VEVENT
DTSTART;TZID=America/Detroit:20230519T150000
DTEND;TZID=America/Detroit:20230519T160000
DTSTAMP:20260424T075001
CREATED:20230405T170752Z
LAST-MODIFIED:20230405T170905Z
UID:10000504-1684508400-1684512000@dnwml.org
SUMMARY:OREO Club
DESCRIPTION:OREO Club: Organized Recreational Eating Occasion Club\nWe’re getting together to explore each month’s flavor\, connect with other people\, and engage in great discussions. We’ll talk cookies and life\, create Oreo-themed artwork\, and collaborate on a customized Oreo order to share. Oreo cookies will be provided for pick-up at the Washtenaw/Ann Arbor CIL each month. \nOreo Club meets on the third Friday of every month on Zoom\, from 3:00-4:00 pm.
URL:https://dnwml.org/event/disability-community-action-lab-dcal-3-3-2-2-3-2-2-2-2-2/2023-05-19/
LOCATION:Zoom\, Virtual
CATEGORIES:Arts & Recreation,Entertainment
ORGANIZER;CN="Claire Moore":MAILTO:claire@dnwml.org
END:VEVENT
BEGIN:VEVENT
DTSTART;TZID=America/Detroit:20230517T113000
DTEND;TZID=America/Detroit:20230517T153000
DTSTAMP:20260424T075001
CREATED:20230503T190621Z
LAST-MODIFIED:20231130T185155Z
UID:10002060-1684323000-1684337400@dnwml.org
SUMMARY:Monroe: Drop-in Computer Lab Hours
DESCRIPTION:Drop-in access\, support\, and/or help at the Monroe Office.
URL:https://dnwml.org/event/drop-in-computer-lab-hours/2023-05-17/
LOCATION:Monroe DNWML\, 1070 S. Telegraph Rd.\, Monroe\, MI\, 48161\, United States
CATEGORIES:General Support,Information & Resources
ORGANIZER;CN="Josh Nocella":MAILTO:josh@dnwml.org
END:VEVENT
BEGIN:VEVENT
DTSTART;TZID=America/Detroit:20230517T100000
DTEND;TZID=America/Detroit:20230517T120000
DTSTAMP:20260424T075001
CREATED:20230427T171425Z
LAST-MODIFIED:20230503T185409Z
UID:10000659-1684317600-1684324800@dnwml.org
SUMMARY:In-person Art Class: Open Studio
DESCRIPTION:In-person Art Class\nMake art and learn about artists and new techniques in a relaxed social environment. Rotating through different media\, we explore materials and techniques in a guided manner. No previous experience is necessary. Materials provided. \nTo receive weekly Art Programming email updates\, contact Claire.
URL:https://dnwml.org/event/in-person-art-class-open-studio-3/2023-05-17/
LOCATION:Washtenaw/Ann Arbor DNWML\, 3941 Research Park Dr\, Ann Arbor\, 48108\, United States
CATEGORIES:Art,Arts & Recreation
ORGANIZER;CN="Claire Moore":MAILTO:claire@dnwml.org
END:VEVENT
BEGIN:VEVENT
DTSTART;TZID=America/Detroit:20230516T190000
DTEND;TZID=America/Detroit:20230516T200000
DTSTAMP:20260424T075001
CREATED:20230503T195250Z
LAST-MODIFIED:20230503T195250Z
UID:10000926-1684263600-1684267200@dnwml.org
SUMMARY:Caring Connections for Parents with Disabilities
DESCRIPTION:Caring Connections for Parents w/ Disabilities\n\nThis is a caring and supportive space for disabled parents to share their struggles and joys as parents. We share stories\, strategies\, and resources. Further\, we grow in our pride and identities as disabled people while navigating life as parents and caregivers. \nContacts: Renee and Celleste \nCaring Connections meets on the second and fourth Tuesday of each month\, from 7:00-8:00pm.
URL:https://dnwml.org/event/caring-connections-for-parents-with-disabilities/2023-05-16/
LOCATION:Zoom\, Virtual
CATEGORIES:Information & Resources,Peer Support
ORGANIZER;CN="Renee Echols":MAILTO:renee@dnwml.org
END:VEVENT
END:VCALENDAR