BEGIN:VCALENDAR
VERSION:2.0
PRODID:-//Disability Network Washtenaw Monroe Livingston - ECPv6.15.20//NONSGML v1.0//EN
CALSCALE:GREGORIAN
METHOD:PUBLISH
X-WR-CALNAME:Disability Network Washtenaw Monroe Livingston
X-ORIGINAL-URL:https://dnwml.org
X-WR-CALDESC:Events for Disability Network Washtenaw Monroe Livingston
REFRESH-INTERVAL;VALUE=DURATION:PT1H
X-Robots-Tag:noindex
X-PUBLISHED-TTL:PT1H
BEGIN:VTIMEZONE
TZID:America/Detroit
BEGIN:DAYLIGHT
TZOFFSETFROM:-0500
TZOFFSETTO:-0400
TZNAME:EDT
DTSTART:20270314T070000
END:DAYLIGHT
BEGIN:STANDARD
TZOFFSETFROM:-0400
TZOFFSETTO:-0500
TZNAME:EST
DTSTART:20271107T060000
END:STANDARD
BEGIN:DAYLIGHT
TZOFFSETFROM:-0500
TZOFFSETTO:-0400
TZNAME:EDT
DTSTART:20280312T070000
END:DAYLIGHT
BEGIN:STANDARD
TZOFFSETFROM:-0400
TZOFFSETTO:-0500
TZNAME:EST
DTSTART:20281105T060000
END:STANDARD
BEGIN:DAYLIGHT
TZOFFSETFROM:-0500
TZOFFSETTO:-0400
TZNAME:EDT
DTSTART:20290311T070000
END:DAYLIGHT
BEGIN:STANDARD
TZOFFSETFROM:-0400
TZOFFSETTO:-0500
TZNAME:EST
DTSTART:20291104T060000
END:STANDARD
BEGIN:DAYLIGHT
TZOFFSETFROM:-0500
TZOFFSETTO:-0400
TZNAME:EDT
DTSTART:20300310T070000
END:DAYLIGHT
BEGIN:STANDARD
TZOFFSETFROM:-0400
TZOFFSETTO:-0500
TZNAME:EST
DTSTART:20301103T060000
END:STANDARD
BEGIN:DAYLIGHT
TZOFFSETFROM:-0500
TZOFFSETTO:-0400
TZNAME:EDT
DTSTART:20310309T070000
END:DAYLIGHT
BEGIN:STANDARD
TZOFFSETFROM:-0400
TZOFFSETTO:-0500
TZNAME:EST
DTSTART:20311102T060000
END:STANDARD
END:VTIMEZONE
BEGIN:VEVENT
DTSTART;VALUE=DATE:20281124
DTEND;VALUE=DATE:20281125
DTSTAMP:20260425T184040
CREATED:20240530T153718Z
LAST-MODIFIED:20240530T153718Z
UID:10003269-1858636800-1858723199@dnwml.org
SUMMARY:DNWML CLOSED
DESCRIPTION:Native American Heritage Day
URL:https://dnwml.org/event/dnwml-closed-21/2028-11-24/
CATEGORIES:Holiday Break,Special Event
END:VEVENT
BEGIN:VEVENT
DTSTART;VALUE=DATE:20281130
DTEND;VALUE=DATE:20281201
DTSTAMP:20260425T184040
CREATED:20231221T212358Z
LAST-MODIFIED:20240530T153610Z
UID:10003259-1859155200-1859241599@dnwml.org
SUMMARY:DNWML CLOSED
DESCRIPTION:Thanksgiving Day
URL:https://dnwml.org/event/dnwml-closed-18/2028-11-30/
CATEGORIES:Holiday Break,Special Event
END:VEVENT
BEGIN:VEVENT
DTSTART;VALUE=DATE:20290115
DTEND;VALUE=DATE:20290116
DTSTAMP:20260425T184040
CREATED:20231221T211734Z
LAST-MODIFIED:20240530T151253Z
UID:10003229-1863129600-1863215999@dnwml.org
SUMMARY:DNWML CLOSED
DESCRIPTION:MLK Jr. Day
URL:https://dnwml.org/event/dnwml-closed-10/2029-01-15/
CATEGORIES:Holiday Break,Special Event
END:VEVENT
BEGIN:VEVENT
DTSTART;VALUE=DATE:20290528
DTEND;VALUE=DATE:20290529
DTSTAMP:20260425T184040
CREATED:20231221T211825Z
LAST-MODIFIED:20240530T151526Z
UID:10003234-1874620800-1874707199@dnwml.org
SUMMARY:DNWML CLOSED
DESCRIPTION:Memorial Day
URL:https://dnwml.org/event/dnwml-closed-11/2029-05-28/
CATEGORIES:Holiday Break,Special Event
END:VEVENT
BEGIN:VEVENT
DTSTART;VALUE=DATE:20290703
DTEND;VALUE=DATE:20290704
DTSTAMP:20260425T184040
CREATED:20260203T173408Z
LAST-MODIFIED:20260203T173409Z
UID:10005355-1877731200-1877817599@dnwml.org
SUMMARY:DNWML CLOSED
DESCRIPTION:Independence Day
URL:https://dnwml.org/event/dnwml-closed-12-2/2029-07-03/
CATEGORIES:Holiday Break,Special Event
END:VEVENT
BEGIN:VEVENT
DTSTART;VALUE=DATE:20300703
DTEND;VALUE=DATE:20300704
DTSTAMP:20260425T184040
CREATED:20260203T173408Z
LAST-MODIFIED:20260203T173409Z
UID:10005356-1909267200-1909353599@dnwml.org
SUMMARY:DNWML CLOSED
DESCRIPTION:Independence Day
URL:https://dnwml.org/event/dnwml-closed-12-2/2030-07-03/
CATEGORIES:Holiday Break,Special Event
END:VEVENT
END:VCALENDAR