BEGIN:VCALENDAR
VERSION:2.0
PRODID:-//Disability Network Washtenaw Monroe Livingston - ECPv6.15.20//NONSGML v1.0//EN
CALSCALE:GREGORIAN
METHOD:PUBLISH
X-ORIGINAL-URL:https://dnwml.org
X-WR-CALDESC:Events for Disability Network Washtenaw Monroe Livingston
REFRESH-INTERVAL;VALUE=DURATION:PT1H
X-Robots-Tag:noindex
X-PUBLISHED-TTL:PT1H
BEGIN:VTIMEZONE
TZID:America/Detroit
BEGIN:DAYLIGHT
TZOFFSETFROM:-0500
TZOFFSETTO:-0400
TZNAME:EDT
DTSTART:20250309T070000
END:DAYLIGHT
BEGIN:STANDARD
TZOFFSETFROM:-0400
TZOFFSETTO:-0500
TZNAME:EST
DTSTART:20251102T060000
END:STANDARD
BEGIN:DAYLIGHT
TZOFFSETFROM:-0500
TZOFFSETTO:-0400
TZNAME:EDT
DTSTART:20260308T070000
END:DAYLIGHT
BEGIN:STANDARD
TZOFFSETFROM:-0400
TZOFFSETTO:-0500
TZNAME:EST
DTSTART:20261101T060000
END:STANDARD
BEGIN:DAYLIGHT
TZOFFSETFROM:-0500
TZOFFSETTO:-0400
TZNAME:EDT
DTSTART:20270314T070000
END:DAYLIGHT
BEGIN:STANDARD
TZOFFSETFROM:-0400
TZOFFSETTO:-0500
TZNAME:EST
DTSTART:20271107T060000
END:STANDARD
END:VTIMEZONE
BEGIN:VEVENT
DTSTART;TZID=America/Detroit:20260602T090000
DTEND;TZID=America/Detroit:20260602T150000
DTSTAMP:20260422T051714
CREATED:20260120T175823Z
LAST-MODIFIED:20260203T173144Z
UID:10005286-1780390800-1780412400@dnwml.org
SUMMARY:DNWML Closed
DESCRIPTION:The DNWML offices will be closed today from 9:00am to 3:00p for a staff meeting.
URL:https://dnwml.org/event/dnwml-closed-33/2026-06-02/
END:VEVENT
BEGIN:VEVENT
DTSTART;TZID=America/Detroit:20260603T120000
DTEND;TZID=America/Detroit:20260603T150000
DTSTAMP:20260422T051714
CREATED:20260203T170343Z
LAST-MODIFIED:20260203T170343Z
UID:10005334-1780488000-1780498800@dnwml.org
SUMMARY:Washtenaw: Drop-in Computer Lab Hours
DESCRIPTION:Drop-in access\, support\, and/or help at the Washtenaw Office.
URL:https://dnwml.org/event/washtenaw-drop-in-computer-lab-hours/2026-06-03/
LOCATION:Washtenaw/Ann Arbor DNWML\, 3941 Research Park Dr\, Ann Arbor\, 48108\, United States
CATEGORIES:General Support,Information & Resources
ORGANIZER;CN="Eliot Carter":MAILTO:eliot@dnwml.org
END:VEVENT
BEGIN:VEVENT
DTSTART;TZID=America/Detroit:20260605T110000
DTEND;TZID=America/Detroit:20260605T120000
DTSTAMP:20260422T051714
CREATED:20260415T154237Z
LAST-MODIFIED:20260415T154237Z
UID:10006006-1780657200-1780660800@dnwml.org
SUMMARY:Sweet & Salty Circle
DESCRIPTION:Join us this Summer session of Sweet & Salty Circle\, where we’ll dive into cookies\, candy\, chips\, and conversation\, all through the lens of living with disability. \nSweet & Salty Circle is a fun and fantastic opportunity to sample new treats and socialize with your peers. Each session\, participants will have a variety of sweet & salty treats to sample. \nUsing snacks as as our conversation piece\, we’ll explore seasonal flavors while reflecting on our own personal “flavor profiles” as individuals. \n\nSelected Fridays 11AM-Noon Virtually on Zoom \n\n\n\n\nRegistration required. \nContact Anna – anna@dnwml.org to RSVP and get specifics on sweet and salty treat for each session \nEach participant will be responsible for purchasing their own treats ahead of each session. \nFlyer: Sweet and Salty Circle (Summer 2026)
URL:https://dnwml.org/event/sweet-salty-circle-3/2026-06-05/
LOCATION:Zoom\, Virtual
CATEGORIES:Arts & Recreation,Entertainment
ORGANIZER;CN="Anna Dusbiber":MAILTO:anna@dnwml.org
END:VEVENT
BEGIN:VEVENT
DTSTART;TZID=America/Detroit:20260610T120000
DTEND;TZID=America/Detroit:20260610T150000
DTSTAMP:20260422T051714
CREATED:20260203T170343Z
LAST-MODIFIED:20260203T170343Z
UID:10005335-1781092800-1781103600@dnwml.org
SUMMARY:Washtenaw: Drop-in Computer Lab Hours
DESCRIPTION:Drop-in access\, support\, and/or help at the Washtenaw Office.
URL:https://dnwml.org/event/washtenaw-drop-in-computer-lab-hours/2026-06-10/
LOCATION:Washtenaw/Ann Arbor DNWML\, 3941 Research Park Dr\, Ann Arbor\, 48108\, United States
CATEGORIES:General Support,Information & Resources
ORGANIZER;CN="Eliot Carter":MAILTO:eliot@dnwml.org
END:VEVENT
BEGIN:VEVENT
DTSTART;TZID=America/Detroit:20260616T130000
DTEND;TZID=America/Detroit:20260616T140000
DTSTAMP:20260422T051714
CREATED:20260323T185232Z
LAST-MODIFIED:20260323T190959Z
UID:10005992-1781614800-1781618400@dnwml.org
SUMMARY:Empower Hour
DESCRIPTION:Anyone who identifies as having a disability is welcome to join our peer support group. \nEvery other Tuesday of the month\, we will gather for one hour to connect. Share lived experiences and coping strategies and provide support to each other physically and emotionally\, as we all tackle the social challenges that come with having a disability. \nNo meeting on May 5th or June 2nd. \nFlyer: Empower Hour Monroe Flyer
URL:https://dnwml.org/event/empower-hour-3/2026-06-16/
LOCATION:Monroe DNWML\, 1070 S. Telegraph Rd.\, Monroe\, MI\, 48161\, United States
CATEGORIES:Information & Resources,Peer Support
ORGANIZER;CN="Celleste Williams":MAILTO:celleste@dnwml.org
END:VEVENT
BEGIN:VEVENT
DTSTART;TZID=America/Detroit:20260617T120000
DTEND;TZID=America/Detroit:20260617T150000
DTSTAMP:20260422T051714
CREATED:20260203T170343Z
LAST-MODIFIED:20260203T170343Z
UID:10005336-1781697600-1781708400@dnwml.org
SUMMARY:Washtenaw: Drop-in Computer Lab Hours
DESCRIPTION:Drop-in access\, support\, and/or help at the Washtenaw Office.
URL:https://dnwml.org/event/washtenaw-drop-in-computer-lab-hours/2026-06-17/
LOCATION:Washtenaw/Ann Arbor DNWML\, 3941 Research Park Dr\, Ann Arbor\, 48108\, United States
CATEGORIES:General Support,Information & Resources
ORGANIZER;CN="Eliot Carter":MAILTO:eliot@dnwml.org
END:VEVENT
BEGIN:VEVENT
DTSTART;VALUE=DATE:20260618
DTEND;VALUE=DATE:20260619
DTSTAMP:20260422T051714
CREATED:20260305T201718Z
LAST-MODIFIED:20260305T201745Z
UID:10005377-1781740800-1781827199@dnwml.org
SUMMARY:DNWML Closed
DESCRIPTION:DNWML Offices are closed today. We will return to our regular schedule on June 22nd.
URL:https://dnwml.org/event/dnwml-closed-36/
CATEGORIES:Office Closure,Special Event
END:VEVENT
BEGIN:VEVENT
DTSTART;VALUE=DATE:20260619
DTEND;VALUE=DATE:20260620
DTSTAMP:20260422T051714
CREATED:20231221T212050Z
LAST-MODIFIED:20240530T150851Z
UID:10003222-1781827200-1781913599@dnwml.org
SUMMARY:DNWML CLOSED
DESCRIPTION:Juneteenth
URL:https://dnwml.org/event/dnwml-closed-14/2026-06-19/
CATEGORIES:Holiday Break,Special Event
END:VEVENT
BEGIN:VEVENT
DTSTART;TZID=America/Detroit:20260624T120000
DTEND;TZID=America/Detroit:20260624T150000
DTSTAMP:20260422T051714
CREATED:20260203T170343Z
LAST-MODIFIED:20260203T170343Z
UID:10005337-1782302400-1782313200@dnwml.org
SUMMARY:Washtenaw: Drop-in Computer Lab Hours
DESCRIPTION:Drop-in access\, support\, and/or help at the Washtenaw Office.
URL:https://dnwml.org/event/washtenaw-drop-in-computer-lab-hours/2026-06-24/
LOCATION:Washtenaw/Ann Arbor DNWML\, 3941 Research Park Dr\, Ann Arbor\, 48108\, United States
CATEGORIES:General Support,Information & Resources
ORGANIZER;CN="Eliot Carter":MAILTO:eliot@dnwml.org
END:VEVENT
BEGIN:VEVENT
DTSTART;TZID=America/Detroit:20260630T130000
DTEND;TZID=America/Detroit:20260630T140000
DTSTAMP:20260422T051714
CREATED:20260323T185232Z
LAST-MODIFIED:20260323T190959Z
UID:10005993-1782824400-1782828000@dnwml.org
SUMMARY:Empower Hour
DESCRIPTION:Anyone who identifies as having a disability is welcome to join our peer support group. \nEvery other Tuesday of the month\, we will gather for one hour to connect. Share lived experiences and coping strategies and provide support to each other physically and emotionally\, as we all tackle the social challenges that come with having a disability. \nNo meeting on May 5th or June 2nd. \nFlyer: Empower Hour Monroe Flyer
URL:https://dnwml.org/event/empower-hour-3/2026-06-30/
LOCATION:Monroe DNWML\, 1070 S. Telegraph Rd.\, Monroe\, MI\, 48161\, United States
CATEGORIES:Information & Resources,Peer Support
ORGANIZER;CN="Celleste Williams":MAILTO:celleste@dnwml.org
END:VEVENT
END:VCALENDAR