BEGIN:VCALENDAR
VERSION:2.0
PRODID:-//Disability Network Washtenaw Monroe Livingston - ECPv6.15.20//NONSGML v1.0//EN
CALSCALE:GREGORIAN
METHOD:PUBLISH
X-ORIGINAL-URL:https://dnwml.org
X-WR-CALDESC:Events for Disability Network Washtenaw Monroe Livingston
REFRESH-INTERVAL;VALUE=DURATION:PT1H
X-Robots-Tag:noindex
X-PUBLISHED-TTL:PT1H
BEGIN:VTIMEZONE
TZID:America/Detroit
BEGIN:DAYLIGHT
TZOFFSETFROM:-0500
TZOFFSETTO:-0400
TZNAME:EDT
DTSTART:20240310T070000
END:DAYLIGHT
BEGIN:STANDARD
TZOFFSETFROM:-0400
TZOFFSETTO:-0500
TZNAME:EST
DTSTART:20241103T060000
END:STANDARD
BEGIN:DAYLIGHT
TZOFFSETFROM:-0500
TZOFFSETTO:-0400
TZNAME:EDT
DTSTART:20250309T070000
END:DAYLIGHT
BEGIN:STANDARD
TZOFFSETFROM:-0400
TZOFFSETTO:-0500
TZNAME:EST
DTSTART:20251102T060000
END:STANDARD
BEGIN:DAYLIGHT
TZOFFSETFROM:-0500
TZOFFSETTO:-0400
TZNAME:EDT
DTSTART:20260308T070000
END:DAYLIGHT
BEGIN:STANDARD
TZOFFSETFROM:-0400
TZOFFSETTO:-0500
TZNAME:EST
DTSTART:20261101T060000
END:STANDARD
BEGIN:DAYLIGHT
TZOFFSETFROM:-0500
TZOFFSETTO:-0400
TZNAME:EDT
DTSTART:20270314T070000
END:DAYLIGHT
BEGIN:STANDARD
TZOFFSETFROM:-0400
TZOFFSETTO:-0500
TZNAME:EST
DTSTART:20271107T060000
END:STANDARD
END:VTIMEZONE
BEGIN:VEVENT
DTSTART;TZID=America/Detroit:20260204T100000
DTEND;TZID=America/Detroit:20260204T120000
DTSTAMP:20260424T101417
CREATED:20250521T151625Z
LAST-MODIFIED:20260317T194545Z
UID:10005199-1770199200-1770206400@dnwml.org
SUMMARY:Studio Be: Open Studio (in person)
DESCRIPTION:Studio Be: Open Studio (in person)\nMake art and learn about artists and new techniques in a relaxed social environment. Drop-in\, open studio style. Try a new material and experiment in the studio alongside your friends. \nTo receive weekly Art Programming email updates\, contact Claire! \nDownload and print the flyer: Art Program Brochure
URL:https://dnwml.org/event/studio-be-open-studio-in-person/2026-02-04/
LOCATION:Washtenaw/Ann Arbor DNWML\, 3941 Research Park Dr\, Ann Arbor\, 48108\, United States
CATEGORIES:Art,Arts & Recreation
ORGANIZER;CN="Claire Moore":MAILTO:claire@dnwml.org
END:VEVENT
BEGIN:VEVENT
DTSTART;TZID=America/Detroit:20260202T110000
DTEND;TZID=America/Detroit:20260202T120000
DTSTAMP:20260424T101417
CREATED:20250730T142947Z
LAST-MODIFIED:20260317T194514Z
UID:10005185-1770030000-1770033600@dnwml.org
SUMMARY:Studio Be: Virtual
DESCRIPTION:Studio Be: Virtual\n\nThe Zoom version of our popular Art Class. Just as social\, fun\, and creative as the in-person option! Open studio style: share what you’re working on\, get feedback\, or just chat all things art (and beyond!) \nZoom link given upon contacting Claire. \nTo receive weekly Art Programming email updates\, contact Claire! \nDownload the program flyer here: Art Program Brochure
URL:https://dnwml.org/event/virtual-art-class-2-2/2026-02-02/
LOCATION:Zoom\, Virtual
CATEGORIES:Art,Arts & Recreation
ORGANIZER;CN="Claire Moore":MAILTO:claire@dnwml.org
END:VEVENT
BEGIN:VEVENT
DTSTART;TZID=America/Detroit:20260129T130000
DTEND;TZID=America/Detroit:20260129T150000
DTSTAMP:20260424T101417
CREATED:20250730T142705Z
LAST-MODIFIED:20260317T194616Z
UID:10005212-1769691600-1769698800@dnwml.org
SUMMARY:Studio Be: Guided Sessions (in person)
DESCRIPTION:Studio Be: Guided Sessions (in person)\nMake art (and friends!) and learn about artists and new techniques in a relaxed social environment. Rotating through different media\, we explore materials and processes in a guided manner. No previous experience is necessary. Materials provided. \nTo receive weekly Art Programming email updates\, contact Claire! \n\nDownload and print the flyer: Art Program Brochure
URL:https://dnwml.org/event/in-person-art-class-guided-sessions-4-2-2-2-2-2-2/2026-01-29/
LOCATION:Washtenaw/Ann Arbor DNWML\, 3941 Research Park Dr\, Ann Arbor\, 48108\, United States
CATEGORIES:Art,Arts & Recreation
ORGANIZER;CN="Claire Moore":MAILTO:claire@dnwml.org
END:VEVENT
BEGIN:VEVENT
DTSTART;TZID=America/Detroit:20260128T100000
DTEND;TZID=America/Detroit:20260128T120000
DTSTAMP:20260424T101417
CREATED:20250521T151625Z
LAST-MODIFIED:20260317T194545Z
UID:10005198-1769594400-1769601600@dnwml.org
SUMMARY:Studio Be: Open Studio (in person)
DESCRIPTION:Studio Be: Open Studio (in person)\nMake art and learn about artists and new techniques in a relaxed social environment. Drop-in\, open studio style. Try a new material and experiment in the studio alongside your friends. \nTo receive weekly Art Programming email updates\, contact Claire! \nDownload and print the flyer: Art Program Brochure
URL:https://dnwml.org/event/studio-be-open-studio-in-person/2026-01-28/
LOCATION:Washtenaw/Ann Arbor DNWML\, 3941 Research Park Dr\, Ann Arbor\, 48108\, United States
CATEGORIES:Art,Arts & Recreation
ORGANIZER;CN="Claire Moore":MAILTO:claire@dnwml.org
END:VEVENT
BEGIN:VEVENT
DTSTART;TZID=America/Detroit:20260126T110000
DTEND;TZID=America/Detroit:20260126T120000
DTSTAMP:20260424T101417
CREATED:20250730T142947Z
LAST-MODIFIED:20260317T194514Z
UID:10005184-1769425200-1769428800@dnwml.org
SUMMARY:Studio Be: Virtual
DESCRIPTION:Studio Be: Virtual\n\nThe Zoom version of our popular Art Class. Just as social\, fun\, and creative as the in-person option! Open studio style: share what you’re working on\, get feedback\, or just chat all things art (and beyond!) \nZoom link given upon contacting Claire. \nTo receive weekly Art Programming email updates\, contact Claire! \nDownload the program flyer here: Art Program Brochure
URL:https://dnwml.org/event/virtual-art-class-2-2/2026-01-26/
LOCATION:Zoom\, Virtual
CATEGORIES:Art,Arts & Recreation
ORGANIZER;CN="Claire Moore":MAILTO:claire@dnwml.org
END:VEVENT
BEGIN:VEVENT
DTSTART;TZID=America/Detroit:20260122T130000
DTEND;TZID=America/Detroit:20260122T150000
DTSTAMP:20260424T101417
CREATED:20250730T142705Z
LAST-MODIFIED:20260317T194616Z
UID:10005211-1769086800-1769094000@dnwml.org
SUMMARY:Studio Be: Guided Sessions (in person)
DESCRIPTION:Studio Be: Guided Sessions (in person)\nMake art (and friends!) and learn about artists and new techniques in a relaxed social environment. Rotating through different media\, we explore materials and processes in a guided manner. No previous experience is necessary. Materials provided. \nTo receive weekly Art Programming email updates\, contact Claire! \n\nDownload and print the flyer: Art Program Brochure
URL:https://dnwml.org/event/in-person-art-class-guided-sessions-4-2-2-2-2-2-2/2026-01-22/
LOCATION:Washtenaw/Ann Arbor DNWML\, 3941 Research Park Dr\, Ann Arbor\, 48108\, United States
CATEGORIES:Art,Arts & Recreation
ORGANIZER;CN="Claire Moore":MAILTO:claire@dnwml.org
END:VEVENT
BEGIN:VEVENT
DTSTART;TZID=America/Detroit:20260121T100000
DTEND;TZID=America/Detroit:20260121T120000
DTSTAMP:20260424T101417
CREATED:20250521T151625Z
LAST-MODIFIED:20260317T194545Z
UID:10005197-1768989600-1768996800@dnwml.org
SUMMARY:Studio Be: Open Studio (in person)
DESCRIPTION:Studio Be: Open Studio (in person)\nMake art and learn about artists and new techniques in a relaxed social environment. Drop-in\, open studio style. Try a new material and experiment in the studio alongside your friends. \nTo receive weekly Art Programming email updates\, contact Claire! \nDownload and print the flyer: Art Program Brochure
URL:https://dnwml.org/event/studio-be-open-studio-in-person/2026-01-21/
LOCATION:Washtenaw/Ann Arbor DNWML\, 3941 Research Park Dr\, Ann Arbor\, 48108\, United States
CATEGORIES:Art,Arts & Recreation
ORGANIZER;CN="Claire Moore":MAILTO:claire@dnwml.org
END:VEVENT
BEGIN:VEVENT
DTSTART;TZID=America/Detroit:20260114T100000
DTEND;TZID=America/Detroit:20260114T120000
DTSTAMP:20260424T101417
CREATED:20250521T151625Z
LAST-MODIFIED:20260317T194545Z
UID:10005196-1768384800-1768392000@dnwml.org
SUMMARY:Studio Be: Open Studio (in person)
DESCRIPTION:Studio Be: Open Studio (in person)\nMake art and learn about artists and new techniques in a relaxed social environment. Drop-in\, open studio style. Try a new material and experiment in the studio alongside your friends. \nTo receive weekly Art Programming email updates\, contact Claire! \nDownload and print the flyer: Art Program Brochure
URL:https://dnwml.org/event/studio-be-open-studio-in-person/2026-01-14/
LOCATION:Washtenaw/Ann Arbor DNWML\, 3941 Research Park Dr\, Ann Arbor\, 48108\, United States
CATEGORIES:Art,Arts & Recreation
ORGANIZER;CN="Claire Moore":MAILTO:claire@dnwml.org
END:VEVENT
BEGIN:VEVENT
DTSTART;TZID=America/Detroit:20260112T110000
DTEND;TZID=America/Detroit:20260112T120000
DTSTAMP:20260424T101417
CREATED:20250730T142947Z
LAST-MODIFIED:20260317T194514Z
UID:10005182-1768215600-1768219200@dnwml.org
SUMMARY:Studio Be: Virtual
DESCRIPTION:Studio Be: Virtual\n\nThe Zoom version of our popular Art Class. Just as social\, fun\, and creative as the in-person option! Open studio style: share what you’re working on\, get feedback\, or just chat all things art (and beyond!) \nZoom link given upon contacting Claire. \nTo receive weekly Art Programming email updates\, contact Claire! \nDownload the program flyer here: Art Program Brochure
URL:https://dnwml.org/event/virtual-art-class-2-2/2026-01-12/
LOCATION:Zoom\, Virtual
CATEGORIES:Art,Arts & Recreation
ORGANIZER;CN="Claire Moore":MAILTO:claire@dnwml.org
END:VEVENT
BEGIN:VEVENT
DTSTART;TZID=America/Detroit:20251217T100000
DTEND;TZID=America/Detroit:20251217T120000
DTSTAMP:20260424T101417
CREATED:20250521T151625Z
LAST-MODIFIED:20260317T194545Z
UID:10005224-1765965600-1765972800@dnwml.org
SUMMARY:Studio Be: Open Studio (in person)
DESCRIPTION:Studio Be: Open Studio (in person)\nMake art and learn about artists and new techniques in a relaxed social environment. Drop-in\, open studio style. Try a new material and experiment in the studio alongside your friends. \nTo receive weekly Art Programming email updates\, contact Claire! \nDownload and print the flyer: Art Program Brochure
URL:https://dnwml.org/event/studio-be-open-studio-in-person/2025-12-17/
LOCATION:Washtenaw/Ann Arbor DNWML\, 3941 Research Park Dr\, Ann Arbor\, 48108\, United States
CATEGORIES:Art,Arts & Recreation
ORGANIZER;CN="Claire Moore":MAILTO:claire@dnwml.org
END:VEVENT
BEGIN:VEVENT
DTSTART;TZID=America/Detroit:20251215T110000
DTEND;TZID=America/Detroit:20251215T120000
DTSTAMP:20260424T101417
CREATED:20250730T142947Z
LAST-MODIFIED:20260317T194514Z
UID:10005223-1765796400-1765800000@dnwml.org
SUMMARY:Studio Be: Virtual
DESCRIPTION:Studio Be: Virtual\n\nThe Zoom version of our popular Art Class. Just as social\, fun\, and creative as the in-person option! Open studio style: share what you’re working on\, get feedback\, or just chat all things art (and beyond!) \nZoom link given upon contacting Claire. \nTo receive weekly Art Programming email updates\, contact Claire! \nDownload the program flyer here: Art Program Brochure
URL:https://dnwml.org/event/virtual-art-class-2-2/2025-12-15/
LOCATION:Zoom\, Virtual
CATEGORIES:Art,Arts & Recreation
ORGANIZER;CN="Claire Moore":MAILTO:claire@dnwml.org
END:VEVENT
BEGIN:VEVENT
DTSTART;TZID=America/Detroit:20251208T110000
DTEND;TZID=America/Detroit:20251208T120000
DTSTAMP:20260424T101417
CREATED:20250730T142947Z
LAST-MODIFIED:20260317T194514Z
UID:10005160-1765191600-1765195200@dnwml.org
SUMMARY:Studio Be: Virtual
DESCRIPTION:Studio Be: Virtual\n\nThe Zoom version of our popular Art Class. Just as social\, fun\, and creative as the in-person option! Open studio style: share what you’re working on\, get feedback\, or just chat all things art (and beyond!) \nZoom link given upon contacting Claire. \nTo receive weekly Art Programming email updates\, contact Claire! \nDownload the program flyer here: Art Program Brochure
URL:https://dnwml.org/event/virtual-art-class-2-2/2025-12-08/
LOCATION:Zoom\, Virtual
CATEGORIES:Art,Arts & Recreation
ORGANIZER;CN="Claire Moore":MAILTO:claire@dnwml.org
END:VEVENT
BEGIN:VEVENT
DTSTART;TZID=America/Detroit:20251206T130000
DTEND;TZID=America/Detroit:20251206T160000
DTSTAMP:20260424T101417
CREATED:20250911T133516Z
LAST-MODIFIED:20250911T133517Z
UID:10005139-1765026000-1765036800@dnwml.org
SUMMARY:Holiday Markets
DESCRIPTION:HOLIDAY MARKETS \n\n\n\nJoin us for the third year of our Holiday Markets at our Washtenaw Office: support local artists with disabilities AND get your holiday shopping wrapped up! \nFree refreshments. Gift wrapping available at December market. \n\n\n\n\nJewelry\nPottery/ceramics\nPaintings\nCards\nPhotographs\nTextiles/wearables\nSmall sculptures\nPaper quilling\nAnd much more!\n\n\n\n\nMarket Day Two\nSaturday\, December 6\n1:00-4:00pm \n$5 suggested entry donation! \nEvent flyer: HOLIDAY Market Flyer 2025 (2) \n\n\n\n\n\n\n\n\n\n 
URL:https://dnwml.org/event/holiday-markets25-2/
LOCATION:Washtenaw/Ann Arbor DNWML\, 3941 Research Park Dr\, Ann Arbor\, 48108\, United States
CATEGORIES:Art,Arts & Recreation,Entertainment,Independent Living Skills,Outreach,Special Event
ORGANIZER;CN="Claire Moore":MAILTO:claire@dnwml.org
END:VEVENT
BEGIN:VEVENT
DTSTART;TZID=America/Detroit:20251204T130000
DTEND;TZID=America/Detroit:20251204T150000
DTSTAMP:20260424T101417
CREATED:20250730T142705Z
LAST-MODIFIED:20260317T194616Z
UID:10004638-1764853200-1764860400@dnwml.org
SUMMARY:Studio Be: Guided Sessions (in person)
DESCRIPTION:Studio Be: Guided Sessions (in person)\nMake art (and friends!) and learn about artists and new techniques in a relaxed social environment. Rotating through different media\, we explore materials and processes in a guided manner. No previous experience is necessary. Materials provided. \nTo receive weekly Art Programming email updates\, contact Claire! \n\nDownload and print the flyer: Art Program Brochure
URL:https://dnwml.org/event/in-person-art-class-guided-sessions-4-2-2-2-2-2-2/2025-12-04/
LOCATION:Washtenaw/Ann Arbor DNWML\, 3941 Research Park Dr\, Ann Arbor\, 48108\, United States
CATEGORIES:Art,Arts & Recreation
ORGANIZER;CN="Claire Moore":MAILTO:claire@dnwml.org
END:VEVENT
BEGIN:VEVENT
DTSTART;TZID=America/Detroit:20251203T100000
DTEND;TZID=America/Detroit:20251203T120000
DTSTAMP:20260424T101417
CREATED:20250521T151625Z
LAST-MODIFIED:20260317T194545Z
UID:10004621-1764756000-1764763200@dnwml.org
SUMMARY:Studio Be: Open Studio (in person)
DESCRIPTION:Studio Be: Open Studio (in person)\nMake art and learn about artists and new techniques in a relaxed social environment. Drop-in\, open studio style. Try a new material and experiment in the studio alongside your friends. \nTo receive weekly Art Programming email updates\, contact Claire! \nDownload and print the flyer: Art Program Brochure
URL:https://dnwml.org/event/studio-be-open-studio-in-person/2025-12-03/
LOCATION:Washtenaw/Ann Arbor DNWML\, 3941 Research Park Dr\, Ann Arbor\, 48108\, United States
CATEGORIES:Art,Arts & Recreation
ORGANIZER;CN="Claire Moore":MAILTO:claire@dnwml.org
END:VEVENT
BEGIN:VEVENT
DTSTART;TZID=America/Detroit:20251201T110000
DTEND;TZID=America/Detroit:20251201T120000
DTSTAMP:20260424T101417
CREATED:20250730T142947Z
LAST-MODIFIED:20260317T194514Z
UID:10004653-1764586800-1764590400@dnwml.org
SUMMARY:Studio Be: Virtual
DESCRIPTION:Studio Be: Virtual\n\nThe Zoom version of our popular Art Class. Just as social\, fun\, and creative as the in-person option! Open studio style: share what you’re working on\, get feedback\, or just chat all things art (and beyond!) \nZoom link given upon contacting Claire. \nTo receive weekly Art Programming email updates\, contact Claire! \nDownload the program flyer here: Art Program Brochure
URL:https://dnwml.org/event/virtual-art-class-2-2/2025-12-01/
LOCATION:Zoom\, Virtual
CATEGORIES:Art,Arts & Recreation
ORGANIZER;CN="Claire Moore":MAILTO:claire@dnwml.org
END:VEVENT
BEGIN:VEVENT
DTSTART;TZID=America/Detroit:20251120T130000
DTEND;TZID=America/Detroit:20251120T150000
DTSTAMP:20260424T101417
CREATED:20250730T142705Z
LAST-MODIFIED:20260317T194616Z
UID:10004636-1763643600-1763650800@dnwml.org
SUMMARY:Studio Be: Guided Sessions (in person)
DESCRIPTION:Studio Be: Guided Sessions (in person)\nMake art (and friends!) and learn about artists and new techniques in a relaxed social environment. Rotating through different media\, we explore materials and processes in a guided manner. No previous experience is necessary. Materials provided. \nTo receive weekly Art Programming email updates\, contact Claire! \n\nDownload and print the flyer: Art Program Brochure
URL:https://dnwml.org/event/in-person-art-class-guided-sessions-4-2-2-2-2-2-2/2025-11-20/
LOCATION:Washtenaw/Ann Arbor DNWML\, 3941 Research Park Dr\, Ann Arbor\, 48108\, United States
CATEGORIES:Art,Arts & Recreation
ORGANIZER;CN="Claire Moore":MAILTO:claire@dnwml.org
END:VEVENT
BEGIN:VEVENT
DTSTART;TZID=America/Detroit:20251119T100000
DTEND;TZID=America/Detroit:20251119T120000
DTSTAMP:20260424T101417
CREATED:20250521T151625Z
LAST-MODIFIED:20260317T194545Z
UID:10004619-1763546400-1763553600@dnwml.org
SUMMARY:Studio Be: Open Studio (in person)
DESCRIPTION:Studio Be: Open Studio (in person)\nMake art and learn about artists and new techniques in a relaxed social environment. Drop-in\, open studio style. Try a new material and experiment in the studio alongside your friends. \nTo receive weekly Art Programming email updates\, contact Claire! \nDownload and print the flyer: Art Program Brochure
URL:https://dnwml.org/event/studio-be-open-studio-in-person/2025-11-19/
LOCATION:Washtenaw/Ann Arbor DNWML\, 3941 Research Park Dr\, Ann Arbor\, 48108\, United States
CATEGORIES:Art,Arts & Recreation
ORGANIZER;CN="Claire Moore":MAILTO:claire@dnwml.org
END:VEVENT
BEGIN:VEVENT
DTSTART;TZID=America/Detroit:20251117T110000
DTEND;TZID=America/Detroit:20251117T120000
DTSTAMP:20260424T101417
CREATED:20250730T142947Z
LAST-MODIFIED:20260317T194514Z
UID:10004651-1763377200-1763380800@dnwml.org
SUMMARY:Studio Be: Virtual
DESCRIPTION:Studio Be: Virtual\n\nThe Zoom version of our popular Art Class. Just as social\, fun\, and creative as the in-person option! Open studio style: share what you’re working on\, get feedback\, or just chat all things art (and beyond!) \nZoom link given upon contacting Claire. \nTo receive weekly Art Programming email updates\, contact Claire! \nDownload the program flyer here: Art Program Brochure
URL:https://dnwml.org/event/virtual-art-class-2-2/2025-11-17/
LOCATION:Zoom\, Virtual
CATEGORIES:Art,Arts & Recreation
ORGANIZER;CN="Claire Moore":MAILTO:claire@dnwml.org
END:VEVENT
BEGIN:VEVENT
DTSTART;TZID=America/Detroit:20251115T130000
DTEND;TZID=America/Detroit:20251115T160000
DTSTAMP:20260424T101417
CREATED:20250911T133040Z
LAST-MODIFIED:20250911T133317Z
UID:10005138-1763211600-1763222400@dnwml.org
SUMMARY:Holiday Markets
DESCRIPTION:HOLIDAY MARKETS \n\n\n\nJoin us for the third year of our Holiday Markets at our Washtenaw Office: support local artists with disabilities AND get your holiday shopping wrapped up! \nFree refreshments. Gift wrapping available at December market. \n\n\n\n\nJewelry\nPottery/ceramics\nPaintings\nCards\nPhotographs\nTextiles/wearables\nSmall sculptures\nPaper quilling\nAnd much more!\n\n\n\n\nMarket Day One\nSaturday\, November 15\n1:00-4:00pm\nDuring/Following Harvest Gathering \nMarket Day Two\nSaturday\, December 6\n1:00-4:00pm \n$5 suggested entry donation! \nEvent flyer: HOLIDAY Market Flyer 2025 (2) \n\n\n\n\n\n\n\n\n\n 
URL:https://dnwml.org/event/holiday-markets25/
LOCATION:Washtenaw/Ann Arbor DNWML\, 3941 Research Park Dr\, Ann Arbor\, 48108\, United States
CATEGORIES:Art,Arts & Recreation,Entertainment,Independent Living Skills,Outreach,Special Event
ORGANIZER;CN="Claire Moore":MAILTO:claire@dnwml.org
END:VEVENT
BEGIN:VEVENT
DTSTART;TZID=America/Detroit:20251115T110000
DTEND;TZID=America/Detroit:20251115T130000
DTSTAMP:20260424T101417
CREATED:20250911T133921Z
LAST-MODIFIED:20250911T133921Z
UID:10005140-1763204400-1763211600@dnwml.org
SUMMARY:Harvest Gathering
DESCRIPTION:Harvest Gathering\nSavor the autumn atmosphere with friends at Disability Network. Join us for FREE food and beverages\, take in colorful conversation\, and enjoy live entertainment— including DNWML’s own Theatre Be! \nStick around for our Holiday Market\, where you’ll be able to purchase unique holiday gifts while supporting local disabled artists. \nDid you attend our July ADA Celebration and contribute to our collaborative mural? Come see the official unveiling of the finished artwork during Harvest Gathering! \n\n\n\n\n\n\nSaturday\, November 15\nLunch 11:00AM – 1:00PM | Holiday Market 1:00 – 4:00PM\nDisability Network – Washtenaw Office
URL:https://dnwml.org/event/harvest-gathering-3/
LOCATION:Washtenaw/Ann Arbor DNWML\, 3941 Research Park Dr\, Ann Arbor\, 48108\, United States
CATEGORIES:Arts & Recreation,Entertainment,Special Event
ORGANIZER;CN="Claire Moore":MAILTO:claire@dnwml.org
END:VEVENT
BEGIN:VEVENT
DTSTART;TZID=America/Detroit:20251113T130000
DTEND;TZID=America/Detroit:20251113T150000
DTSTAMP:20260424T101417
CREATED:20250730T142705Z
LAST-MODIFIED:20260317T194616Z
UID:10004635-1763038800-1763046000@dnwml.org
SUMMARY:Studio Be: Guided Sessions (in person)
DESCRIPTION:Studio Be: Guided Sessions (in person)\nMake art (and friends!) and learn about artists and new techniques in a relaxed social environment. Rotating through different media\, we explore materials and processes in a guided manner. No previous experience is necessary. Materials provided. \nTo receive weekly Art Programming email updates\, contact Claire! \n\nDownload and print the flyer: Art Program Brochure
URL:https://dnwml.org/event/in-person-art-class-guided-sessions-4-2-2-2-2-2-2/2025-11-13/
LOCATION:Washtenaw/Ann Arbor DNWML\, 3941 Research Park Dr\, Ann Arbor\, 48108\, United States
CATEGORIES:Art,Arts & Recreation
ORGANIZER;CN="Claire Moore":MAILTO:claire@dnwml.org
END:VEVENT
BEGIN:VEVENT
DTSTART;TZID=America/Detroit:20251112T100000
DTEND;TZID=America/Detroit:20251112T120000
DTSTAMP:20260424T101417
CREATED:20250521T151625Z
LAST-MODIFIED:20260317T194545Z
UID:10004618-1762941600-1762948800@dnwml.org
SUMMARY:Studio Be: Open Studio (in person)
DESCRIPTION:Studio Be: Open Studio (in person)\nMake art and learn about artists and new techniques in a relaxed social environment. Drop-in\, open studio style. Try a new material and experiment in the studio alongside your friends. \nTo receive weekly Art Programming email updates\, contact Claire! \nDownload and print the flyer: Art Program Brochure
URL:https://dnwml.org/event/studio-be-open-studio-in-person/2025-11-12/
LOCATION:Washtenaw/Ann Arbor DNWML\, 3941 Research Park Dr\, Ann Arbor\, 48108\, United States
CATEGORIES:Art,Arts & Recreation
ORGANIZER;CN="Claire Moore":MAILTO:claire@dnwml.org
END:VEVENT
BEGIN:VEVENT
DTSTART;TZID=America/Detroit:20251110T110000
DTEND;TZID=America/Detroit:20251110T120000
DTSTAMP:20260424T101417
CREATED:20250730T142947Z
LAST-MODIFIED:20260317T194514Z
UID:10004650-1762772400-1762776000@dnwml.org
SUMMARY:Studio Be: Virtual
DESCRIPTION:Studio Be: Virtual\n\nThe Zoom version of our popular Art Class. Just as social\, fun\, and creative as the in-person option! Open studio style: share what you’re working on\, get feedback\, or just chat all things art (and beyond!) \nZoom link given upon contacting Claire. \nTo receive weekly Art Programming email updates\, contact Claire! \nDownload the program flyer here: Art Program Brochure
URL:https://dnwml.org/event/virtual-art-class-2-2/2025-11-10/
LOCATION:Zoom\, Virtual
CATEGORIES:Art,Arts & Recreation
ORGANIZER;CN="Claire Moore":MAILTO:claire@dnwml.org
END:VEVENT
BEGIN:VEVENT
DTSTART;TZID=America/Detroit:20251106T130000
DTEND;TZID=America/Detroit:20251106T150000
DTSTAMP:20260424T101417
CREATED:20250730T142705Z
LAST-MODIFIED:20260317T194616Z
UID:10004634-1762434000-1762441200@dnwml.org
SUMMARY:Studio Be: Guided Sessions (in person)
DESCRIPTION:Studio Be: Guided Sessions (in person)\nMake art (and friends!) and learn about artists and new techniques in a relaxed social environment. Rotating through different media\, we explore materials and processes in a guided manner. No previous experience is necessary. Materials provided. \nTo receive weekly Art Programming email updates\, contact Claire! \n\nDownload and print the flyer: Art Program Brochure
URL:https://dnwml.org/event/in-person-art-class-guided-sessions-4-2-2-2-2-2-2/2025-11-06/
LOCATION:Washtenaw/Ann Arbor DNWML\, 3941 Research Park Dr\, Ann Arbor\, 48108\, United States
CATEGORIES:Art,Arts & Recreation
ORGANIZER;CN="Claire Moore":MAILTO:claire@dnwml.org
END:VEVENT
BEGIN:VEVENT
DTSTART;TZID=America/Detroit:20251105T100000
DTEND;TZID=America/Detroit:20251105T120000
DTSTAMP:20260424T101417
CREATED:20250521T151625Z
LAST-MODIFIED:20260317T194545Z
UID:10004617-1762336800-1762344000@dnwml.org
SUMMARY:Studio Be: Open Studio (in person)
DESCRIPTION:Studio Be: Open Studio (in person)\nMake art and learn about artists and new techniques in a relaxed social environment. Drop-in\, open studio style. Try a new material and experiment in the studio alongside your friends. \nTo receive weekly Art Programming email updates\, contact Claire! \nDownload and print the flyer: Art Program Brochure
URL:https://dnwml.org/event/studio-be-open-studio-in-person/2025-11-05/
LOCATION:Washtenaw/Ann Arbor DNWML\, 3941 Research Park Dr\, Ann Arbor\, 48108\, United States
CATEGORIES:Art,Arts & Recreation
ORGANIZER;CN="Claire Moore":MAILTO:claire@dnwml.org
END:VEVENT
BEGIN:VEVENT
DTSTART;TZID=America/Detroit:20251103T110000
DTEND;TZID=America/Detroit:20251103T120000
DTSTAMP:20260424T101417
CREATED:20250730T142947Z
LAST-MODIFIED:20260317T194514Z
UID:10004649-1762167600-1762171200@dnwml.org
SUMMARY:Studio Be: Virtual
DESCRIPTION:Studio Be: Virtual\n\nThe Zoom version of our popular Art Class. Just as social\, fun\, and creative as the in-person option! Open studio style: share what you’re working on\, get feedback\, or just chat all things art (and beyond!) \nZoom link given upon contacting Claire. \nTo receive weekly Art Programming email updates\, contact Claire! \nDownload the program flyer here: Art Program Brochure
URL:https://dnwml.org/event/virtual-art-class-2-2/2025-11-03/
LOCATION:Zoom\, Virtual
CATEGORIES:Art,Arts & Recreation
ORGANIZER;CN="Claire Moore":MAILTO:claire@dnwml.org
END:VEVENT
BEGIN:VEVENT
DTSTART;TZID=America/Detroit:20251030T130000
DTEND;TZID=America/Detroit:20251030T150000
DTSTAMP:20260424T101417
CREATED:20250730T142705Z
LAST-MODIFIED:20260317T194616Z
UID:10004633-1761829200-1761836400@dnwml.org
SUMMARY:Studio Be: Guided Sessions (in person)
DESCRIPTION:Studio Be: Guided Sessions (in person)\nMake art (and friends!) and learn about artists and new techniques in a relaxed social environment. Rotating through different media\, we explore materials and processes in a guided manner. No previous experience is necessary. Materials provided. \nTo receive weekly Art Programming email updates\, contact Claire! \n\nDownload and print the flyer: Art Program Brochure
URL:https://dnwml.org/event/in-person-art-class-guided-sessions-4-2-2-2-2-2-2/2025-10-30/
LOCATION:Washtenaw/Ann Arbor DNWML\, 3941 Research Park Dr\, Ann Arbor\, 48108\, United States
CATEGORIES:Art,Arts & Recreation
ORGANIZER;CN="Claire Moore":MAILTO:claire@dnwml.org
END:VEVENT
BEGIN:VEVENT
DTSTART;TZID=America/Detroit:20251029T100000
DTEND;TZID=America/Detroit:20251029T120000
DTSTAMP:20260424T101417
CREATED:20250521T151625Z
LAST-MODIFIED:20260317T194545Z
UID:10004616-1761732000-1761739200@dnwml.org
SUMMARY:Studio Be: Open Studio (in person)
DESCRIPTION:Studio Be: Open Studio (in person)\nMake art and learn about artists and new techniques in a relaxed social environment. Drop-in\, open studio style. Try a new material and experiment in the studio alongside your friends. \nTo receive weekly Art Programming email updates\, contact Claire! \nDownload and print the flyer: Art Program Brochure
URL:https://dnwml.org/event/studio-be-open-studio-in-person/2025-10-29/
LOCATION:Washtenaw/Ann Arbor DNWML\, 3941 Research Park Dr\, Ann Arbor\, 48108\, United States
CATEGORIES:Art,Arts & Recreation
ORGANIZER;CN="Claire Moore":MAILTO:claire@dnwml.org
END:VEVENT
BEGIN:VEVENT
DTSTART;TZID=America/Detroit:20251027T110000
DTEND;TZID=America/Detroit:20251027T120000
DTSTAMP:20260424T101417
CREATED:20250730T142947Z
LAST-MODIFIED:20260317T194514Z
UID:10004648-1761562800-1761566400@dnwml.org
SUMMARY:Studio Be: Virtual
DESCRIPTION:Studio Be: Virtual\n\nThe Zoom version of our popular Art Class. Just as social\, fun\, and creative as the in-person option! Open studio style: share what you’re working on\, get feedback\, or just chat all things art (and beyond!) \nZoom link given upon contacting Claire. \nTo receive weekly Art Programming email updates\, contact Claire! \nDownload the program flyer here: Art Program Brochure
URL:https://dnwml.org/event/virtual-art-class-2-2/2025-10-27/
LOCATION:Zoom\, Virtual
CATEGORIES:Art,Arts & Recreation
ORGANIZER;CN="Claire Moore":MAILTO:claire@dnwml.org
END:VEVENT
END:VCALENDAR