BEGIN:VCALENDAR
VERSION:2.0
PRODID:-//Disability Network Washtenaw Monroe Livingston - ECPv6.15.20//NONSGML v1.0//EN
CALSCALE:GREGORIAN
METHOD:PUBLISH
X-WR-CALNAME:Disability Network Washtenaw Monroe Livingston
X-ORIGINAL-URL:https://dnwml.org
X-WR-CALDESC:Events for Disability Network Washtenaw Monroe Livingston
REFRESH-INTERVAL;VALUE=DURATION:PT1H
X-Robots-Tag:noindex
X-PUBLISHED-TTL:PT1H
BEGIN:VTIMEZONE
TZID:America/Detroit
BEGIN:DAYLIGHT
TZOFFSETFROM:-0500
TZOFFSETTO:-0400
TZNAME:EDT
DTSTART:20220313T070000
END:DAYLIGHT
BEGIN:STANDARD
TZOFFSETFROM:-0400
TZOFFSETTO:-0500
TZNAME:EST
DTSTART:20221106T060000
END:STANDARD
BEGIN:DAYLIGHT
TZOFFSETFROM:-0500
TZOFFSETTO:-0400
TZNAME:EDT
DTSTART:20230312T070000
END:DAYLIGHT
BEGIN:STANDARD
TZOFFSETFROM:-0400
TZOFFSETTO:-0500
TZNAME:EST
DTSTART:20231105T060000
END:STANDARD
BEGIN:DAYLIGHT
TZOFFSETFROM:-0500
TZOFFSETTO:-0400
TZNAME:EDT
DTSTART:20240310T070000
END:DAYLIGHT
BEGIN:STANDARD
TZOFFSETFROM:-0400
TZOFFSETTO:-0500
TZNAME:EST
DTSTART:20241103T060000
END:STANDARD
END:VTIMEZONE
BEGIN:VEVENT
DTSTART;TZID=America/Detroit:20230731T080000
DTEND;TZID=America/Detroit:20230803T150000
DTSTAMP:20260423T184552
CREATED:20230503T192308Z
LAST-MODIFIED:20230503T192308Z
UID:10000828-1690790400-1691074800@dnwml.org
SUMMARY:Camp New Horizons: Youth Art Week
DESCRIPTION:Disability Network is happy to announce Camp New Horizons\, a day camp for youth with disabilities. Camp New Horizons will take place over two weeks this summer where youth can engage with one another\, learn new skills\, and broaden their horizons. Youth with disabilities ages 16-26. \nSports Week: June 19 -June 22\nCamp Horizon’s sports week is brought to you in partnership with U of M Adaptive Sports. Each day campers will get to engage in a different accessible sport including sitting volleyball\, basketball\, personal fitness\, and culminating in a group bicycle outing at Gallup Park. \nArt Week: July 31 – August 3\nCampers will experiment with new materials\, learn about process-driven techniques\, and collaborate on a mural at our Ann Arbor office\, in the community garden. \nREGISTER BELOW.
URL:https://dnwml.org/event/camp-new-horizons-youth-art-week/
LOCATION:Washtenaw/Ann Arbor DNWML\, 3941 Research Park Dr\, Ann Arbor\, 48108\, United States
CATEGORIES:Art,Arts & Recreation,Youth Services
ORGANIZER;CN="Eric Evans":MAILTO:eric@dnwml.org
END:VEVENT
BEGIN:VEVENT
DTSTART;TZID=America/Detroit:20230619T080000
DTEND;TZID=America/Detroit:20230622T150000
DTSTAMP:20260423T184552
CREATED:20230503T192134Z
LAST-MODIFIED:20230503T192205Z
UID:10000827-1687161600-1687446000@dnwml.org
SUMMARY:Camp New Horizons: Youth Sports Week
DESCRIPTION:Disability Network is happy to announce Camp New Horizons\, a day camp for youth with disabilities. Camp New Horizons will take place over two weeks this summer where youth can engage with one another\, learn new skills\, and broaden their horizons. Youth with disabilities ages 16-26. \nSports Week: June 19 -June 22\nCamp Horizon’s sports week is brought to you in partnership with U of M Adaptive Sports. Each day campers will get to engage in a different accessible sport including sitting volleyball\, basketball\, personal fitness\, and culminating in a group bicycle outing at Gallup Park. \nArt Week: July 31 – August 3\nCampers will experiment with new materials\, learn about process-driven techniques\, and collaborate on a mural at our Ann Arbor office\, in the community garden. \nREGISTER BELOW.
URL:https://dnwml.org/event/camp-new-horizons-youth-sports-week/
LOCATION:Washtenaw/Ann Arbor DNWML\, 3941 Research Park Dr\, Ann Arbor\, 48108\, United States
CATEGORIES:Arts & Recreation,Fitness,Youth Services
ORGANIZER;CN="Eric Evans":MAILTO:eric@dnwml.org
END:VEVENT
BEGIN:VEVENT
DTSTART;VALUE=DATE:20230503
DTEND;VALUE=DATE:20230610
DTSTAMP:20260423T184552
CREATED:20230503T192506Z
LAST-MODIFIED:20230503T200610Z
UID:10000829-1683072000-1686355199@dnwml.org
SUMMARY:Camp New Horizons: Registration OPEN
DESCRIPTION:Disability Network is happy to announce Camp New Horizons\, a day camp for youth with disabilities. Camp New Horizons will take place over two weeks this summer where youth can engage with one another\, learn new skills\, and broaden their horizons. Youth with disabilities ages 16-26. \nSports Week: June 19 -June 22\nCamp Horizon’s sports week is brought to you in partnership with U of M Adaptive Sports. Each day campers will get to engage in a different accessible sport including sitting volleyball\, basketball\, personal fitness\, and culminating in a group bicycle outing at Gallup Park.\nREGISTER HERE. \nArt Week: July 31 – August 3\nCampers will experiment with new materials\, learn about process-driven techniques\, and collaborate on a mural at our Ann Arbor office\, in the community garden.\nREGISTER HERE. \nREGISTRATION IS OPEN.
URL:https://dnwml.org/event/camp-new-horizons-registration-open/
LOCATION:Washtenaw/Ann Arbor DNWML\, 3941 Research Park Dr\, Ann Arbor\, 48108\, United States
CATEGORIES:Art,Arts & Recreation,Fitness,Youth Services
ORGANIZER;CN="Eric Evans":MAILTO:eric@dnwml.org
END:VEVENT
END:VCALENDAR